BEGIN:VCALENDAR
VERSION:2.0
PRODID:-//U3A Costa Brava - ECPv6.15.14//NONSGML v1.0//EN
CALSCALE:GREGORIAN
METHOD:PUBLISH
X-WR-CALNAME:U3A Costa Brava
X-ORIGINAL-URL:https://dev.u3acostabrava.org
X-WR-CALDESC:Events for U3A Costa Brava
REFRESH-INTERVAL;VALUE=DURATION:PT1H
X-Robots-Tag:noindex
X-PUBLISHED-TTL:PT1H
BEGIN:VTIMEZONE
TZID:Europe/Madrid
BEGIN:DAYLIGHT
TZOFFSETFROM:+0100
TZOFFSETTO:+0200
TZNAME:CEST
DTSTART:20250330T010000
END:DAYLIGHT
BEGIN:STANDARD
TZOFFSETFROM:+0200
TZOFFSETTO:+0100
TZNAME:CET
DTSTART:20251026T010000
END:STANDARD
BEGIN:DAYLIGHT
TZOFFSETFROM:+0100
TZOFFSETTO:+0200
TZNAME:CEST
DTSTART:20260329T010000
END:DAYLIGHT
BEGIN:STANDARD
TZOFFSETFROM:+0200
TZOFFSETTO:+0100
TZNAME:CET
DTSTART:20261025T010000
END:STANDARD
BEGIN:DAYLIGHT
TZOFFSETFROM:+0100
TZOFFSETTO:+0200
TZNAME:CEST
DTSTART:20270328T010000
END:DAYLIGHT
BEGIN:STANDARD
TZOFFSETFROM:+0200
TZOFFSETTO:+0100
TZNAME:CET
DTSTART:20271031T010000
END:STANDARD
END:VTIMEZONE
BEGIN:VEVENT
DTSTART;TZID=Europe/Madrid:20261006T154500
DTEND;TZID=Europe/Madrid:20261006T170000
DTSTAMP:20260419T213626
CREATED:20250825T175428Z
LAST-MODIFIED:20250906T191432Z
UID:10008142-1791301500-1791306000@dev.u3acostabrava.org
SUMMARY:Walking Football Weekly Game
DESCRIPTION:Walking Football Returns for the Autumen \n  \nThe weekly walking football session is – Tuesday 4.o0 pm until 5.o0pm . You can arrive from 3.50 pm for a 10 minute warm up before Kick Off and there will be a 10 minute cool down followed by a non compulsory rehydration drink at The Bistro. Please bring your own water bottle for the drinks break. \nVenue – Outdoor Atro Turf Football Pitch\, Camp Municipal D’Esports Sant Antoni de Calonge\, Carrer de la Sardana\, s/n 17252 Sant Antoni de Calonge \, there is a large open air free car park next to the pitch \nhttp://esports.calonge.cat/instalacions/ \nWalking Football is open to all ages\, abilities and genders and is a non-contact sport . The venue @ Sant Antoni de Calonge is an outdoor astro 4G pitch and generally we have enough people for at least 5 side ( although much smaller sided games are possible) .  The pitch size is adjusted to suit the amount of players . Players need a suitable training shoe with grip or a astro football boot but shin pads are not necessary and please bring a water bottle.  Any training shoe can be used or Football boots  molded with studs or blades can be used . We play one game with a halftime drinks break between and a 10 minute warm up to start and 10 minutes to cool down. \n Guests are more than welcome even if you have never kicked a football before it’s a very easy and highly enjoyable introduction to The Wonderful Game . \nSee you Tuesday \nGail and Julian
URL:https://dev.u3acostabrava.org/event/walking-football-weekly-game/2026-10-06/
LOCATION:Sal Polivalent Municipal San Antoni de Calonge\, Camp Municipal D'Esports Sant Antoni de Calonge\, Carrer de la Sardana\,\, Sant Antoni de Calonge\, 17252
CATEGORIES:Sport,Walking Football
ATTACH;FMTTYPE=image/jpeg:https://dev.u3acostabrava.org/wp-content/uploads/2024/10/Football-e-photo.jpg
ORGANIZER;CN="Julian Hickman":MAILTO:julianaghickman@gmail.com
END:VEVENT
BEGIN:VEVENT
DTSTART;TZID=Europe/Madrid:20261013T154500
DTEND;TZID=Europe/Madrid:20261013T170000
DTSTAMP:20260419T213626
CREATED:20250825T175428Z
LAST-MODIFIED:20250906T191432Z
UID:10008143-1791906300-1791910800@dev.u3acostabrava.org
SUMMARY:Walking Football Weekly Game
DESCRIPTION:Walking Football Returns for the Autumen \n  \nThe weekly walking football session is – Tuesday 4.o0 pm until 5.o0pm . You can arrive from 3.50 pm for a 10 minute warm up before Kick Off and there will be a 10 minute cool down followed by a non compulsory rehydration drink at The Bistro. Please bring your own water bottle for the drinks break. \nVenue – Outdoor Atro Turf Football Pitch\, Camp Municipal D’Esports Sant Antoni de Calonge\, Carrer de la Sardana\, s/n 17252 Sant Antoni de Calonge \, there is a large open air free car park next to the pitch \nhttp://esports.calonge.cat/instalacions/ \nWalking Football is open to all ages\, abilities and genders and is a non-contact sport . The venue @ Sant Antoni de Calonge is an outdoor astro 4G pitch and generally we have enough people for at least 5 side ( although much smaller sided games are possible) .  The pitch size is adjusted to suit the amount of players . Players need a suitable training shoe with grip or a astro football boot but shin pads are not necessary and please bring a water bottle.  Any training shoe can be used or Football boots  molded with studs or blades can be used . We play one game with a halftime drinks break between and a 10 minute warm up to start and 10 minutes to cool down. \n Guests are more than welcome even if you have never kicked a football before it’s a very easy and highly enjoyable introduction to The Wonderful Game . \nSee you Tuesday \nGail and Julian
URL:https://dev.u3acostabrava.org/event/walking-football-weekly-game/2026-10-13/
LOCATION:Sal Polivalent Municipal San Antoni de Calonge\, Camp Municipal D'Esports Sant Antoni de Calonge\, Carrer de la Sardana\,\, Sant Antoni de Calonge\, 17252
CATEGORIES:Sport,Walking Football
ATTACH;FMTTYPE=image/jpeg:https://dev.u3acostabrava.org/wp-content/uploads/2024/10/Football-e-photo.jpg
ORGANIZER;CN="Julian Hickman":MAILTO:julianaghickman@gmail.com
END:VEVENT
BEGIN:VEVENT
DTSTART;TZID=Europe/Madrid:20261020T154500
DTEND;TZID=Europe/Madrid:20261020T170000
DTSTAMP:20260419T213626
CREATED:20250825T175428Z
LAST-MODIFIED:20250906T191432Z
UID:10008144-1792511100-1792515600@dev.u3acostabrava.org
SUMMARY:Walking Football Weekly Game
DESCRIPTION:Walking Football Returns for the Autumen \n  \nThe weekly walking football session is – Tuesday 4.o0 pm until 5.o0pm . You can arrive from 3.50 pm for a 10 minute warm up before Kick Off and there will be a 10 minute cool down followed by a non compulsory rehydration drink at The Bistro. Please bring your own water bottle for the drinks break. \nVenue – Outdoor Atro Turf Football Pitch\, Camp Municipal D’Esports Sant Antoni de Calonge\, Carrer de la Sardana\, s/n 17252 Sant Antoni de Calonge \, there is a large open air free car park next to the pitch \nhttp://esports.calonge.cat/instalacions/ \nWalking Football is open to all ages\, abilities and genders and is a non-contact sport . The venue @ Sant Antoni de Calonge is an outdoor astro 4G pitch and generally we have enough people for at least 5 side ( although much smaller sided games are possible) .  The pitch size is adjusted to suit the amount of players . Players need a suitable training shoe with grip or a astro football boot but shin pads are not necessary and please bring a water bottle.  Any training shoe can be used or Football boots  molded with studs or blades can be used . We play one game with a halftime drinks break between and a 10 minute warm up to start and 10 minutes to cool down. \n Guests are more than welcome even if you have never kicked a football before it’s a very easy and highly enjoyable introduction to The Wonderful Game . \nSee you Tuesday \nGail and Julian
URL:https://dev.u3acostabrava.org/event/walking-football-weekly-game/2026-10-20/
LOCATION:Sal Polivalent Municipal San Antoni de Calonge\, Camp Municipal D'Esports Sant Antoni de Calonge\, Carrer de la Sardana\,\, Sant Antoni de Calonge\, 17252
CATEGORIES:Sport,Walking Football
ATTACH;FMTTYPE=image/jpeg:https://dev.u3acostabrava.org/wp-content/uploads/2024/10/Football-e-photo.jpg
ORGANIZER;CN="Julian Hickman":MAILTO:julianaghickman@gmail.com
END:VEVENT
BEGIN:VEVENT
DTSTART;TZID=Europe/Madrid:20261027T154500
DTEND;TZID=Europe/Madrid:20261027T170000
DTSTAMP:20260419T213626
CREATED:20250825T175428Z
LAST-MODIFIED:20250906T191432Z
UID:10008145-1793115900-1793120400@dev.u3acostabrava.org
SUMMARY:Walking Football Weekly Game
DESCRIPTION:Walking Football Returns for the Autumen \n  \nThe weekly walking football session is – Tuesday 4.o0 pm until 5.o0pm . You can arrive from 3.50 pm for a 10 minute warm up before Kick Off and there will be a 10 minute cool down followed by a non compulsory rehydration drink at The Bistro. Please bring your own water bottle for the drinks break. \nVenue – Outdoor Atro Turf Football Pitch\, Camp Municipal D’Esports Sant Antoni de Calonge\, Carrer de la Sardana\, s/n 17252 Sant Antoni de Calonge \, there is a large open air free car park next to the pitch \nhttp://esports.calonge.cat/instalacions/ \nWalking Football is open to all ages\, abilities and genders and is a non-contact sport . The venue @ Sant Antoni de Calonge is an outdoor astro 4G pitch and generally we have enough people for at least 5 side ( although much smaller sided games are possible) .  The pitch size is adjusted to suit the amount of players . Players need a suitable training shoe with grip or a astro football boot but shin pads are not necessary and please bring a water bottle.  Any training shoe can be used or Football boots  molded with studs or blades can be used . We play one game with a halftime drinks break between and a 10 minute warm up to start and 10 minutes to cool down. \n Guests are more than welcome even if you have never kicked a football before it’s a very easy and highly enjoyable introduction to The Wonderful Game . \nSee you Tuesday \nGail and Julian
URL:https://dev.u3acostabrava.org/event/walking-football-weekly-game/2026-10-27/
LOCATION:Sal Polivalent Municipal San Antoni de Calonge\, Camp Municipal D'Esports Sant Antoni de Calonge\, Carrer de la Sardana\,\, Sant Antoni de Calonge\, 17252
CATEGORIES:Sport,Walking Football
ATTACH;FMTTYPE=image/jpeg:https://dev.u3acostabrava.org/wp-content/uploads/2024/10/Football-e-photo.jpg
ORGANIZER;CN="Julian Hickman":MAILTO:julianaghickman@gmail.com
END:VEVENT
BEGIN:VEVENT
DTSTART;TZID=Europe/Madrid:20261103T154500
DTEND;TZID=Europe/Madrid:20261103T170000
DTSTAMP:20260419T213626
CREATED:20250825T175428Z
LAST-MODIFIED:20250906T191432Z
UID:10008146-1793720700-1793725200@dev.u3acostabrava.org
SUMMARY:Walking Football Weekly Game
DESCRIPTION:Walking Football Returns for the Autumen \n  \nThe weekly walking football session is – Tuesday 4.o0 pm until 5.o0pm . You can arrive from 3.50 pm for a 10 minute warm up before Kick Off and there will be a 10 minute cool down followed by a non compulsory rehydration drink at The Bistro. Please bring your own water bottle for the drinks break. \nVenue – Outdoor Atro Turf Football Pitch\, Camp Municipal D’Esports Sant Antoni de Calonge\, Carrer de la Sardana\, s/n 17252 Sant Antoni de Calonge \, there is a large open air free car park next to the pitch \nhttp://esports.calonge.cat/instalacions/ \nWalking Football is open to all ages\, abilities and genders and is a non-contact sport . The venue @ Sant Antoni de Calonge is an outdoor astro 4G pitch and generally we have enough people for at least 5 side ( although much smaller sided games are possible) .  The pitch size is adjusted to suit the amount of players . Players need a suitable training shoe with grip or a astro football boot but shin pads are not necessary and please bring a water bottle.  Any training shoe can be used or Football boots  molded with studs or blades can be used . We play one game with a halftime drinks break between and a 10 minute warm up to start and 10 minutes to cool down. \n Guests are more than welcome even if you have never kicked a football before it’s a very easy and highly enjoyable introduction to The Wonderful Game . \nSee you Tuesday \nGail and Julian
URL:https://dev.u3acostabrava.org/event/walking-football-weekly-game/2026-11-03/
LOCATION:Sal Polivalent Municipal San Antoni de Calonge\, Camp Municipal D'Esports Sant Antoni de Calonge\, Carrer de la Sardana\,\, Sant Antoni de Calonge\, 17252
CATEGORIES:Sport,Walking Football
ATTACH;FMTTYPE=image/jpeg:https://dev.u3acostabrava.org/wp-content/uploads/2024/10/Football-e-photo.jpg
ORGANIZER;CN="Julian Hickman":MAILTO:julianaghickman@gmail.com
END:VEVENT
BEGIN:VEVENT
DTSTART;TZID=Europe/Madrid:20261110T154500
DTEND;TZID=Europe/Madrid:20261110T170000
DTSTAMP:20260419T213626
CREATED:20250825T175428Z
LAST-MODIFIED:20250906T191432Z
UID:10008147-1794325500-1794330000@dev.u3acostabrava.org
SUMMARY:Walking Football Weekly Game
DESCRIPTION:Walking Football Returns for the Autumen \n  \nThe weekly walking football session is – Tuesday 4.o0 pm until 5.o0pm . You can arrive from 3.50 pm for a 10 minute warm up before Kick Off and there will be a 10 minute cool down followed by a non compulsory rehydration drink at The Bistro. Please bring your own water bottle for the drinks break. \nVenue – Outdoor Atro Turf Football Pitch\, Camp Municipal D’Esports Sant Antoni de Calonge\, Carrer de la Sardana\, s/n 17252 Sant Antoni de Calonge \, there is a large open air free car park next to the pitch \nhttp://esports.calonge.cat/instalacions/ \nWalking Football is open to all ages\, abilities and genders and is a non-contact sport . The venue @ Sant Antoni de Calonge is an outdoor astro 4G pitch and generally we have enough people for at least 5 side ( although much smaller sided games are possible) .  The pitch size is adjusted to suit the amount of players . Players need a suitable training shoe with grip or a astro football boot but shin pads are not necessary and please bring a water bottle.  Any training shoe can be used or Football boots  molded with studs or blades can be used . We play one game with a halftime drinks break between and a 10 minute warm up to start and 10 minutes to cool down. \n Guests are more than welcome even if you have never kicked a football before it’s a very easy and highly enjoyable introduction to The Wonderful Game . \nSee you Tuesday \nGail and Julian
URL:https://dev.u3acostabrava.org/event/walking-football-weekly-game/2026-11-10/
LOCATION:Sal Polivalent Municipal San Antoni de Calonge\, Camp Municipal D'Esports Sant Antoni de Calonge\, Carrer de la Sardana\,\, Sant Antoni de Calonge\, 17252
CATEGORIES:Sport,Walking Football
ATTACH;FMTTYPE=image/jpeg:https://dev.u3acostabrava.org/wp-content/uploads/2024/10/Football-e-photo.jpg
ORGANIZER;CN="Julian Hickman":MAILTO:julianaghickman@gmail.com
END:VEVENT
BEGIN:VEVENT
DTSTART;TZID=Europe/Madrid:20261117T154500
DTEND;TZID=Europe/Madrid:20261117T170000
DTSTAMP:20260419T213626
CREATED:20250825T175428Z
LAST-MODIFIED:20250906T191432Z
UID:10008148-1794930300-1794934800@dev.u3acostabrava.org
SUMMARY:Walking Football Weekly Game
DESCRIPTION:Walking Football Returns for the Autumen \n  \nThe weekly walking football session is – Tuesday 4.o0 pm until 5.o0pm . You can arrive from 3.50 pm for a 10 minute warm up before Kick Off and there will be a 10 minute cool down followed by a non compulsory rehydration drink at The Bistro. Please bring your own water bottle for the drinks break. \nVenue – Outdoor Atro Turf Football Pitch\, Camp Municipal D’Esports Sant Antoni de Calonge\, Carrer de la Sardana\, s/n 17252 Sant Antoni de Calonge \, there is a large open air free car park next to the pitch \nhttp://esports.calonge.cat/instalacions/ \nWalking Football is open to all ages\, abilities and genders and is a non-contact sport . The venue @ Sant Antoni de Calonge is an outdoor astro 4G pitch and generally we have enough people for at least 5 side ( although much smaller sided games are possible) .  The pitch size is adjusted to suit the amount of players . Players need a suitable training shoe with grip or a astro football boot but shin pads are not necessary and please bring a water bottle.  Any training shoe can be used or Football boots  molded with studs or blades can be used . We play one game with a halftime drinks break between and a 10 minute warm up to start and 10 minutes to cool down. \n Guests are more than welcome even if you have never kicked a football before it’s a very easy and highly enjoyable introduction to The Wonderful Game . \nSee you Tuesday \nGail and Julian
URL:https://dev.u3acostabrava.org/event/walking-football-weekly-game/2026-11-17/
LOCATION:Sal Polivalent Municipal San Antoni de Calonge\, Camp Municipal D'Esports Sant Antoni de Calonge\, Carrer de la Sardana\,\, Sant Antoni de Calonge\, 17252
CATEGORIES:Sport,Walking Football
ATTACH;FMTTYPE=image/jpeg:https://dev.u3acostabrava.org/wp-content/uploads/2024/10/Football-e-photo.jpg
ORGANIZER;CN="Julian Hickman":MAILTO:julianaghickman@gmail.com
END:VEVENT
BEGIN:VEVENT
DTSTART;TZID=Europe/Madrid:20261124T154500
DTEND;TZID=Europe/Madrid:20261124T170000
DTSTAMP:20260419T213626
CREATED:20250825T175428Z
LAST-MODIFIED:20250906T191432Z
UID:10008149-1795535100-1795539600@dev.u3acostabrava.org
SUMMARY:Walking Football Weekly Game
DESCRIPTION:Walking Football Returns for the Autumen \n  \nThe weekly walking football session is – Tuesday 4.o0 pm until 5.o0pm . You can arrive from 3.50 pm for a 10 minute warm up before Kick Off and there will be a 10 minute cool down followed by a non compulsory rehydration drink at The Bistro. Please bring your own water bottle for the drinks break. \nVenue – Outdoor Atro Turf Football Pitch\, Camp Municipal D’Esports Sant Antoni de Calonge\, Carrer de la Sardana\, s/n 17252 Sant Antoni de Calonge \, there is a large open air free car park next to the pitch \nhttp://esports.calonge.cat/instalacions/ \nWalking Football is open to all ages\, abilities and genders and is a non-contact sport . The venue @ Sant Antoni de Calonge is an outdoor astro 4G pitch and generally we have enough people for at least 5 side ( although much smaller sided games are possible) .  The pitch size is adjusted to suit the amount of players . Players need a suitable training shoe with grip or a astro football boot but shin pads are not necessary and please bring a water bottle.  Any training shoe can be used or Football boots  molded with studs or blades can be used . We play one game with a halftime drinks break between and a 10 minute warm up to start and 10 minutes to cool down. \n Guests are more than welcome even if you have never kicked a football before it’s a very easy and highly enjoyable introduction to The Wonderful Game . \nSee you Tuesday \nGail and Julian
URL:https://dev.u3acostabrava.org/event/walking-football-weekly-game/2026-11-24/
LOCATION:Sal Polivalent Municipal San Antoni de Calonge\, Camp Municipal D'Esports Sant Antoni de Calonge\, Carrer de la Sardana\,\, Sant Antoni de Calonge\, 17252
CATEGORIES:Sport,Walking Football
ATTACH;FMTTYPE=image/jpeg:https://dev.u3acostabrava.org/wp-content/uploads/2024/10/Football-e-photo.jpg
ORGANIZER;CN="Julian Hickman":MAILTO:julianaghickman@gmail.com
END:VEVENT
BEGIN:VEVENT
DTSTART;TZID=Europe/Madrid:20261201T154500
DTEND;TZID=Europe/Madrid:20261201T170000
DTSTAMP:20260419T213626
CREATED:20250825T175428Z
LAST-MODIFIED:20250906T191432Z
UID:10008150-1796139900-1796144400@dev.u3acostabrava.org
SUMMARY:Walking Football Weekly Game
DESCRIPTION:Walking Football Returns for the Autumen \n  \nThe weekly walking football session is – Tuesday 4.o0 pm until 5.o0pm . You can arrive from 3.50 pm for a 10 minute warm up before Kick Off and there will be a 10 minute cool down followed by a non compulsory rehydration drink at The Bistro. Please bring your own water bottle for the drinks break. \nVenue – Outdoor Atro Turf Football Pitch\, Camp Municipal D’Esports Sant Antoni de Calonge\, Carrer de la Sardana\, s/n 17252 Sant Antoni de Calonge \, there is a large open air free car park next to the pitch \nhttp://esports.calonge.cat/instalacions/ \nWalking Football is open to all ages\, abilities and genders and is a non-contact sport . The venue @ Sant Antoni de Calonge is an outdoor astro 4G pitch and generally we have enough people for at least 5 side ( although much smaller sided games are possible) .  The pitch size is adjusted to suit the amount of players . Players need a suitable training shoe with grip or a astro football boot but shin pads are not necessary and please bring a water bottle.  Any training shoe can be used or Football boots  molded with studs or blades can be used . We play one game with a halftime drinks break between and a 10 minute warm up to start and 10 minutes to cool down. \n Guests are more than welcome even if you have never kicked a football before it’s a very easy and highly enjoyable introduction to The Wonderful Game . \nSee you Tuesday \nGail and Julian
URL:https://dev.u3acostabrava.org/event/walking-football-weekly-game/2026-12-01/
LOCATION:Sal Polivalent Municipal San Antoni de Calonge\, Camp Municipal D'Esports Sant Antoni de Calonge\, Carrer de la Sardana\,\, Sant Antoni de Calonge\, 17252
CATEGORIES:Sport,Walking Football
ATTACH;FMTTYPE=image/jpeg:https://dev.u3acostabrava.org/wp-content/uploads/2024/10/Football-e-photo.jpg
ORGANIZER;CN="Julian Hickman":MAILTO:julianaghickman@gmail.com
END:VEVENT
BEGIN:VEVENT
DTSTART;TZID=Europe/Madrid:20261208T154500
DTEND;TZID=Europe/Madrid:20261208T170000
DTSTAMP:20260419T213626
CREATED:20250825T175428Z
LAST-MODIFIED:20250906T191432Z
UID:10008151-1796744700-1796749200@dev.u3acostabrava.org
SUMMARY:Walking Football Weekly Game
DESCRIPTION:Walking Football Returns for the Autumen \n  \nThe weekly walking football session is – Tuesday 4.o0 pm until 5.o0pm . You can arrive from 3.50 pm for a 10 minute warm up before Kick Off and there will be a 10 minute cool down followed by a non compulsory rehydration drink at The Bistro. Please bring your own water bottle for the drinks break. \nVenue – Outdoor Atro Turf Football Pitch\, Camp Municipal D’Esports Sant Antoni de Calonge\, Carrer de la Sardana\, s/n 17252 Sant Antoni de Calonge \, there is a large open air free car park next to the pitch \nhttp://esports.calonge.cat/instalacions/ \nWalking Football is open to all ages\, abilities and genders and is a non-contact sport . The venue @ Sant Antoni de Calonge is an outdoor astro 4G pitch and generally we have enough people for at least 5 side ( although much smaller sided games are possible) .  The pitch size is adjusted to suit the amount of players . Players need a suitable training shoe with grip or a astro football boot but shin pads are not necessary and please bring a water bottle.  Any training shoe can be used or Football boots  molded with studs or blades can be used . We play one game with a halftime drinks break between and a 10 minute warm up to start and 10 minutes to cool down. \n Guests are more than welcome even if you have never kicked a football before it’s a very easy and highly enjoyable introduction to The Wonderful Game . \nSee you Tuesday \nGail and Julian
URL:https://dev.u3acostabrava.org/event/walking-football-weekly-game/2026-12-08/
LOCATION:Sal Polivalent Municipal San Antoni de Calonge\, Camp Municipal D'Esports Sant Antoni de Calonge\, Carrer de la Sardana\,\, Sant Antoni de Calonge\, 17252
CATEGORIES:Sport,Walking Football
ATTACH;FMTTYPE=image/jpeg:https://dev.u3acostabrava.org/wp-content/uploads/2024/10/Football-e-photo.jpg
ORGANIZER;CN="Julian Hickman":MAILTO:julianaghickman@gmail.com
END:VEVENT
BEGIN:VEVENT
DTSTART;TZID=Europe/Madrid:20261215T154500
DTEND;TZID=Europe/Madrid:20261215T170000
DTSTAMP:20260419T213626
CREATED:20250825T175428Z
LAST-MODIFIED:20250906T191432Z
UID:10008152-1797349500-1797354000@dev.u3acostabrava.org
SUMMARY:Walking Football Weekly Game
DESCRIPTION:Walking Football Returns for the Autumen \n  \nThe weekly walking football session is – Tuesday 4.o0 pm until 5.o0pm . You can arrive from 3.50 pm for a 10 minute warm up before Kick Off and there will be a 10 minute cool down followed by a non compulsory rehydration drink at The Bistro. Please bring your own water bottle for the drinks break. \nVenue – Outdoor Atro Turf Football Pitch\, Camp Municipal D’Esports Sant Antoni de Calonge\, Carrer de la Sardana\, s/n 17252 Sant Antoni de Calonge \, there is a large open air free car park next to the pitch \nhttp://esports.calonge.cat/instalacions/ \nWalking Football is open to all ages\, abilities and genders and is a non-contact sport . The venue @ Sant Antoni de Calonge is an outdoor astro 4G pitch and generally we have enough people for at least 5 side ( although much smaller sided games are possible) .  The pitch size is adjusted to suit the amount of players . Players need a suitable training shoe with grip or a astro football boot but shin pads are not necessary and please bring a water bottle.  Any training shoe can be used or Football boots  molded with studs or blades can be used . We play one game with a halftime drinks break between and a 10 minute warm up to start and 10 minutes to cool down. \n Guests are more than welcome even if you have never kicked a football before it’s a very easy and highly enjoyable introduction to The Wonderful Game . \nSee you Tuesday \nGail and Julian
URL:https://dev.u3acostabrava.org/event/walking-football-weekly-game/2026-12-15/
LOCATION:Sal Polivalent Municipal San Antoni de Calonge\, Camp Municipal D'Esports Sant Antoni de Calonge\, Carrer de la Sardana\,\, Sant Antoni de Calonge\, 17252
CATEGORIES:Sport,Walking Football
ATTACH;FMTTYPE=image/jpeg:https://dev.u3acostabrava.org/wp-content/uploads/2024/10/Football-e-photo.jpg
ORGANIZER;CN="Julian Hickman":MAILTO:julianaghickman@gmail.com
END:VEVENT
END:VCALENDAR