BEGIN:VCALENDAR
VERSION:2.0
PRODID:-//U3A Costa Brava - ECPv6.15.14//NONSGML v1.0//EN
CALSCALE:GREGORIAN
METHOD:PUBLISH
X-WR-CALNAME:U3A Costa Brava
X-ORIGINAL-URL:https://dev.u3acostabrava.org
X-WR-CALDESC:Events for U3A Costa Brava
REFRESH-INTERVAL;VALUE=DURATION:PT1H
X-Robots-Tag:noindex
X-PUBLISHED-TTL:PT1H
BEGIN:VTIMEZONE
TZID:Europe/Madrid
BEGIN:DAYLIGHT
TZOFFSETFROM:+0100
TZOFFSETTO:+0200
TZNAME:CEST
DTSTART:20260329T010000
END:DAYLIGHT
BEGIN:STANDARD
TZOFFSETFROM:+0200
TZOFFSETTO:+0100
TZNAME:CET
DTSTART:20261025T010000
END:STANDARD
BEGIN:DAYLIGHT
TZOFFSETFROM:+0100
TZOFFSETTO:+0200
TZNAME:CEST
DTSTART:20270328T010000
END:DAYLIGHT
BEGIN:STANDARD
TZOFFSETFROM:+0200
TZOFFSETTO:+0100
TZNAME:CET
DTSTART:20271031T010000
END:STANDARD
BEGIN:DAYLIGHT
TZOFFSETFROM:+0100
TZOFFSETTO:+0200
TZNAME:CEST
DTSTART:20280326T010000
END:DAYLIGHT
BEGIN:STANDARD
TZOFFSETFROM:+0200
TZOFFSETTO:+0100
TZNAME:CET
DTSTART:20281029T010000
END:STANDARD
BEGIN:DAYLIGHT
TZOFFSETFROM:+0100
TZOFFSETTO:+0200
TZNAME:CEST
DTSTART:20290325T010000
END:DAYLIGHT
BEGIN:STANDARD
TZOFFSETFROM:+0200
TZOFFSETTO:+0100
TZNAME:CET
DTSTART:20291028T010000
END:STANDARD
END:VTIMEZONE
BEGIN:VEVENT
DTSTART;TZID=Europe/Madrid:20270906T100000
DTEND;TZID=Europe/Madrid:20270906T111500
DTSTAMP:20260420T013204
CREATED:20250906T195742Z
LAST-MODIFIED:20250906T200056Z
UID:10007433-1820224800-1820229300@dev.u3acostabrava.org
SUMMARY:Tai Chi
DESCRIPTION:A weekly Monday class for all levels.  Beginners welcome.
URL:https://dev.u3acostabrava.org/event/tai-chi-2/2027-09-06/
LOCATION:Maitai Center in Palafrugell\, Carrer de Pi i Margall\, 101\, Palafrugell\, 17200
CATEGORIES:Sport,Tai Chi
ATTACH;FMTTYPE=image/jpeg:https://dev.u3acostabrava.org/wp-content/uploads/2024/09/Stick-tai.jpg
ORGANIZER;CN="Annette Hausman":MAILTO:annettehausman@gmail.com
END:VEVENT
BEGIN:VEVENT
DTSTART;TZID=Europe/Madrid:20270913T100000
DTEND;TZID=Europe/Madrid:20270913T111500
DTSTAMP:20260420T013204
CREATED:20250906T195742Z
LAST-MODIFIED:20250906T200056Z
UID:10007434-1820829600-1820834100@dev.u3acostabrava.org
SUMMARY:Tai Chi
DESCRIPTION:A weekly Monday class for all levels.  Beginners welcome.
URL:https://dev.u3acostabrava.org/event/tai-chi-2/2027-09-13/
LOCATION:Maitai Center in Palafrugell\, Carrer de Pi i Margall\, 101\, Palafrugell\, 17200
CATEGORIES:Sport,Tai Chi
ATTACH;FMTTYPE=image/jpeg:https://dev.u3acostabrava.org/wp-content/uploads/2024/09/Stick-tai.jpg
ORGANIZER;CN="Annette Hausman":MAILTO:annettehausman@gmail.com
END:VEVENT
BEGIN:VEVENT
DTSTART;TZID=Europe/Madrid:20270920T100000
DTEND;TZID=Europe/Madrid:20270920T111500
DTSTAMP:20260420T013204
CREATED:20250906T195742Z
LAST-MODIFIED:20250906T200056Z
UID:10007435-1821434400-1821438900@dev.u3acostabrava.org
SUMMARY:Tai Chi
DESCRIPTION:A weekly Monday class for all levels.  Beginners welcome.
URL:https://dev.u3acostabrava.org/event/tai-chi-2/2027-09-20/
LOCATION:Maitai Center in Palafrugell\, Carrer de Pi i Margall\, 101\, Palafrugell\, 17200
CATEGORIES:Sport,Tai Chi
ATTACH;FMTTYPE=image/jpeg:https://dev.u3acostabrava.org/wp-content/uploads/2024/09/Stick-tai.jpg
ORGANIZER;CN="Annette Hausman":MAILTO:annettehausman@gmail.com
END:VEVENT
BEGIN:VEVENT
DTSTART;TZID=Europe/Madrid:20270927T100000
DTEND;TZID=Europe/Madrid:20270927T111500
DTSTAMP:20260420T013204
CREATED:20250906T195742Z
LAST-MODIFIED:20250906T200056Z
UID:10007436-1822039200-1822043700@dev.u3acostabrava.org
SUMMARY:Tai Chi
DESCRIPTION:A weekly Monday class for all levels.  Beginners welcome.
URL:https://dev.u3acostabrava.org/event/tai-chi-2/2027-09-27/
LOCATION:Maitai Center in Palafrugell\, Carrer de Pi i Margall\, 101\, Palafrugell\, 17200
CATEGORIES:Sport,Tai Chi
ATTACH;FMTTYPE=image/jpeg:https://dev.u3acostabrava.org/wp-content/uploads/2024/09/Stick-tai.jpg
ORGANIZER;CN="Annette Hausman":MAILTO:annettehausman@gmail.com
END:VEVENT
BEGIN:VEVENT
DTSTART;TZID=Europe/Madrid:20271004T100000
DTEND;TZID=Europe/Madrid:20271004T111500
DTSTAMP:20260420T013204
CREATED:20250906T195742Z
LAST-MODIFIED:20250906T200056Z
UID:10007437-1822644000-1822648500@dev.u3acostabrava.org
SUMMARY:Tai Chi
DESCRIPTION:A weekly Monday class for all levels.  Beginners welcome.
URL:https://dev.u3acostabrava.org/event/tai-chi-2/2027-10-04/
LOCATION:Maitai Center in Palafrugell\, Carrer de Pi i Margall\, 101\, Palafrugell\, 17200
CATEGORIES:Sport,Tai Chi
ATTACH;FMTTYPE=image/jpeg:https://dev.u3acostabrava.org/wp-content/uploads/2024/09/Stick-tai.jpg
ORGANIZER;CN="Annette Hausman":MAILTO:annettehausman@gmail.com
END:VEVENT
BEGIN:VEVENT
DTSTART;TZID=Europe/Madrid:20271011T100000
DTEND;TZID=Europe/Madrid:20271011T111500
DTSTAMP:20260420T013204
CREATED:20250906T195742Z
LAST-MODIFIED:20250906T200056Z
UID:10007438-1823248800-1823253300@dev.u3acostabrava.org
SUMMARY:Tai Chi
DESCRIPTION:A weekly Monday class for all levels.  Beginners welcome.
URL:https://dev.u3acostabrava.org/event/tai-chi-2/2027-10-11/
LOCATION:Maitai Center in Palafrugell\, Carrer de Pi i Margall\, 101\, Palafrugell\, 17200
CATEGORIES:Sport,Tai Chi
ATTACH;FMTTYPE=image/jpeg:https://dev.u3acostabrava.org/wp-content/uploads/2024/09/Stick-tai.jpg
ORGANIZER;CN="Annette Hausman":MAILTO:annettehausman@gmail.com
END:VEVENT
BEGIN:VEVENT
DTSTART;TZID=Europe/Madrid:20271018T100000
DTEND;TZID=Europe/Madrid:20271018T111500
DTSTAMP:20260420T013204
CREATED:20250906T195742Z
LAST-MODIFIED:20250906T200056Z
UID:10007439-1823853600-1823858100@dev.u3acostabrava.org
SUMMARY:Tai Chi
DESCRIPTION:A weekly Monday class for all levels.  Beginners welcome.
URL:https://dev.u3acostabrava.org/event/tai-chi-2/2027-10-18/
LOCATION:Maitai Center in Palafrugell\, Carrer de Pi i Margall\, 101\, Palafrugell\, 17200
CATEGORIES:Sport,Tai Chi
ATTACH;FMTTYPE=image/jpeg:https://dev.u3acostabrava.org/wp-content/uploads/2024/09/Stick-tai.jpg
ORGANIZER;CN="Annette Hausman":MAILTO:annettehausman@gmail.com
END:VEVENT
BEGIN:VEVENT
DTSTART;TZID=Europe/Madrid:20271025T100000
DTEND;TZID=Europe/Madrid:20271025T111500
DTSTAMP:20260420T013204
CREATED:20250906T195742Z
LAST-MODIFIED:20250906T200056Z
UID:10007440-1824458400-1824462900@dev.u3acostabrava.org
SUMMARY:Tai Chi
DESCRIPTION:A weekly Monday class for all levels.  Beginners welcome.
URL:https://dev.u3acostabrava.org/event/tai-chi-2/2027-10-25/
LOCATION:Maitai Center in Palafrugell\, Carrer de Pi i Margall\, 101\, Palafrugell\, 17200
CATEGORIES:Sport,Tai Chi
ATTACH;FMTTYPE=image/jpeg:https://dev.u3acostabrava.org/wp-content/uploads/2024/09/Stick-tai.jpg
ORGANIZER;CN="Annette Hausman":MAILTO:annettehausman@gmail.com
END:VEVENT
BEGIN:VEVENT
DTSTART;TZID=Europe/Madrid:20271101T100000
DTEND;TZID=Europe/Madrid:20271101T111500
DTSTAMP:20260420T013204
CREATED:20250906T195742Z
LAST-MODIFIED:20250906T200056Z
UID:10007441-1825063200-1825067700@dev.u3acostabrava.org
SUMMARY:Tai Chi
DESCRIPTION:A weekly Monday class for all levels.  Beginners welcome.
URL:https://dev.u3acostabrava.org/event/tai-chi-2/2027-11-01/
LOCATION:Maitai Center in Palafrugell\, Carrer de Pi i Margall\, 101\, Palafrugell\, 17200
CATEGORIES:Sport,Tai Chi
ATTACH;FMTTYPE=image/jpeg:https://dev.u3acostabrava.org/wp-content/uploads/2024/09/Stick-tai.jpg
ORGANIZER;CN="Annette Hausman":MAILTO:annettehausman@gmail.com
END:VEVENT
BEGIN:VEVENT
DTSTART;TZID=Europe/Madrid:20271108T100000
DTEND;TZID=Europe/Madrid:20271108T111500
DTSTAMP:20260420T013204
CREATED:20250906T195742Z
LAST-MODIFIED:20250906T200056Z
UID:10007442-1825668000-1825672500@dev.u3acostabrava.org
SUMMARY:Tai Chi
DESCRIPTION:A weekly Monday class for all levels.  Beginners welcome.
URL:https://dev.u3acostabrava.org/event/tai-chi-2/2027-11-08/
LOCATION:Maitai Center in Palafrugell\, Carrer de Pi i Margall\, 101\, Palafrugell\, 17200
CATEGORIES:Sport,Tai Chi
ATTACH;FMTTYPE=image/jpeg:https://dev.u3acostabrava.org/wp-content/uploads/2024/09/Stick-tai.jpg
ORGANIZER;CN="Annette Hausman":MAILTO:annettehausman@gmail.com
END:VEVENT
BEGIN:VEVENT
DTSTART;TZID=Europe/Madrid:20271115T100000
DTEND;TZID=Europe/Madrid:20271115T111500
DTSTAMP:20260420T013204
CREATED:20250906T195742Z
LAST-MODIFIED:20250906T200056Z
UID:10007443-1826272800-1826277300@dev.u3acostabrava.org
SUMMARY:Tai Chi
DESCRIPTION:A weekly Monday class for all levels.  Beginners welcome.
URL:https://dev.u3acostabrava.org/event/tai-chi-2/2027-11-15/
LOCATION:Maitai Center in Palafrugell\, Carrer de Pi i Margall\, 101\, Palafrugell\, 17200
CATEGORIES:Sport,Tai Chi
ATTACH;FMTTYPE=image/jpeg:https://dev.u3acostabrava.org/wp-content/uploads/2024/09/Stick-tai.jpg
ORGANIZER;CN="Annette Hausman":MAILTO:annettehausman@gmail.com
END:VEVENT
BEGIN:VEVENT
DTSTART;TZID=Europe/Madrid:20271122T100000
DTEND;TZID=Europe/Madrid:20271122T111500
DTSTAMP:20260420T013204
CREATED:20250906T195742Z
LAST-MODIFIED:20250906T200056Z
UID:10007444-1826877600-1826882100@dev.u3acostabrava.org
SUMMARY:Tai Chi
DESCRIPTION:A weekly Monday class for all levels.  Beginners welcome.
URL:https://dev.u3acostabrava.org/event/tai-chi-2/2027-11-22/
LOCATION:Maitai Center in Palafrugell\, Carrer de Pi i Margall\, 101\, Palafrugell\, 17200
CATEGORIES:Sport,Tai Chi
ATTACH;FMTTYPE=image/jpeg:https://dev.u3acostabrava.org/wp-content/uploads/2024/09/Stick-tai.jpg
ORGANIZER;CN="Annette Hausman":MAILTO:annettehausman@gmail.com
END:VEVENT
BEGIN:VEVENT
DTSTART;TZID=Europe/Madrid:20271129T100000
DTEND;TZID=Europe/Madrid:20271129T111500
DTSTAMP:20260420T013204
CREATED:20250906T195742Z
LAST-MODIFIED:20250906T200056Z
UID:10007445-1827482400-1827486900@dev.u3acostabrava.org
SUMMARY:Tai Chi
DESCRIPTION:A weekly Monday class for all levels.  Beginners welcome.
URL:https://dev.u3acostabrava.org/event/tai-chi-2/2027-11-29/
LOCATION:Maitai Center in Palafrugell\, Carrer de Pi i Margall\, 101\, Palafrugell\, 17200
CATEGORIES:Sport,Tai Chi
ATTACH;FMTTYPE=image/jpeg:https://dev.u3acostabrava.org/wp-content/uploads/2024/09/Stick-tai.jpg
ORGANIZER;CN="Annette Hausman":MAILTO:annettehausman@gmail.com
END:VEVENT
BEGIN:VEVENT
DTSTART;TZID=Europe/Madrid:20271206T100000
DTEND;TZID=Europe/Madrid:20271206T111500
DTSTAMP:20260420T013204
CREATED:20250906T195742Z
LAST-MODIFIED:20250906T200056Z
UID:10007446-1828087200-1828091700@dev.u3acostabrava.org
SUMMARY:Tai Chi
DESCRIPTION:A weekly Monday class for all levels.  Beginners welcome.
URL:https://dev.u3acostabrava.org/event/tai-chi-2/2027-12-06/
LOCATION:Maitai Center in Palafrugell\, Carrer de Pi i Margall\, 101\, Palafrugell\, 17200
CATEGORIES:Sport,Tai Chi
ATTACH;FMTTYPE=image/jpeg:https://dev.u3acostabrava.org/wp-content/uploads/2024/09/Stick-tai.jpg
ORGANIZER;CN="Annette Hausman":MAILTO:annettehausman@gmail.com
END:VEVENT
BEGIN:VEVENT
DTSTART;TZID=Europe/Madrid:20271213T100000
DTEND;TZID=Europe/Madrid:20271213T111500
DTSTAMP:20260420T013204
CREATED:20250906T195742Z
LAST-MODIFIED:20250906T200056Z
UID:10007447-1828692000-1828696500@dev.u3acostabrava.org
SUMMARY:Tai Chi
DESCRIPTION:A weekly Monday class for all levels.  Beginners welcome.
URL:https://dev.u3acostabrava.org/event/tai-chi-2/2027-12-13/
LOCATION:Maitai Center in Palafrugell\, Carrer de Pi i Margall\, 101\, Palafrugell\, 17200
CATEGORIES:Sport,Tai Chi
ATTACH;FMTTYPE=image/jpeg:https://dev.u3acostabrava.org/wp-content/uploads/2024/09/Stick-tai.jpg
ORGANIZER;CN="Annette Hausman":MAILTO:annettehausman@gmail.com
END:VEVENT
BEGIN:VEVENT
DTSTART;TZID=Europe/Madrid:20271220T100000
DTEND;TZID=Europe/Madrid:20271220T111500
DTSTAMP:20260420T013204
CREATED:20250906T195742Z
LAST-MODIFIED:20250906T200056Z
UID:10007448-1829296800-1829301300@dev.u3acostabrava.org
SUMMARY:Tai Chi
DESCRIPTION:A weekly Monday class for all levels.  Beginners welcome.
URL:https://dev.u3acostabrava.org/event/tai-chi-2/2027-12-20/
LOCATION:Maitai Center in Palafrugell\, Carrer de Pi i Margall\, 101\, Palafrugell\, 17200
CATEGORIES:Sport,Tai Chi
ATTACH;FMTTYPE=image/jpeg:https://dev.u3acostabrava.org/wp-content/uploads/2024/09/Stick-tai.jpg
ORGANIZER;CN="Annette Hausman":MAILTO:annettehausman@gmail.com
END:VEVENT
BEGIN:VEVENT
DTSTART;TZID=Europe/Madrid:20271227T100000
DTEND;TZID=Europe/Madrid:20271227T111500
DTSTAMP:20260420T013204
CREATED:20250906T195742Z
LAST-MODIFIED:20250906T200056Z
UID:10007449-1829901600-1829906100@dev.u3acostabrava.org
SUMMARY:Tai Chi
DESCRIPTION:A weekly Monday class for all levels.  Beginners welcome.
URL:https://dev.u3acostabrava.org/event/tai-chi-2/2027-12-27/
LOCATION:Maitai Center in Palafrugell\, Carrer de Pi i Margall\, 101\, Palafrugell\, 17200
CATEGORIES:Sport,Tai Chi
ATTACH;FMTTYPE=image/jpeg:https://dev.u3acostabrava.org/wp-content/uploads/2024/09/Stick-tai.jpg
ORGANIZER;CN="Annette Hausman":MAILTO:annettehausman@gmail.com
END:VEVENT
BEGIN:VEVENT
DTSTART;TZID=Europe/Madrid:20280103T100000
DTEND;TZID=Europe/Madrid:20280103T111500
DTSTAMP:20260420T013204
CREATED:20250906T195742Z
LAST-MODIFIED:20250906T200056Z
UID:10007450-1830506400-1830510900@dev.u3acostabrava.org
SUMMARY:Tai Chi
DESCRIPTION:A weekly Monday class for all levels.  Beginners welcome.
URL:https://dev.u3acostabrava.org/event/tai-chi-2/2028-01-03/
LOCATION:Maitai Center in Palafrugell\, Carrer de Pi i Margall\, 101\, Palafrugell\, 17200
CATEGORIES:Sport,Tai Chi
ATTACH;FMTTYPE=image/jpeg:https://dev.u3acostabrava.org/wp-content/uploads/2024/09/Stick-tai.jpg
ORGANIZER;CN="Annette Hausman":MAILTO:annettehausman@gmail.com
END:VEVENT
BEGIN:VEVENT
DTSTART;TZID=Europe/Madrid:20280110T100000
DTEND;TZID=Europe/Madrid:20280110T111500
DTSTAMP:20260420T013204
CREATED:20250906T195742Z
LAST-MODIFIED:20250906T200056Z
UID:10007451-1831111200-1831115700@dev.u3acostabrava.org
SUMMARY:Tai Chi
DESCRIPTION:A weekly Monday class for all levels.  Beginners welcome.
URL:https://dev.u3acostabrava.org/event/tai-chi-2/2028-01-10/
LOCATION:Maitai Center in Palafrugell\, Carrer de Pi i Margall\, 101\, Palafrugell\, 17200
CATEGORIES:Sport,Tai Chi
ATTACH;FMTTYPE=image/jpeg:https://dev.u3acostabrava.org/wp-content/uploads/2024/09/Stick-tai.jpg
ORGANIZER;CN="Annette Hausman":MAILTO:annettehausman@gmail.com
END:VEVENT
BEGIN:VEVENT
DTSTART;TZID=Europe/Madrid:20280117T100000
DTEND;TZID=Europe/Madrid:20280117T111500
DTSTAMP:20260420T013204
CREATED:20250906T195742Z
LAST-MODIFIED:20250906T200056Z
UID:10007452-1831716000-1831720500@dev.u3acostabrava.org
SUMMARY:Tai Chi
DESCRIPTION:A weekly Monday class for all levels.  Beginners welcome.
URL:https://dev.u3acostabrava.org/event/tai-chi-2/2028-01-17/
LOCATION:Maitai Center in Palafrugell\, Carrer de Pi i Margall\, 101\, Palafrugell\, 17200
CATEGORIES:Sport,Tai Chi
ATTACH;FMTTYPE=image/jpeg:https://dev.u3acostabrava.org/wp-content/uploads/2024/09/Stick-tai.jpg
ORGANIZER;CN="Annette Hausman":MAILTO:annettehausman@gmail.com
END:VEVENT
BEGIN:VEVENT
DTSTART;TZID=Europe/Madrid:20280124T100000
DTEND;TZID=Europe/Madrid:20280124T111500
DTSTAMP:20260420T013204
CREATED:20250906T195742Z
LAST-MODIFIED:20250906T200056Z
UID:10007453-1832320800-1832325300@dev.u3acostabrava.org
SUMMARY:Tai Chi
DESCRIPTION:A weekly Monday class for all levels.  Beginners welcome.
URL:https://dev.u3acostabrava.org/event/tai-chi-2/2028-01-24/
LOCATION:Maitai Center in Palafrugell\, Carrer de Pi i Margall\, 101\, Palafrugell\, 17200
CATEGORIES:Sport,Tai Chi
ATTACH;FMTTYPE=image/jpeg:https://dev.u3acostabrava.org/wp-content/uploads/2024/09/Stick-tai.jpg
ORGANIZER;CN="Annette Hausman":MAILTO:annettehausman@gmail.com
END:VEVENT
BEGIN:VEVENT
DTSTART;TZID=Europe/Madrid:20280131T100000
DTEND;TZID=Europe/Madrid:20280131T111500
DTSTAMP:20260420T013204
CREATED:20250906T195742Z
LAST-MODIFIED:20250906T200056Z
UID:10007454-1832925600-1832930100@dev.u3acostabrava.org
SUMMARY:Tai Chi
DESCRIPTION:A weekly Monday class for all levels.  Beginners welcome.
URL:https://dev.u3acostabrava.org/event/tai-chi-2/2028-01-31/
LOCATION:Maitai Center in Palafrugell\, Carrer de Pi i Margall\, 101\, Palafrugell\, 17200
CATEGORIES:Sport,Tai Chi
ATTACH;FMTTYPE=image/jpeg:https://dev.u3acostabrava.org/wp-content/uploads/2024/09/Stick-tai.jpg
ORGANIZER;CN="Annette Hausman":MAILTO:annettehausman@gmail.com
END:VEVENT
BEGIN:VEVENT
DTSTART;TZID=Europe/Madrid:20280207T100000
DTEND;TZID=Europe/Madrid:20280207T111500
DTSTAMP:20260420T013204
CREATED:20250906T195742Z
LAST-MODIFIED:20250906T200056Z
UID:10007455-1833530400-1833534900@dev.u3acostabrava.org
SUMMARY:Tai Chi
DESCRIPTION:A weekly Monday class for all levels.  Beginners welcome.
URL:https://dev.u3acostabrava.org/event/tai-chi-2/2028-02-07/
LOCATION:Maitai Center in Palafrugell\, Carrer de Pi i Margall\, 101\, Palafrugell\, 17200
CATEGORIES:Sport,Tai Chi
ATTACH;FMTTYPE=image/jpeg:https://dev.u3acostabrava.org/wp-content/uploads/2024/09/Stick-tai.jpg
ORGANIZER;CN="Annette Hausman":MAILTO:annettehausman@gmail.com
END:VEVENT
BEGIN:VEVENT
DTSTART;TZID=Europe/Madrid:20280214T100000
DTEND;TZID=Europe/Madrid:20280214T111500
DTSTAMP:20260420T013204
CREATED:20250906T195742Z
LAST-MODIFIED:20250906T200056Z
UID:10007456-1834135200-1834139700@dev.u3acostabrava.org
SUMMARY:Tai Chi
DESCRIPTION:A weekly Monday class for all levels.  Beginners welcome.
URL:https://dev.u3acostabrava.org/event/tai-chi-2/2028-02-14/
LOCATION:Maitai Center in Palafrugell\, Carrer de Pi i Margall\, 101\, Palafrugell\, 17200
CATEGORIES:Sport,Tai Chi
ATTACH;FMTTYPE=image/jpeg:https://dev.u3acostabrava.org/wp-content/uploads/2024/09/Stick-tai.jpg
ORGANIZER;CN="Annette Hausman":MAILTO:annettehausman@gmail.com
END:VEVENT
BEGIN:VEVENT
DTSTART;TZID=Europe/Madrid:20280221T100000
DTEND;TZID=Europe/Madrid:20280221T111500
DTSTAMP:20260420T013204
CREATED:20250906T195742Z
LAST-MODIFIED:20250906T200056Z
UID:10007457-1834740000-1834744500@dev.u3acostabrava.org
SUMMARY:Tai Chi
DESCRIPTION:A weekly Monday class for all levels.  Beginners welcome.
URL:https://dev.u3acostabrava.org/event/tai-chi-2/2028-02-21/
LOCATION:Maitai Center in Palafrugell\, Carrer de Pi i Margall\, 101\, Palafrugell\, 17200
CATEGORIES:Sport,Tai Chi
ATTACH;FMTTYPE=image/jpeg:https://dev.u3acostabrava.org/wp-content/uploads/2024/09/Stick-tai.jpg
ORGANIZER;CN="Annette Hausman":MAILTO:annettehausman@gmail.com
END:VEVENT
BEGIN:VEVENT
DTSTART;TZID=Europe/Madrid:20280228T100000
DTEND;TZID=Europe/Madrid:20280228T111500
DTSTAMP:20260420T013204
CREATED:20250906T195742Z
LAST-MODIFIED:20250906T200056Z
UID:10007458-1835344800-1835349300@dev.u3acostabrava.org
SUMMARY:Tai Chi
DESCRIPTION:A weekly Monday class for all levels.  Beginners welcome.
URL:https://dev.u3acostabrava.org/event/tai-chi-2/2028-02-28/
LOCATION:Maitai Center in Palafrugell\, Carrer de Pi i Margall\, 101\, Palafrugell\, 17200
CATEGORIES:Sport,Tai Chi
ATTACH;FMTTYPE=image/jpeg:https://dev.u3acostabrava.org/wp-content/uploads/2024/09/Stick-tai.jpg
ORGANIZER;CN="Annette Hausman":MAILTO:annettehausman@gmail.com
END:VEVENT
BEGIN:VEVENT
DTSTART;TZID=Europe/Madrid:20280306T100000
DTEND;TZID=Europe/Madrid:20280306T111500
DTSTAMP:20260420T013204
CREATED:20250906T195742Z
LAST-MODIFIED:20250906T200056Z
UID:10007459-1835949600-1835954100@dev.u3acostabrava.org
SUMMARY:Tai Chi
DESCRIPTION:A weekly Monday class for all levels.  Beginners welcome.
URL:https://dev.u3acostabrava.org/event/tai-chi-2/2028-03-06/
LOCATION:Maitai Center in Palafrugell\, Carrer de Pi i Margall\, 101\, Palafrugell\, 17200
CATEGORIES:Sport,Tai Chi
ATTACH;FMTTYPE=image/jpeg:https://dev.u3acostabrava.org/wp-content/uploads/2024/09/Stick-tai.jpg
ORGANIZER;CN="Annette Hausman":MAILTO:annettehausman@gmail.com
END:VEVENT
BEGIN:VEVENT
DTSTART;TZID=Europe/Madrid:20280313T100000
DTEND;TZID=Europe/Madrid:20280313T111500
DTSTAMP:20260420T013204
CREATED:20250906T195742Z
LAST-MODIFIED:20250906T200056Z
UID:10007460-1836554400-1836558900@dev.u3acostabrava.org
SUMMARY:Tai Chi
DESCRIPTION:A weekly Monday class for all levels.  Beginners welcome.
URL:https://dev.u3acostabrava.org/event/tai-chi-2/2028-03-13/
LOCATION:Maitai Center in Palafrugell\, Carrer de Pi i Margall\, 101\, Palafrugell\, 17200
CATEGORIES:Sport,Tai Chi
ATTACH;FMTTYPE=image/jpeg:https://dev.u3acostabrava.org/wp-content/uploads/2024/09/Stick-tai.jpg
ORGANIZER;CN="Annette Hausman":MAILTO:annettehausman@gmail.com
END:VEVENT
BEGIN:VEVENT
DTSTART;TZID=Europe/Madrid:20280320T100000
DTEND;TZID=Europe/Madrid:20280320T111500
DTSTAMP:20260420T013204
CREATED:20250906T195742Z
LAST-MODIFIED:20250906T200056Z
UID:10007461-1837159200-1837163700@dev.u3acostabrava.org
SUMMARY:Tai Chi
DESCRIPTION:A weekly Monday class for all levels.  Beginners welcome.
URL:https://dev.u3acostabrava.org/event/tai-chi-2/2028-03-20/
LOCATION:Maitai Center in Palafrugell\, Carrer de Pi i Margall\, 101\, Palafrugell\, 17200
CATEGORIES:Sport,Tai Chi
ATTACH;FMTTYPE=image/jpeg:https://dev.u3acostabrava.org/wp-content/uploads/2024/09/Stick-tai.jpg
ORGANIZER;CN="Annette Hausman":MAILTO:annettehausman@gmail.com
END:VEVENT
BEGIN:VEVENT
DTSTART;TZID=Europe/Madrid:20280327T100000
DTEND;TZID=Europe/Madrid:20280327T111500
DTSTAMP:20260420T013204
CREATED:20250906T195742Z
LAST-MODIFIED:20250906T200056Z
UID:10007462-1837764000-1837768500@dev.u3acostabrava.org
SUMMARY:Tai Chi
DESCRIPTION:A weekly Monday class for all levels.  Beginners welcome.
URL:https://dev.u3acostabrava.org/event/tai-chi-2/2028-03-27/
LOCATION:Maitai Center in Palafrugell\, Carrer de Pi i Margall\, 101\, Palafrugell\, 17200
CATEGORIES:Sport,Tai Chi
ATTACH;FMTTYPE=image/jpeg:https://dev.u3acostabrava.org/wp-content/uploads/2024/09/Stick-tai.jpg
ORGANIZER;CN="Annette Hausman":MAILTO:annettehausman@gmail.com
END:VEVENT
END:VCALENDAR