BEGIN:VCALENDAR
VERSION:2.0
PRODID:-//U3A Costa Brava - ECPv6.15.14//NONSGML v1.0//EN
CALSCALE:GREGORIAN
METHOD:PUBLISH
X-WR-CALNAME:U3A Costa Brava
X-ORIGINAL-URL:https://dev.u3acostabrava.org
X-WR-CALDESC:Events for U3A Costa Brava
REFRESH-INTERVAL;VALUE=DURATION:PT1H
X-Robots-Tag:noindex
X-PUBLISHED-TTL:PT1H
BEGIN:VTIMEZONE
TZID:Europe/Madrid
BEGIN:DAYLIGHT
TZOFFSETFROM:+0100
TZOFFSETTO:+0200
TZNAME:CEST
DTSTART:20260329T010000
END:DAYLIGHT
BEGIN:STANDARD
TZOFFSETFROM:+0200
TZOFFSETTO:+0100
TZNAME:CET
DTSTART:20261025T010000
END:STANDARD
BEGIN:DAYLIGHT
TZOFFSETFROM:+0100
TZOFFSETTO:+0200
TZNAME:CEST
DTSTART:20270328T010000
END:DAYLIGHT
BEGIN:STANDARD
TZOFFSETFROM:+0200
TZOFFSETTO:+0100
TZNAME:CET
DTSTART:20271031T010000
END:STANDARD
BEGIN:DAYLIGHT
TZOFFSETFROM:+0100
TZOFFSETTO:+0200
TZNAME:CEST
DTSTART:20280326T010000
END:DAYLIGHT
BEGIN:STANDARD
TZOFFSETFROM:+0200
TZOFFSETTO:+0100
TZNAME:CET
DTSTART:20281029T010000
END:STANDARD
END:VTIMEZONE
BEGIN:VEVENT
DTSTART;TZID=Europe/Madrid:20270322T100000
DTEND;TZID=Europe/Madrid:20270322T111500
DTSTAMP:20260419T221242
CREATED:20250906T195742Z
LAST-MODIFIED:20250906T200056Z
UID:10007409-1805709600-1805714100@dev.u3acostabrava.org
SUMMARY:Tai Chi
DESCRIPTION:A weekly Monday class for all levels.  Beginners welcome.
URL:https://dev.u3acostabrava.org/event/tai-chi-2/2027-03-22/
LOCATION:Maitai Center in Palafrugell\, Carrer de Pi i Margall\, 101\, Palafrugell\, 17200
CATEGORIES:Sport,Tai Chi
ATTACH;FMTTYPE=image/jpeg:https://dev.u3acostabrava.org/wp-content/uploads/2024/09/Stick-tai.jpg
ORGANIZER;CN="Annette Hausman":MAILTO:annettehausman@gmail.com
END:VEVENT
BEGIN:VEVENT
DTSTART;TZID=Europe/Madrid:20270329T100000
DTEND;TZID=Europe/Madrid:20270329T111500
DTSTAMP:20260419T221242
CREATED:20250906T195742Z
LAST-MODIFIED:20250906T200056Z
UID:10007410-1806314400-1806318900@dev.u3acostabrava.org
SUMMARY:Tai Chi
DESCRIPTION:A weekly Monday class for all levels.  Beginners welcome.
URL:https://dev.u3acostabrava.org/event/tai-chi-2/2027-03-29/
LOCATION:Maitai Center in Palafrugell\, Carrer de Pi i Margall\, 101\, Palafrugell\, 17200
CATEGORIES:Sport,Tai Chi
ATTACH;FMTTYPE=image/jpeg:https://dev.u3acostabrava.org/wp-content/uploads/2024/09/Stick-tai.jpg
ORGANIZER;CN="Annette Hausman":MAILTO:annettehausman@gmail.com
END:VEVENT
BEGIN:VEVENT
DTSTART;TZID=Europe/Madrid:20270405T100000
DTEND;TZID=Europe/Madrid:20270405T111500
DTSTAMP:20260419T221242
CREATED:20250906T195742Z
LAST-MODIFIED:20250906T200056Z
UID:10007411-1806919200-1806923700@dev.u3acostabrava.org
SUMMARY:Tai Chi
DESCRIPTION:A weekly Monday class for all levels.  Beginners welcome.
URL:https://dev.u3acostabrava.org/event/tai-chi-2/2027-04-05/
LOCATION:Maitai Center in Palafrugell\, Carrer de Pi i Margall\, 101\, Palafrugell\, 17200
CATEGORIES:Sport,Tai Chi
ATTACH;FMTTYPE=image/jpeg:https://dev.u3acostabrava.org/wp-content/uploads/2024/09/Stick-tai.jpg
ORGANIZER;CN="Annette Hausman":MAILTO:annettehausman@gmail.com
END:VEVENT
BEGIN:VEVENT
DTSTART;TZID=Europe/Madrid:20270412T100000
DTEND;TZID=Europe/Madrid:20270412T111500
DTSTAMP:20260419T221242
CREATED:20250906T195742Z
LAST-MODIFIED:20250906T200056Z
UID:10007412-1807524000-1807528500@dev.u3acostabrava.org
SUMMARY:Tai Chi
DESCRIPTION:A weekly Monday class for all levels.  Beginners welcome.
URL:https://dev.u3acostabrava.org/event/tai-chi-2/2027-04-12/
LOCATION:Maitai Center in Palafrugell\, Carrer de Pi i Margall\, 101\, Palafrugell\, 17200
CATEGORIES:Sport,Tai Chi
ATTACH;FMTTYPE=image/jpeg:https://dev.u3acostabrava.org/wp-content/uploads/2024/09/Stick-tai.jpg
ORGANIZER;CN="Annette Hausman":MAILTO:annettehausman@gmail.com
END:VEVENT
BEGIN:VEVENT
DTSTART;TZID=Europe/Madrid:20270419T100000
DTEND;TZID=Europe/Madrid:20270419T111500
DTSTAMP:20260419T221242
CREATED:20250906T195742Z
LAST-MODIFIED:20250906T200056Z
UID:10007413-1808128800-1808133300@dev.u3acostabrava.org
SUMMARY:Tai Chi
DESCRIPTION:A weekly Monday class for all levels.  Beginners welcome.
URL:https://dev.u3acostabrava.org/event/tai-chi-2/2027-04-19/
LOCATION:Maitai Center in Palafrugell\, Carrer de Pi i Margall\, 101\, Palafrugell\, 17200
CATEGORIES:Sport,Tai Chi
ATTACH;FMTTYPE=image/jpeg:https://dev.u3acostabrava.org/wp-content/uploads/2024/09/Stick-tai.jpg
ORGANIZER;CN="Annette Hausman":MAILTO:annettehausman@gmail.com
END:VEVENT
BEGIN:VEVENT
DTSTART;TZID=Europe/Madrid:20270426T100000
DTEND;TZID=Europe/Madrid:20270426T111500
DTSTAMP:20260419T221242
CREATED:20250906T195742Z
LAST-MODIFIED:20250906T200056Z
UID:10007414-1808733600-1808738100@dev.u3acostabrava.org
SUMMARY:Tai Chi
DESCRIPTION:A weekly Monday class for all levels.  Beginners welcome.
URL:https://dev.u3acostabrava.org/event/tai-chi-2/2027-04-26/
LOCATION:Maitai Center in Palafrugell\, Carrer de Pi i Margall\, 101\, Palafrugell\, 17200
CATEGORIES:Sport,Tai Chi
ATTACH;FMTTYPE=image/jpeg:https://dev.u3acostabrava.org/wp-content/uploads/2024/09/Stick-tai.jpg
ORGANIZER;CN="Annette Hausman":MAILTO:annettehausman@gmail.com
END:VEVENT
BEGIN:VEVENT
DTSTART;TZID=Europe/Madrid:20270503T100000
DTEND;TZID=Europe/Madrid:20270503T111500
DTSTAMP:20260419T221242
CREATED:20250906T195742Z
LAST-MODIFIED:20250906T200056Z
UID:10007415-1809338400-1809342900@dev.u3acostabrava.org
SUMMARY:Tai Chi
DESCRIPTION:A weekly Monday class for all levels.  Beginners welcome.
URL:https://dev.u3acostabrava.org/event/tai-chi-2/2027-05-03/
LOCATION:Maitai Center in Palafrugell\, Carrer de Pi i Margall\, 101\, Palafrugell\, 17200
CATEGORIES:Sport,Tai Chi
ATTACH;FMTTYPE=image/jpeg:https://dev.u3acostabrava.org/wp-content/uploads/2024/09/Stick-tai.jpg
ORGANIZER;CN="Annette Hausman":MAILTO:annettehausman@gmail.com
END:VEVENT
BEGIN:VEVENT
DTSTART;TZID=Europe/Madrid:20270510T100000
DTEND;TZID=Europe/Madrid:20270510T111500
DTSTAMP:20260419T221242
CREATED:20250906T195742Z
LAST-MODIFIED:20250906T200056Z
UID:10007416-1809943200-1809947700@dev.u3acostabrava.org
SUMMARY:Tai Chi
DESCRIPTION:A weekly Monday class for all levels.  Beginners welcome.
URL:https://dev.u3acostabrava.org/event/tai-chi-2/2027-05-10/
LOCATION:Maitai Center in Palafrugell\, Carrer de Pi i Margall\, 101\, Palafrugell\, 17200
CATEGORIES:Sport,Tai Chi
ATTACH;FMTTYPE=image/jpeg:https://dev.u3acostabrava.org/wp-content/uploads/2024/09/Stick-tai.jpg
ORGANIZER;CN="Annette Hausman":MAILTO:annettehausman@gmail.com
END:VEVENT
BEGIN:VEVENT
DTSTART;TZID=Europe/Madrid:20270517T100000
DTEND;TZID=Europe/Madrid:20270517T111500
DTSTAMP:20260419T221242
CREATED:20250906T195742Z
LAST-MODIFIED:20250906T200056Z
UID:10007417-1810548000-1810552500@dev.u3acostabrava.org
SUMMARY:Tai Chi
DESCRIPTION:A weekly Monday class for all levels.  Beginners welcome.
URL:https://dev.u3acostabrava.org/event/tai-chi-2/2027-05-17/
LOCATION:Maitai Center in Palafrugell\, Carrer de Pi i Margall\, 101\, Palafrugell\, 17200
CATEGORIES:Sport,Tai Chi
ATTACH;FMTTYPE=image/jpeg:https://dev.u3acostabrava.org/wp-content/uploads/2024/09/Stick-tai.jpg
ORGANIZER;CN="Annette Hausman":MAILTO:annettehausman@gmail.com
END:VEVENT
BEGIN:VEVENT
DTSTART;TZID=Europe/Madrid:20270524T100000
DTEND;TZID=Europe/Madrid:20270524T111500
DTSTAMP:20260419T221242
CREATED:20250906T195742Z
LAST-MODIFIED:20250906T200056Z
UID:10007418-1811152800-1811157300@dev.u3acostabrava.org
SUMMARY:Tai Chi
DESCRIPTION:A weekly Monday class for all levels.  Beginners welcome.
URL:https://dev.u3acostabrava.org/event/tai-chi-2/2027-05-24/
LOCATION:Maitai Center in Palafrugell\, Carrer de Pi i Margall\, 101\, Palafrugell\, 17200
CATEGORIES:Sport,Tai Chi
ATTACH;FMTTYPE=image/jpeg:https://dev.u3acostabrava.org/wp-content/uploads/2024/09/Stick-tai.jpg
ORGANIZER;CN="Annette Hausman":MAILTO:annettehausman@gmail.com
END:VEVENT
BEGIN:VEVENT
DTSTART;TZID=Europe/Madrid:20270531T100000
DTEND;TZID=Europe/Madrid:20270531T111500
DTSTAMP:20260419T221242
CREATED:20250906T195742Z
LAST-MODIFIED:20250906T200056Z
UID:10007419-1811757600-1811762100@dev.u3acostabrava.org
SUMMARY:Tai Chi
DESCRIPTION:A weekly Monday class for all levels.  Beginners welcome.
URL:https://dev.u3acostabrava.org/event/tai-chi-2/2027-05-31/
LOCATION:Maitai Center in Palafrugell\, Carrer de Pi i Margall\, 101\, Palafrugell\, 17200
CATEGORIES:Sport,Tai Chi
ATTACH;FMTTYPE=image/jpeg:https://dev.u3acostabrava.org/wp-content/uploads/2024/09/Stick-tai.jpg
ORGANIZER;CN="Annette Hausman":MAILTO:annettehausman@gmail.com
END:VEVENT
BEGIN:VEVENT
DTSTART;TZID=Europe/Madrid:20270607T100000
DTEND;TZID=Europe/Madrid:20270607T111500
DTSTAMP:20260419T221242
CREATED:20250906T195742Z
LAST-MODIFIED:20250906T200056Z
UID:10007420-1812362400-1812366900@dev.u3acostabrava.org
SUMMARY:Tai Chi
DESCRIPTION:A weekly Monday class for all levels.  Beginners welcome.
URL:https://dev.u3acostabrava.org/event/tai-chi-2/2027-06-07/
LOCATION:Maitai Center in Palafrugell\, Carrer de Pi i Margall\, 101\, Palafrugell\, 17200
CATEGORIES:Sport,Tai Chi
ATTACH;FMTTYPE=image/jpeg:https://dev.u3acostabrava.org/wp-content/uploads/2024/09/Stick-tai.jpg
ORGANIZER;CN="Annette Hausman":MAILTO:annettehausman@gmail.com
END:VEVENT
BEGIN:VEVENT
DTSTART;TZID=Europe/Madrid:20270614T100000
DTEND;TZID=Europe/Madrid:20270614T111500
DTSTAMP:20260419T221242
CREATED:20250906T195742Z
LAST-MODIFIED:20250906T200056Z
UID:10007421-1812967200-1812971700@dev.u3acostabrava.org
SUMMARY:Tai Chi
DESCRIPTION:A weekly Monday class for all levels.  Beginners welcome.
URL:https://dev.u3acostabrava.org/event/tai-chi-2/2027-06-14/
LOCATION:Maitai Center in Palafrugell\, Carrer de Pi i Margall\, 101\, Palafrugell\, 17200
CATEGORIES:Sport,Tai Chi
ATTACH;FMTTYPE=image/jpeg:https://dev.u3acostabrava.org/wp-content/uploads/2024/09/Stick-tai.jpg
ORGANIZER;CN="Annette Hausman":MAILTO:annettehausman@gmail.com
END:VEVENT
BEGIN:VEVENT
DTSTART;TZID=Europe/Madrid:20270621T100000
DTEND;TZID=Europe/Madrid:20270621T111500
DTSTAMP:20260419T221242
CREATED:20250906T195742Z
LAST-MODIFIED:20250906T200056Z
UID:10007422-1813572000-1813576500@dev.u3acostabrava.org
SUMMARY:Tai Chi
DESCRIPTION:A weekly Monday class for all levels.  Beginners welcome.
URL:https://dev.u3acostabrava.org/event/tai-chi-2/2027-06-21/
LOCATION:Maitai Center in Palafrugell\, Carrer de Pi i Margall\, 101\, Palafrugell\, 17200
CATEGORIES:Sport,Tai Chi
ATTACH;FMTTYPE=image/jpeg:https://dev.u3acostabrava.org/wp-content/uploads/2024/09/Stick-tai.jpg
ORGANIZER;CN="Annette Hausman":MAILTO:annettehausman@gmail.com
END:VEVENT
BEGIN:VEVENT
DTSTART;TZID=Europe/Madrid:20270628T100000
DTEND;TZID=Europe/Madrid:20270628T111500
DTSTAMP:20260419T221242
CREATED:20250906T195742Z
LAST-MODIFIED:20250906T200056Z
UID:10007423-1814176800-1814181300@dev.u3acostabrava.org
SUMMARY:Tai Chi
DESCRIPTION:A weekly Monday class for all levels.  Beginners welcome.
URL:https://dev.u3acostabrava.org/event/tai-chi-2/2027-06-28/
LOCATION:Maitai Center in Palafrugell\, Carrer de Pi i Margall\, 101\, Palafrugell\, 17200
CATEGORIES:Sport,Tai Chi
ATTACH;FMTTYPE=image/jpeg:https://dev.u3acostabrava.org/wp-content/uploads/2024/09/Stick-tai.jpg
ORGANIZER;CN="Annette Hausman":MAILTO:annettehausman@gmail.com
END:VEVENT
BEGIN:VEVENT
DTSTART;TZID=Europe/Madrid:20270705T100000
DTEND;TZID=Europe/Madrid:20270705T111500
DTSTAMP:20260419T221242
CREATED:20250906T195742Z
LAST-MODIFIED:20250906T200056Z
UID:10007424-1814781600-1814786100@dev.u3acostabrava.org
SUMMARY:Tai Chi
DESCRIPTION:A weekly Monday class for all levels.  Beginners welcome.
URL:https://dev.u3acostabrava.org/event/tai-chi-2/2027-07-05/
LOCATION:Maitai Center in Palafrugell\, Carrer de Pi i Margall\, 101\, Palafrugell\, 17200
CATEGORIES:Sport,Tai Chi
ATTACH;FMTTYPE=image/jpeg:https://dev.u3acostabrava.org/wp-content/uploads/2024/09/Stick-tai.jpg
ORGANIZER;CN="Annette Hausman":MAILTO:annettehausman@gmail.com
END:VEVENT
BEGIN:VEVENT
DTSTART;TZID=Europe/Madrid:20270712T100000
DTEND;TZID=Europe/Madrid:20270712T111500
DTSTAMP:20260419T221242
CREATED:20250906T195742Z
LAST-MODIFIED:20250906T200056Z
UID:10007425-1815386400-1815390900@dev.u3acostabrava.org
SUMMARY:Tai Chi
DESCRIPTION:A weekly Monday class for all levels.  Beginners welcome.
URL:https://dev.u3acostabrava.org/event/tai-chi-2/2027-07-12/
LOCATION:Maitai Center in Palafrugell\, Carrer de Pi i Margall\, 101\, Palafrugell\, 17200
CATEGORIES:Sport,Tai Chi
ATTACH;FMTTYPE=image/jpeg:https://dev.u3acostabrava.org/wp-content/uploads/2024/09/Stick-tai.jpg
ORGANIZER;CN="Annette Hausman":MAILTO:annettehausman@gmail.com
END:VEVENT
BEGIN:VEVENT
DTSTART;TZID=Europe/Madrid:20270719T100000
DTEND;TZID=Europe/Madrid:20270719T111500
DTSTAMP:20260419T221242
CREATED:20250906T195742Z
LAST-MODIFIED:20250906T200056Z
UID:10007426-1815991200-1815995700@dev.u3acostabrava.org
SUMMARY:Tai Chi
DESCRIPTION:A weekly Monday class for all levels.  Beginners welcome.
URL:https://dev.u3acostabrava.org/event/tai-chi-2/2027-07-19/
LOCATION:Maitai Center in Palafrugell\, Carrer de Pi i Margall\, 101\, Palafrugell\, 17200
CATEGORIES:Sport,Tai Chi
ATTACH;FMTTYPE=image/jpeg:https://dev.u3acostabrava.org/wp-content/uploads/2024/09/Stick-tai.jpg
ORGANIZER;CN="Annette Hausman":MAILTO:annettehausman@gmail.com
END:VEVENT
BEGIN:VEVENT
DTSTART;TZID=Europe/Madrid:20270726T100000
DTEND;TZID=Europe/Madrid:20270726T111500
DTSTAMP:20260419T221242
CREATED:20250906T195742Z
LAST-MODIFIED:20250906T200056Z
UID:10007427-1816596000-1816600500@dev.u3acostabrava.org
SUMMARY:Tai Chi
DESCRIPTION:A weekly Monday class for all levels.  Beginners welcome.
URL:https://dev.u3acostabrava.org/event/tai-chi-2/2027-07-26/
LOCATION:Maitai Center in Palafrugell\, Carrer de Pi i Margall\, 101\, Palafrugell\, 17200
CATEGORIES:Sport,Tai Chi
ATTACH;FMTTYPE=image/jpeg:https://dev.u3acostabrava.org/wp-content/uploads/2024/09/Stick-tai.jpg
ORGANIZER;CN="Annette Hausman":MAILTO:annettehausman@gmail.com
END:VEVENT
BEGIN:VEVENT
DTSTART;TZID=Europe/Madrid:20270802T100000
DTEND;TZID=Europe/Madrid:20270802T111500
DTSTAMP:20260419T221242
CREATED:20250906T195742Z
LAST-MODIFIED:20250906T200056Z
UID:10007428-1817200800-1817205300@dev.u3acostabrava.org
SUMMARY:Tai Chi
DESCRIPTION:A weekly Monday class for all levels.  Beginners welcome.
URL:https://dev.u3acostabrava.org/event/tai-chi-2/2027-08-02/
LOCATION:Maitai Center in Palafrugell\, Carrer de Pi i Margall\, 101\, Palafrugell\, 17200
CATEGORIES:Sport,Tai Chi
ATTACH;FMTTYPE=image/jpeg:https://dev.u3acostabrava.org/wp-content/uploads/2024/09/Stick-tai.jpg
ORGANIZER;CN="Annette Hausman":MAILTO:annettehausman@gmail.com
END:VEVENT
BEGIN:VEVENT
DTSTART;TZID=Europe/Madrid:20270809T100000
DTEND;TZID=Europe/Madrid:20270809T111500
DTSTAMP:20260419T221242
CREATED:20250906T195742Z
LAST-MODIFIED:20250906T200056Z
UID:10007429-1817805600-1817810100@dev.u3acostabrava.org
SUMMARY:Tai Chi
DESCRIPTION:A weekly Monday class for all levels.  Beginners welcome.
URL:https://dev.u3acostabrava.org/event/tai-chi-2/2027-08-09/
LOCATION:Maitai Center in Palafrugell\, Carrer de Pi i Margall\, 101\, Palafrugell\, 17200
CATEGORIES:Sport,Tai Chi
ATTACH;FMTTYPE=image/jpeg:https://dev.u3acostabrava.org/wp-content/uploads/2024/09/Stick-tai.jpg
ORGANIZER;CN="Annette Hausman":MAILTO:annettehausman@gmail.com
END:VEVENT
BEGIN:VEVENT
DTSTART;TZID=Europe/Madrid:20270816T100000
DTEND;TZID=Europe/Madrid:20270816T111500
DTSTAMP:20260419T221242
CREATED:20250906T195742Z
LAST-MODIFIED:20250906T200056Z
UID:10007430-1818410400-1818414900@dev.u3acostabrava.org
SUMMARY:Tai Chi
DESCRIPTION:A weekly Monday class for all levels.  Beginners welcome.
URL:https://dev.u3acostabrava.org/event/tai-chi-2/2027-08-16/
LOCATION:Maitai Center in Palafrugell\, Carrer de Pi i Margall\, 101\, Palafrugell\, 17200
CATEGORIES:Sport,Tai Chi
ATTACH;FMTTYPE=image/jpeg:https://dev.u3acostabrava.org/wp-content/uploads/2024/09/Stick-tai.jpg
ORGANIZER;CN="Annette Hausman":MAILTO:annettehausman@gmail.com
END:VEVENT
BEGIN:VEVENT
DTSTART;TZID=Europe/Madrid:20270823T100000
DTEND;TZID=Europe/Madrid:20270823T111500
DTSTAMP:20260419T221242
CREATED:20250906T195742Z
LAST-MODIFIED:20250906T200056Z
UID:10007431-1819015200-1819019700@dev.u3acostabrava.org
SUMMARY:Tai Chi
DESCRIPTION:A weekly Monday class for all levels.  Beginners welcome.
URL:https://dev.u3acostabrava.org/event/tai-chi-2/2027-08-23/
LOCATION:Maitai Center in Palafrugell\, Carrer de Pi i Margall\, 101\, Palafrugell\, 17200
CATEGORIES:Sport,Tai Chi
ATTACH;FMTTYPE=image/jpeg:https://dev.u3acostabrava.org/wp-content/uploads/2024/09/Stick-tai.jpg
ORGANIZER;CN="Annette Hausman":MAILTO:annettehausman@gmail.com
END:VEVENT
BEGIN:VEVENT
DTSTART;TZID=Europe/Madrid:20270830T100000
DTEND;TZID=Europe/Madrid:20270830T111500
DTSTAMP:20260419T221242
CREATED:20250906T195742Z
LAST-MODIFIED:20250906T200056Z
UID:10007432-1819620000-1819624500@dev.u3acostabrava.org
SUMMARY:Tai Chi
DESCRIPTION:A weekly Monday class for all levels.  Beginners welcome.
URL:https://dev.u3acostabrava.org/event/tai-chi-2/2027-08-30/
LOCATION:Maitai Center in Palafrugell\, Carrer de Pi i Margall\, 101\, Palafrugell\, 17200
CATEGORIES:Sport,Tai Chi
ATTACH;FMTTYPE=image/jpeg:https://dev.u3acostabrava.org/wp-content/uploads/2024/09/Stick-tai.jpg
ORGANIZER;CN="Annette Hausman":MAILTO:annettehausman@gmail.com
END:VEVENT
BEGIN:VEVENT
DTSTART;TZID=Europe/Madrid:20270906T100000
DTEND;TZID=Europe/Madrid:20270906T111500
DTSTAMP:20260419T221242
CREATED:20250906T195742Z
LAST-MODIFIED:20250906T200056Z
UID:10007433-1820224800-1820229300@dev.u3acostabrava.org
SUMMARY:Tai Chi
DESCRIPTION:A weekly Monday class for all levels.  Beginners welcome.
URL:https://dev.u3acostabrava.org/event/tai-chi-2/2027-09-06/
LOCATION:Maitai Center in Palafrugell\, Carrer de Pi i Margall\, 101\, Palafrugell\, 17200
CATEGORIES:Sport,Tai Chi
ATTACH;FMTTYPE=image/jpeg:https://dev.u3acostabrava.org/wp-content/uploads/2024/09/Stick-tai.jpg
ORGANIZER;CN="Annette Hausman":MAILTO:annettehausman@gmail.com
END:VEVENT
BEGIN:VEVENT
DTSTART;TZID=Europe/Madrid:20270913T100000
DTEND;TZID=Europe/Madrid:20270913T111500
DTSTAMP:20260419T221242
CREATED:20250906T195742Z
LAST-MODIFIED:20250906T200056Z
UID:10007434-1820829600-1820834100@dev.u3acostabrava.org
SUMMARY:Tai Chi
DESCRIPTION:A weekly Monday class for all levels.  Beginners welcome.
URL:https://dev.u3acostabrava.org/event/tai-chi-2/2027-09-13/
LOCATION:Maitai Center in Palafrugell\, Carrer de Pi i Margall\, 101\, Palafrugell\, 17200
CATEGORIES:Sport,Tai Chi
ATTACH;FMTTYPE=image/jpeg:https://dev.u3acostabrava.org/wp-content/uploads/2024/09/Stick-tai.jpg
ORGANIZER;CN="Annette Hausman":MAILTO:annettehausman@gmail.com
END:VEVENT
BEGIN:VEVENT
DTSTART;TZID=Europe/Madrid:20270920T100000
DTEND;TZID=Europe/Madrid:20270920T111500
DTSTAMP:20260419T221242
CREATED:20250906T195742Z
LAST-MODIFIED:20250906T200056Z
UID:10007435-1821434400-1821438900@dev.u3acostabrava.org
SUMMARY:Tai Chi
DESCRIPTION:A weekly Monday class for all levels.  Beginners welcome.
URL:https://dev.u3acostabrava.org/event/tai-chi-2/2027-09-20/
LOCATION:Maitai Center in Palafrugell\, Carrer de Pi i Margall\, 101\, Palafrugell\, 17200
CATEGORIES:Sport,Tai Chi
ATTACH;FMTTYPE=image/jpeg:https://dev.u3acostabrava.org/wp-content/uploads/2024/09/Stick-tai.jpg
ORGANIZER;CN="Annette Hausman":MAILTO:annettehausman@gmail.com
END:VEVENT
BEGIN:VEVENT
DTSTART;TZID=Europe/Madrid:20270927T100000
DTEND;TZID=Europe/Madrid:20270927T111500
DTSTAMP:20260419T221242
CREATED:20250906T195742Z
LAST-MODIFIED:20250906T200056Z
UID:10007436-1822039200-1822043700@dev.u3acostabrava.org
SUMMARY:Tai Chi
DESCRIPTION:A weekly Monday class for all levels.  Beginners welcome.
URL:https://dev.u3acostabrava.org/event/tai-chi-2/2027-09-27/
LOCATION:Maitai Center in Palafrugell\, Carrer de Pi i Margall\, 101\, Palafrugell\, 17200
CATEGORIES:Sport,Tai Chi
ATTACH;FMTTYPE=image/jpeg:https://dev.u3acostabrava.org/wp-content/uploads/2024/09/Stick-tai.jpg
ORGANIZER;CN="Annette Hausman":MAILTO:annettehausman@gmail.com
END:VEVENT
BEGIN:VEVENT
DTSTART;TZID=Europe/Madrid:20271004T100000
DTEND;TZID=Europe/Madrid:20271004T111500
DTSTAMP:20260419T221242
CREATED:20250906T195742Z
LAST-MODIFIED:20250906T200056Z
UID:10007437-1822644000-1822648500@dev.u3acostabrava.org
SUMMARY:Tai Chi
DESCRIPTION:A weekly Monday class for all levels.  Beginners welcome.
URL:https://dev.u3acostabrava.org/event/tai-chi-2/2027-10-04/
LOCATION:Maitai Center in Palafrugell\, Carrer de Pi i Margall\, 101\, Palafrugell\, 17200
CATEGORIES:Sport,Tai Chi
ATTACH;FMTTYPE=image/jpeg:https://dev.u3acostabrava.org/wp-content/uploads/2024/09/Stick-tai.jpg
ORGANIZER;CN="Annette Hausman":MAILTO:annettehausman@gmail.com
END:VEVENT
BEGIN:VEVENT
DTSTART;TZID=Europe/Madrid:20271011T100000
DTEND;TZID=Europe/Madrid:20271011T111500
DTSTAMP:20260419T221242
CREATED:20250906T195742Z
LAST-MODIFIED:20250906T200056Z
UID:10007438-1823248800-1823253300@dev.u3acostabrava.org
SUMMARY:Tai Chi
DESCRIPTION:A weekly Monday class for all levels.  Beginners welcome.
URL:https://dev.u3acostabrava.org/event/tai-chi-2/2027-10-11/
LOCATION:Maitai Center in Palafrugell\, Carrer de Pi i Margall\, 101\, Palafrugell\, 17200
CATEGORIES:Sport,Tai Chi
ATTACH;FMTTYPE=image/jpeg:https://dev.u3acostabrava.org/wp-content/uploads/2024/09/Stick-tai.jpg
ORGANIZER;CN="Annette Hausman":MAILTO:annettehausman@gmail.com
END:VEVENT
END:VCALENDAR