BEGIN:VCALENDAR
VERSION:2.0
PRODID:-//U3A Costa Brava - ECPv6.15.14//NONSGML v1.0//EN
CALSCALE:GREGORIAN
METHOD:PUBLISH
X-ORIGINAL-URL:https://dev.u3acostabrava.org
X-WR-CALDESC:Events for U3A Costa Brava
REFRESH-INTERVAL;VALUE=DURATION:PT1H
X-Robots-Tag:noindex
X-PUBLISHED-TTL:PT1H
BEGIN:VTIMEZONE
TZID:Europe/Madrid
BEGIN:DAYLIGHT
TZOFFSETFROM:+0100
TZOFFSETTO:+0200
TZNAME:CEST
DTSTART:20250330T010000
END:DAYLIGHT
BEGIN:STANDARD
TZOFFSETFROM:+0200
TZOFFSETTO:+0100
TZNAME:CET
DTSTART:20251026T010000
END:STANDARD
BEGIN:DAYLIGHT
TZOFFSETFROM:+0100
TZOFFSETTO:+0200
TZNAME:CEST
DTSTART:20260329T010000
END:DAYLIGHT
BEGIN:STANDARD
TZOFFSETFROM:+0200
TZOFFSETTO:+0100
TZNAME:CET
DTSTART:20261025T010000
END:STANDARD
BEGIN:DAYLIGHT
TZOFFSETFROM:+0100
TZOFFSETTO:+0200
TZNAME:CEST
DTSTART:20270328T010000
END:DAYLIGHT
BEGIN:STANDARD
TZOFFSETFROM:+0200
TZOFFSETTO:+0100
TZNAME:CET
DTSTART:20271031T010000
END:STANDARD
BEGIN:DAYLIGHT
TZOFFSETFROM:+0100
TZOFFSETTO:+0200
TZNAME:CEST
DTSTART:20280326T010000
END:DAYLIGHT
BEGIN:STANDARD
TZOFFSETFROM:+0200
TZOFFSETTO:+0100
TZNAME:CET
DTSTART:20281029T010000
END:STANDARD
END:VTIMEZONE
BEGIN:VEVENT
DTSTART;TZID=Europe/Madrid:20260713T100000
DTEND;TZID=Europe/Madrid:20260713T111500
DTSTAMP:20260419T170919
CREATED:20250906T195742Z
LAST-MODIFIED:20250906T200056Z
UID:10007373-1783936800-1783941300@dev.u3acostabrava.org
SUMMARY:Tai Chi
DESCRIPTION:A weekly Monday class for all levels.  Beginners welcome.
URL:https://dev.u3acostabrava.org/event/tai-chi-2/2026-07-13/
LOCATION:Maitai Center in Palafrugell\, Carrer de Pi i Margall\, 101\, Palafrugell\, 17200
CATEGORIES:Sport,Tai Chi
ATTACH;FMTTYPE=image/jpeg:https://dev.u3acostabrava.org/wp-content/uploads/2024/09/Stick-tai.jpg
ORGANIZER;CN="Annette Hausman":MAILTO:annettehausman@gmail.com
END:VEVENT
BEGIN:VEVENT
DTSTART;TZID=Europe/Madrid:20260720T100000
DTEND;TZID=Europe/Madrid:20260720T111500
DTSTAMP:20260419T170919
CREATED:20250906T195742Z
LAST-MODIFIED:20250906T200056Z
UID:10007374-1784541600-1784546100@dev.u3acostabrava.org
SUMMARY:Tai Chi
DESCRIPTION:A weekly Monday class for all levels.  Beginners welcome.
URL:https://dev.u3acostabrava.org/event/tai-chi-2/2026-07-20/
LOCATION:Maitai Center in Palafrugell\, Carrer de Pi i Margall\, 101\, Palafrugell\, 17200
CATEGORIES:Sport,Tai Chi
ATTACH;FMTTYPE=image/jpeg:https://dev.u3acostabrava.org/wp-content/uploads/2024/09/Stick-tai.jpg
ORGANIZER;CN="Annette Hausman":MAILTO:annettehausman@gmail.com
END:VEVENT
BEGIN:VEVENT
DTSTART;TZID=Europe/Madrid:20260727T100000
DTEND;TZID=Europe/Madrid:20260727T111500
DTSTAMP:20260419T170919
CREATED:20250906T195742Z
LAST-MODIFIED:20250906T200056Z
UID:10007375-1785146400-1785150900@dev.u3acostabrava.org
SUMMARY:Tai Chi
DESCRIPTION:A weekly Monday class for all levels.  Beginners welcome.
URL:https://dev.u3acostabrava.org/event/tai-chi-2/2026-07-27/
LOCATION:Maitai Center in Palafrugell\, Carrer de Pi i Margall\, 101\, Palafrugell\, 17200
CATEGORIES:Sport,Tai Chi
ATTACH;FMTTYPE=image/jpeg:https://dev.u3acostabrava.org/wp-content/uploads/2024/09/Stick-tai.jpg
ORGANIZER;CN="Annette Hausman":MAILTO:annettehausman@gmail.com
END:VEVENT
BEGIN:VEVENT
DTSTART;TZID=Europe/Madrid:20260803T100000
DTEND;TZID=Europe/Madrid:20260803T111500
DTSTAMP:20260419T170919
CREATED:20250906T195742Z
LAST-MODIFIED:20250906T200056Z
UID:10007376-1785751200-1785755700@dev.u3acostabrava.org
SUMMARY:Tai Chi
DESCRIPTION:A weekly Monday class for all levels.  Beginners welcome.
URL:https://dev.u3acostabrava.org/event/tai-chi-2/2026-08-03/
LOCATION:Maitai Center in Palafrugell\, Carrer de Pi i Margall\, 101\, Palafrugell\, 17200
CATEGORIES:Sport,Tai Chi
ATTACH;FMTTYPE=image/jpeg:https://dev.u3acostabrava.org/wp-content/uploads/2024/09/Stick-tai.jpg
ORGANIZER;CN="Annette Hausman":MAILTO:annettehausman@gmail.com
END:VEVENT
BEGIN:VEVENT
DTSTART;TZID=Europe/Madrid:20260810T100000
DTEND;TZID=Europe/Madrid:20260810T111500
DTSTAMP:20260419T170919
CREATED:20250906T195742Z
LAST-MODIFIED:20250906T200056Z
UID:10007377-1786356000-1786360500@dev.u3acostabrava.org
SUMMARY:Tai Chi
DESCRIPTION:A weekly Monday class for all levels.  Beginners welcome.
URL:https://dev.u3acostabrava.org/event/tai-chi-2/2026-08-10/
LOCATION:Maitai Center in Palafrugell\, Carrer de Pi i Margall\, 101\, Palafrugell\, 17200
CATEGORIES:Sport,Tai Chi
ATTACH;FMTTYPE=image/jpeg:https://dev.u3acostabrava.org/wp-content/uploads/2024/09/Stick-tai.jpg
ORGANIZER;CN="Annette Hausman":MAILTO:annettehausman@gmail.com
END:VEVENT
BEGIN:VEVENT
DTSTART;TZID=Europe/Madrid:20260817T100000
DTEND;TZID=Europe/Madrid:20260817T111500
DTSTAMP:20260419T170919
CREATED:20250906T195742Z
LAST-MODIFIED:20250906T200056Z
UID:10007378-1786960800-1786965300@dev.u3acostabrava.org
SUMMARY:Tai Chi
DESCRIPTION:A weekly Monday class for all levels.  Beginners welcome.
URL:https://dev.u3acostabrava.org/event/tai-chi-2/2026-08-17/
LOCATION:Maitai Center in Palafrugell\, Carrer de Pi i Margall\, 101\, Palafrugell\, 17200
CATEGORIES:Sport,Tai Chi
ATTACH;FMTTYPE=image/jpeg:https://dev.u3acostabrava.org/wp-content/uploads/2024/09/Stick-tai.jpg
ORGANIZER;CN="Annette Hausman":MAILTO:annettehausman@gmail.com
END:VEVENT
BEGIN:VEVENT
DTSTART;TZID=Europe/Madrid:20260824T100000
DTEND;TZID=Europe/Madrid:20260824T111500
DTSTAMP:20260419T170919
CREATED:20250906T195742Z
LAST-MODIFIED:20250906T200056Z
UID:10007379-1787565600-1787570100@dev.u3acostabrava.org
SUMMARY:Tai Chi
DESCRIPTION:A weekly Monday class for all levels.  Beginners welcome.
URL:https://dev.u3acostabrava.org/event/tai-chi-2/2026-08-24/
LOCATION:Maitai Center in Palafrugell\, Carrer de Pi i Margall\, 101\, Palafrugell\, 17200
CATEGORIES:Sport,Tai Chi
ATTACH;FMTTYPE=image/jpeg:https://dev.u3acostabrava.org/wp-content/uploads/2024/09/Stick-tai.jpg
ORGANIZER;CN="Annette Hausman":MAILTO:annettehausman@gmail.com
END:VEVENT
BEGIN:VEVENT
DTSTART;TZID=Europe/Madrid:20260831T100000
DTEND;TZID=Europe/Madrid:20260831T111500
DTSTAMP:20260419T170919
CREATED:20250906T195742Z
LAST-MODIFIED:20250906T200056Z
UID:10007380-1788170400-1788174900@dev.u3acostabrava.org
SUMMARY:Tai Chi
DESCRIPTION:A weekly Monday class for all levels.  Beginners welcome.
URL:https://dev.u3acostabrava.org/event/tai-chi-2/2026-08-31/
LOCATION:Maitai Center in Palafrugell\, Carrer de Pi i Margall\, 101\, Palafrugell\, 17200
CATEGORIES:Sport,Tai Chi
ATTACH;FMTTYPE=image/jpeg:https://dev.u3acostabrava.org/wp-content/uploads/2024/09/Stick-tai.jpg
ORGANIZER;CN="Annette Hausman":MAILTO:annettehausman@gmail.com
END:VEVENT
BEGIN:VEVENT
DTSTART;TZID=Europe/Madrid:20260907T100000
DTEND;TZID=Europe/Madrid:20260907T111500
DTSTAMP:20260419T170919
CREATED:20250906T195742Z
LAST-MODIFIED:20250906T200056Z
UID:10007381-1788775200-1788779700@dev.u3acostabrava.org
SUMMARY:Tai Chi
DESCRIPTION:A weekly Monday class for all levels.  Beginners welcome.
URL:https://dev.u3acostabrava.org/event/tai-chi-2/2026-09-07/
LOCATION:Maitai Center in Palafrugell\, Carrer de Pi i Margall\, 101\, Palafrugell\, 17200
CATEGORIES:Sport,Tai Chi
ATTACH;FMTTYPE=image/jpeg:https://dev.u3acostabrava.org/wp-content/uploads/2024/09/Stick-tai.jpg
ORGANIZER;CN="Annette Hausman":MAILTO:annettehausman@gmail.com
END:VEVENT
BEGIN:VEVENT
DTSTART;TZID=Europe/Madrid:20260914T100000
DTEND;TZID=Europe/Madrid:20260914T111500
DTSTAMP:20260419T170919
CREATED:20250906T195742Z
LAST-MODIFIED:20250906T200056Z
UID:10007382-1789380000-1789384500@dev.u3acostabrava.org
SUMMARY:Tai Chi
DESCRIPTION:A weekly Monday class for all levels.  Beginners welcome.
URL:https://dev.u3acostabrava.org/event/tai-chi-2/2026-09-14/
LOCATION:Maitai Center in Palafrugell\, Carrer de Pi i Margall\, 101\, Palafrugell\, 17200
CATEGORIES:Sport,Tai Chi
ATTACH;FMTTYPE=image/jpeg:https://dev.u3acostabrava.org/wp-content/uploads/2024/09/Stick-tai.jpg
ORGANIZER;CN="Annette Hausman":MAILTO:annettehausman@gmail.com
END:VEVENT
BEGIN:VEVENT
DTSTART;TZID=Europe/Madrid:20260921T100000
DTEND;TZID=Europe/Madrid:20260921T111500
DTSTAMP:20260419T170919
CREATED:20250906T195742Z
LAST-MODIFIED:20250906T200056Z
UID:10007383-1789984800-1789989300@dev.u3acostabrava.org
SUMMARY:Tai Chi
DESCRIPTION:A weekly Monday class for all levels.  Beginners welcome.
URL:https://dev.u3acostabrava.org/event/tai-chi-2/2026-09-21/
LOCATION:Maitai Center in Palafrugell\, Carrer de Pi i Margall\, 101\, Palafrugell\, 17200
CATEGORIES:Sport,Tai Chi
ATTACH;FMTTYPE=image/jpeg:https://dev.u3acostabrava.org/wp-content/uploads/2024/09/Stick-tai.jpg
ORGANIZER;CN="Annette Hausman":MAILTO:annettehausman@gmail.com
END:VEVENT
BEGIN:VEVENT
DTSTART;TZID=Europe/Madrid:20260928T100000
DTEND;TZID=Europe/Madrid:20260928T111500
DTSTAMP:20260419T170919
CREATED:20250906T195742Z
LAST-MODIFIED:20250906T200056Z
UID:10007384-1790589600-1790594100@dev.u3acostabrava.org
SUMMARY:Tai Chi
DESCRIPTION:A weekly Monday class for all levels.  Beginners welcome.
URL:https://dev.u3acostabrava.org/event/tai-chi-2/2026-09-28/
LOCATION:Maitai Center in Palafrugell\, Carrer de Pi i Margall\, 101\, Palafrugell\, 17200
CATEGORIES:Sport,Tai Chi
ATTACH;FMTTYPE=image/jpeg:https://dev.u3acostabrava.org/wp-content/uploads/2024/09/Stick-tai.jpg
ORGANIZER;CN="Annette Hausman":MAILTO:annettehausman@gmail.com
END:VEVENT
BEGIN:VEVENT
DTSTART;TZID=Europe/Madrid:20261005T100000
DTEND;TZID=Europe/Madrid:20261005T111500
DTSTAMP:20260419T170919
CREATED:20250906T195742Z
LAST-MODIFIED:20250906T200056Z
UID:10007385-1791194400-1791198900@dev.u3acostabrava.org
SUMMARY:Tai Chi
DESCRIPTION:A weekly Monday class for all levels.  Beginners welcome.
URL:https://dev.u3acostabrava.org/event/tai-chi-2/2026-10-05/
LOCATION:Maitai Center in Palafrugell\, Carrer de Pi i Margall\, 101\, Palafrugell\, 17200
CATEGORIES:Sport,Tai Chi
ATTACH;FMTTYPE=image/jpeg:https://dev.u3acostabrava.org/wp-content/uploads/2024/09/Stick-tai.jpg
ORGANIZER;CN="Annette Hausman":MAILTO:annettehausman@gmail.com
END:VEVENT
BEGIN:VEVENT
DTSTART;TZID=Europe/Madrid:20261012T100000
DTEND;TZID=Europe/Madrid:20261012T111500
DTSTAMP:20260419T170919
CREATED:20250906T195742Z
LAST-MODIFIED:20250906T200056Z
UID:10007386-1791799200-1791803700@dev.u3acostabrava.org
SUMMARY:Tai Chi
DESCRIPTION:A weekly Monday class for all levels.  Beginners welcome.
URL:https://dev.u3acostabrava.org/event/tai-chi-2/2026-10-12/
LOCATION:Maitai Center in Palafrugell\, Carrer de Pi i Margall\, 101\, Palafrugell\, 17200
CATEGORIES:Sport,Tai Chi
ATTACH;FMTTYPE=image/jpeg:https://dev.u3acostabrava.org/wp-content/uploads/2024/09/Stick-tai.jpg
ORGANIZER;CN="Annette Hausman":MAILTO:annettehausman@gmail.com
END:VEVENT
BEGIN:VEVENT
DTSTART;TZID=Europe/Madrid:20261019T100000
DTEND;TZID=Europe/Madrid:20261019T111500
DTSTAMP:20260419T170919
CREATED:20250906T195742Z
LAST-MODIFIED:20250906T200056Z
UID:10007387-1792404000-1792408500@dev.u3acostabrava.org
SUMMARY:Tai Chi
DESCRIPTION:A weekly Monday class for all levels.  Beginners welcome.
URL:https://dev.u3acostabrava.org/event/tai-chi-2/2026-10-19/
LOCATION:Maitai Center in Palafrugell\, Carrer de Pi i Margall\, 101\, Palafrugell\, 17200
CATEGORIES:Sport,Tai Chi
ATTACH;FMTTYPE=image/jpeg:https://dev.u3acostabrava.org/wp-content/uploads/2024/09/Stick-tai.jpg
ORGANIZER;CN="Annette Hausman":MAILTO:annettehausman@gmail.com
END:VEVENT
BEGIN:VEVENT
DTSTART;TZID=Europe/Madrid:20261026T100000
DTEND;TZID=Europe/Madrid:20261026T111500
DTSTAMP:20260419T170919
CREATED:20250906T195742Z
LAST-MODIFIED:20250906T200056Z
UID:10007388-1793008800-1793013300@dev.u3acostabrava.org
SUMMARY:Tai Chi
DESCRIPTION:A weekly Monday class for all levels.  Beginners welcome.
URL:https://dev.u3acostabrava.org/event/tai-chi-2/2026-10-26/
LOCATION:Maitai Center in Palafrugell\, Carrer de Pi i Margall\, 101\, Palafrugell\, 17200
CATEGORIES:Sport,Tai Chi
ATTACH;FMTTYPE=image/jpeg:https://dev.u3acostabrava.org/wp-content/uploads/2024/09/Stick-tai.jpg
ORGANIZER;CN="Annette Hausman":MAILTO:annettehausman@gmail.com
END:VEVENT
BEGIN:VEVENT
DTSTART;TZID=Europe/Madrid:20261102T100000
DTEND;TZID=Europe/Madrid:20261102T111500
DTSTAMP:20260419T170919
CREATED:20250906T195742Z
LAST-MODIFIED:20250906T200056Z
UID:10007389-1793613600-1793618100@dev.u3acostabrava.org
SUMMARY:Tai Chi
DESCRIPTION:A weekly Monday class for all levels.  Beginners welcome.
URL:https://dev.u3acostabrava.org/event/tai-chi-2/2026-11-02/
LOCATION:Maitai Center in Palafrugell\, Carrer de Pi i Margall\, 101\, Palafrugell\, 17200
CATEGORIES:Sport,Tai Chi
ATTACH;FMTTYPE=image/jpeg:https://dev.u3acostabrava.org/wp-content/uploads/2024/09/Stick-tai.jpg
ORGANIZER;CN="Annette Hausman":MAILTO:annettehausman@gmail.com
END:VEVENT
BEGIN:VEVENT
DTSTART;TZID=Europe/Madrid:20261109T100000
DTEND;TZID=Europe/Madrid:20261109T111500
DTSTAMP:20260419T170919
CREATED:20250906T195742Z
LAST-MODIFIED:20250906T200056Z
UID:10007390-1794218400-1794222900@dev.u3acostabrava.org
SUMMARY:Tai Chi
DESCRIPTION:A weekly Monday class for all levels.  Beginners welcome.
URL:https://dev.u3acostabrava.org/event/tai-chi-2/2026-11-09/
LOCATION:Maitai Center in Palafrugell\, Carrer de Pi i Margall\, 101\, Palafrugell\, 17200
CATEGORIES:Sport,Tai Chi
ATTACH;FMTTYPE=image/jpeg:https://dev.u3acostabrava.org/wp-content/uploads/2024/09/Stick-tai.jpg
ORGANIZER;CN="Annette Hausman":MAILTO:annettehausman@gmail.com
END:VEVENT
BEGIN:VEVENT
DTSTART;TZID=Europe/Madrid:20261116T100000
DTEND;TZID=Europe/Madrid:20261116T111500
DTSTAMP:20260419T170919
CREATED:20250906T195742Z
LAST-MODIFIED:20250906T200056Z
UID:10007391-1794823200-1794827700@dev.u3acostabrava.org
SUMMARY:Tai Chi
DESCRIPTION:A weekly Monday class for all levels.  Beginners welcome.
URL:https://dev.u3acostabrava.org/event/tai-chi-2/2026-11-16/
LOCATION:Maitai Center in Palafrugell\, Carrer de Pi i Margall\, 101\, Palafrugell\, 17200
CATEGORIES:Sport,Tai Chi
ATTACH;FMTTYPE=image/jpeg:https://dev.u3acostabrava.org/wp-content/uploads/2024/09/Stick-tai.jpg
ORGANIZER;CN="Annette Hausman":MAILTO:annettehausman@gmail.com
END:VEVENT
BEGIN:VEVENT
DTSTART;TZID=Europe/Madrid:20261123T100000
DTEND;TZID=Europe/Madrid:20261123T111500
DTSTAMP:20260419T170919
CREATED:20250906T195742Z
LAST-MODIFIED:20250906T200056Z
UID:10007392-1795428000-1795432500@dev.u3acostabrava.org
SUMMARY:Tai Chi
DESCRIPTION:A weekly Monday class for all levels.  Beginners welcome.
URL:https://dev.u3acostabrava.org/event/tai-chi-2/2026-11-23/
LOCATION:Maitai Center in Palafrugell\, Carrer de Pi i Margall\, 101\, Palafrugell\, 17200
CATEGORIES:Sport,Tai Chi
ATTACH;FMTTYPE=image/jpeg:https://dev.u3acostabrava.org/wp-content/uploads/2024/09/Stick-tai.jpg
ORGANIZER;CN="Annette Hausman":MAILTO:annettehausman@gmail.com
END:VEVENT
BEGIN:VEVENT
DTSTART;TZID=Europe/Madrid:20261130T100000
DTEND;TZID=Europe/Madrid:20261130T111500
DTSTAMP:20260419T170919
CREATED:20250906T195742Z
LAST-MODIFIED:20250906T200056Z
UID:10007393-1796032800-1796037300@dev.u3acostabrava.org
SUMMARY:Tai Chi
DESCRIPTION:A weekly Monday class for all levels.  Beginners welcome.
URL:https://dev.u3acostabrava.org/event/tai-chi-2/2026-11-30/
LOCATION:Maitai Center in Palafrugell\, Carrer de Pi i Margall\, 101\, Palafrugell\, 17200
CATEGORIES:Sport,Tai Chi
ATTACH;FMTTYPE=image/jpeg:https://dev.u3acostabrava.org/wp-content/uploads/2024/09/Stick-tai.jpg
ORGANIZER;CN="Annette Hausman":MAILTO:annettehausman@gmail.com
END:VEVENT
BEGIN:VEVENT
DTSTART;TZID=Europe/Madrid:20261207T100000
DTEND;TZID=Europe/Madrid:20261207T111500
DTSTAMP:20260419T170919
CREATED:20250906T195742Z
LAST-MODIFIED:20250906T200056Z
UID:10007394-1796637600-1796642100@dev.u3acostabrava.org
SUMMARY:Tai Chi
DESCRIPTION:A weekly Monday class for all levels.  Beginners welcome.
URL:https://dev.u3acostabrava.org/event/tai-chi-2/2026-12-07/
LOCATION:Maitai Center in Palafrugell\, Carrer de Pi i Margall\, 101\, Palafrugell\, 17200
CATEGORIES:Sport,Tai Chi
ATTACH;FMTTYPE=image/jpeg:https://dev.u3acostabrava.org/wp-content/uploads/2024/09/Stick-tai.jpg
ORGANIZER;CN="Annette Hausman":MAILTO:annettehausman@gmail.com
END:VEVENT
BEGIN:VEVENT
DTSTART;TZID=Europe/Madrid:20261214T100000
DTEND;TZID=Europe/Madrid:20261214T111500
DTSTAMP:20260419T170919
CREATED:20250906T195742Z
LAST-MODIFIED:20250906T200056Z
UID:10007395-1797242400-1797246900@dev.u3acostabrava.org
SUMMARY:Tai Chi
DESCRIPTION:A weekly Monday class for all levels.  Beginners welcome.
URL:https://dev.u3acostabrava.org/event/tai-chi-2/2026-12-14/
LOCATION:Maitai Center in Palafrugell\, Carrer de Pi i Margall\, 101\, Palafrugell\, 17200
CATEGORIES:Sport,Tai Chi
ATTACH;FMTTYPE=image/jpeg:https://dev.u3acostabrava.org/wp-content/uploads/2024/09/Stick-tai.jpg
ORGANIZER;CN="Annette Hausman":MAILTO:annettehausman@gmail.com
END:VEVENT
BEGIN:VEVENT
DTSTART;TZID=Europe/Madrid:20261221T100000
DTEND;TZID=Europe/Madrid:20261221T111500
DTSTAMP:20260419T170919
CREATED:20250906T195742Z
LAST-MODIFIED:20250906T200056Z
UID:10007396-1797847200-1797851700@dev.u3acostabrava.org
SUMMARY:Tai Chi
DESCRIPTION:A weekly Monday class for all levels.  Beginners welcome.
URL:https://dev.u3acostabrava.org/event/tai-chi-2/2026-12-21/
LOCATION:Maitai Center in Palafrugell\, Carrer de Pi i Margall\, 101\, Palafrugell\, 17200
CATEGORIES:Sport,Tai Chi
ATTACH;FMTTYPE=image/jpeg:https://dev.u3acostabrava.org/wp-content/uploads/2024/09/Stick-tai.jpg
ORGANIZER;CN="Annette Hausman":MAILTO:annettehausman@gmail.com
END:VEVENT
BEGIN:VEVENT
DTSTART;TZID=Europe/Madrid:20261228T100000
DTEND;TZID=Europe/Madrid:20261228T111500
DTSTAMP:20260419T170919
CREATED:20250906T195742Z
LAST-MODIFIED:20250906T200056Z
UID:10007397-1798452000-1798456500@dev.u3acostabrava.org
SUMMARY:Tai Chi
DESCRIPTION:A weekly Monday class for all levels.  Beginners welcome.
URL:https://dev.u3acostabrava.org/event/tai-chi-2/2026-12-28/
LOCATION:Maitai Center in Palafrugell\, Carrer de Pi i Margall\, 101\, Palafrugell\, 17200
CATEGORIES:Sport,Tai Chi
ATTACH;FMTTYPE=image/jpeg:https://dev.u3acostabrava.org/wp-content/uploads/2024/09/Stick-tai.jpg
ORGANIZER;CN="Annette Hausman":MAILTO:annettehausman@gmail.com
END:VEVENT
BEGIN:VEVENT
DTSTART;TZID=Europe/Madrid:20270104T100000
DTEND;TZID=Europe/Madrid:20270104T111500
DTSTAMP:20260419T170919
CREATED:20250906T195742Z
LAST-MODIFIED:20250906T200056Z
UID:10007398-1799056800-1799061300@dev.u3acostabrava.org
SUMMARY:Tai Chi
DESCRIPTION:A weekly Monday class for all levels.  Beginners welcome.
URL:https://dev.u3acostabrava.org/event/tai-chi-2/2027-01-04/
LOCATION:Maitai Center in Palafrugell\, Carrer de Pi i Margall\, 101\, Palafrugell\, 17200
CATEGORIES:Sport,Tai Chi
ATTACH;FMTTYPE=image/jpeg:https://dev.u3acostabrava.org/wp-content/uploads/2024/09/Stick-tai.jpg
ORGANIZER;CN="Annette Hausman":MAILTO:annettehausman@gmail.com
END:VEVENT
BEGIN:VEVENT
DTSTART;TZID=Europe/Madrid:20270111T100000
DTEND;TZID=Europe/Madrid:20270111T111500
DTSTAMP:20260419T170919
CREATED:20250906T195742Z
LAST-MODIFIED:20250906T200056Z
UID:10007399-1799661600-1799666100@dev.u3acostabrava.org
SUMMARY:Tai Chi
DESCRIPTION:A weekly Monday class for all levels.  Beginners welcome.
URL:https://dev.u3acostabrava.org/event/tai-chi-2/2027-01-11/
LOCATION:Maitai Center in Palafrugell\, Carrer de Pi i Margall\, 101\, Palafrugell\, 17200
CATEGORIES:Sport,Tai Chi
ATTACH;FMTTYPE=image/jpeg:https://dev.u3acostabrava.org/wp-content/uploads/2024/09/Stick-tai.jpg
ORGANIZER;CN="Annette Hausman":MAILTO:annettehausman@gmail.com
END:VEVENT
BEGIN:VEVENT
DTSTART;TZID=Europe/Madrid:20270118T100000
DTEND;TZID=Europe/Madrid:20270118T111500
DTSTAMP:20260419T170919
CREATED:20250906T195742Z
LAST-MODIFIED:20250906T200056Z
UID:10007400-1800266400-1800270900@dev.u3acostabrava.org
SUMMARY:Tai Chi
DESCRIPTION:A weekly Monday class for all levels.  Beginners welcome.
URL:https://dev.u3acostabrava.org/event/tai-chi-2/2027-01-18/
LOCATION:Maitai Center in Palafrugell\, Carrer de Pi i Margall\, 101\, Palafrugell\, 17200
CATEGORIES:Sport,Tai Chi
ATTACH;FMTTYPE=image/jpeg:https://dev.u3acostabrava.org/wp-content/uploads/2024/09/Stick-tai.jpg
ORGANIZER;CN="Annette Hausman":MAILTO:annettehausman@gmail.com
END:VEVENT
BEGIN:VEVENT
DTSTART;TZID=Europe/Madrid:20270125T100000
DTEND;TZID=Europe/Madrid:20270125T111500
DTSTAMP:20260419T170919
CREATED:20250906T195742Z
LAST-MODIFIED:20250906T200056Z
UID:10007401-1800871200-1800875700@dev.u3acostabrava.org
SUMMARY:Tai Chi
DESCRIPTION:A weekly Monday class for all levels.  Beginners welcome.
URL:https://dev.u3acostabrava.org/event/tai-chi-2/2027-01-25/
LOCATION:Maitai Center in Palafrugell\, Carrer de Pi i Margall\, 101\, Palafrugell\, 17200
CATEGORIES:Sport,Tai Chi
ATTACH;FMTTYPE=image/jpeg:https://dev.u3acostabrava.org/wp-content/uploads/2024/09/Stick-tai.jpg
ORGANIZER;CN="Annette Hausman":MAILTO:annettehausman@gmail.com
END:VEVENT
BEGIN:VEVENT
DTSTART;TZID=Europe/Madrid:20270201T100000
DTEND;TZID=Europe/Madrid:20270201T111500
DTSTAMP:20260419T170919
CREATED:20250906T195742Z
LAST-MODIFIED:20250906T200056Z
UID:10007402-1801476000-1801480500@dev.u3acostabrava.org
SUMMARY:Tai Chi
DESCRIPTION:A weekly Monday class for all levels.  Beginners welcome.
URL:https://dev.u3acostabrava.org/event/tai-chi-2/2027-02-01/
LOCATION:Maitai Center in Palafrugell\, Carrer de Pi i Margall\, 101\, Palafrugell\, 17200
CATEGORIES:Sport,Tai Chi
ATTACH;FMTTYPE=image/jpeg:https://dev.u3acostabrava.org/wp-content/uploads/2024/09/Stick-tai.jpg
ORGANIZER;CN="Annette Hausman":MAILTO:annettehausman@gmail.com
END:VEVENT
END:VCALENDAR