BEGIN:VCALENDAR
VERSION:2.0
PRODID:-//U3A Costa Brava - ECPv6.15.14//NONSGML v1.0//EN
CALSCALE:GREGORIAN
METHOD:PUBLISH
X-ORIGINAL-URL:https://dev.u3acostabrava.org
X-WR-CALDESC:Events for U3A Costa Brava
REFRESH-INTERVAL;VALUE=DURATION:PT1H
X-Robots-Tag:noindex
X-PUBLISHED-TTL:PT1H
BEGIN:VTIMEZONE
TZID:Europe/Madrid
BEGIN:DAYLIGHT
TZOFFSETFROM:+0100
TZOFFSETTO:+0200
TZNAME:CEST
DTSTART:20270328T010000
END:DAYLIGHT
BEGIN:STANDARD
TZOFFSETFROM:+0200
TZOFFSETTO:+0100
TZNAME:CET
DTSTART:20271031T010000
END:STANDARD
BEGIN:DAYLIGHT
TZOFFSETFROM:+0100
TZOFFSETTO:+0200
TZNAME:CEST
DTSTART:20280326T010000
END:DAYLIGHT
BEGIN:STANDARD
TZOFFSETFROM:+0200
TZOFFSETTO:+0100
TZNAME:CET
DTSTART:20281029T010000
END:STANDARD
BEGIN:DAYLIGHT
TZOFFSETFROM:+0100
TZOFFSETTO:+0200
TZNAME:CEST
DTSTART:20290325T010000
END:DAYLIGHT
BEGIN:STANDARD
TZOFFSETFROM:+0200
TZOFFSETTO:+0100
TZNAME:CET
DTSTART:20291028T010000
END:STANDARD
END:VTIMEZONE
BEGIN:VEVENT
DTSTART;TZID=Europe/Madrid:20280515T100000
DTEND;TZID=Europe/Madrid:20280515T111500
DTSTAMP:20260420T064440
CREATED:20250906T195742Z
LAST-MODIFIED:20250906T200056Z
UID:10007469-1841997600-1842002100@dev.u3acostabrava.org
SUMMARY:Tai Chi
DESCRIPTION:A weekly Monday class for all levels.  Beginners welcome.
URL:https://dev.u3acostabrava.org/event/tai-chi-2/2028-05-15/
LOCATION:Maitai Center in Palafrugell\, Carrer de Pi i Margall\, 101\, Palafrugell\, 17200
CATEGORIES:Sport,Tai Chi
ATTACH;FMTTYPE=image/jpeg:https://dev.u3acostabrava.org/wp-content/uploads/2024/09/Stick-tai.jpg
ORGANIZER;CN="Annette Hausman":MAILTO:annettehausman@gmail.com
END:VEVENT
BEGIN:VEVENT
DTSTART;TZID=Europe/Madrid:20280522T100000
DTEND;TZID=Europe/Madrid:20280522T111500
DTSTAMP:20260420T064440
CREATED:20250906T195742Z
LAST-MODIFIED:20250906T200056Z
UID:10007470-1842602400-1842606900@dev.u3acostabrava.org
SUMMARY:Tai Chi
DESCRIPTION:A weekly Monday class for all levels.  Beginners welcome.
URL:https://dev.u3acostabrava.org/event/tai-chi-2/2028-05-22/
LOCATION:Maitai Center in Palafrugell\, Carrer de Pi i Margall\, 101\, Palafrugell\, 17200
CATEGORIES:Sport,Tai Chi
ATTACH;FMTTYPE=image/jpeg:https://dev.u3acostabrava.org/wp-content/uploads/2024/09/Stick-tai.jpg
ORGANIZER;CN="Annette Hausman":MAILTO:annettehausman@gmail.com
END:VEVENT
BEGIN:VEVENT
DTSTART;TZID=Europe/Madrid:20280529T100000
DTEND;TZID=Europe/Madrid:20280529T111500
DTSTAMP:20260420T064440
CREATED:20250906T195742Z
LAST-MODIFIED:20250906T200056Z
UID:10007471-1843207200-1843211700@dev.u3acostabrava.org
SUMMARY:Tai Chi
DESCRIPTION:A weekly Monday class for all levels.  Beginners welcome.
URL:https://dev.u3acostabrava.org/event/tai-chi-2/2028-05-29/
LOCATION:Maitai Center in Palafrugell\, Carrer de Pi i Margall\, 101\, Palafrugell\, 17200
CATEGORIES:Sport,Tai Chi
ATTACH;FMTTYPE=image/jpeg:https://dev.u3acostabrava.org/wp-content/uploads/2024/09/Stick-tai.jpg
ORGANIZER;CN="Annette Hausman":MAILTO:annettehausman@gmail.com
END:VEVENT
BEGIN:VEVENT
DTSTART;TZID=Europe/Madrid:20280605T100000
DTEND;TZID=Europe/Madrid:20280605T111500
DTSTAMP:20260420T064440
CREATED:20250906T195742Z
LAST-MODIFIED:20250906T200056Z
UID:10007472-1843812000-1843816500@dev.u3acostabrava.org
SUMMARY:Tai Chi
DESCRIPTION:A weekly Monday class for all levels.  Beginners welcome.
URL:https://dev.u3acostabrava.org/event/tai-chi-2/2028-06-05/
LOCATION:Maitai Center in Palafrugell\, Carrer de Pi i Margall\, 101\, Palafrugell\, 17200
CATEGORIES:Sport,Tai Chi
ATTACH;FMTTYPE=image/jpeg:https://dev.u3acostabrava.org/wp-content/uploads/2024/09/Stick-tai.jpg
ORGANIZER;CN="Annette Hausman":MAILTO:annettehausman@gmail.com
END:VEVENT
BEGIN:VEVENT
DTSTART;TZID=Europe/Madrid:20280612T100000
DTEND;TZID=Europe/Madrid:20280612T111500
DTSTAMP:20260420T064440
CREATED:20250906T195742Z
LAST-MODIFIED:20250906T200056Z
UID:10007473-1844416800-1844421300@dev.u3acostabrava.org
SUMMARY:Tai Chi
DESCRIPTION:A weekly Monday class for all levels.  Beginners welcome.
URL:https://dev.u3acostabrava.org/event/tai-chi-2/2028-06-12/
LOCATION:Maitai Center in Palafrugell\, Carrer de Pi i Margall\, 101\, Palafrugell\, 17200
CATEGORIES:Sport,Tai Chi
ATTACH;FMTTYPE=image/jpeg:https://dev.u3acostabrava.org/wp-content/uploads/2024/09/Stick-tai.jpg
ORGANIZER;CN="Annette Hausman":MAILTO:annettehausman@gmail.com
END:VEVENT
BEGIN:VEVENT
DTSTART;TZID=Europe/Madrid:20280619T100000
DTEND;TZID=Europe/Madrid:20280619T111500
DTSTAMP:20260420T064440
CREATED:20250906T195742Z
LAST-MODIFIED:20250906T200056Z
UID:10007474-1845021600-1845026100@dev.u3acostabrava.org
SUMMARY:Tai Chi
DESCRIPTION:A weekly Monday class for all levels.  Beginners welcome.
URL:https://dev.u3acostabrava.org/event/tai-chi-2/2028-06-19/
LOCATION:Maitai Center in Palafrugell\, Carrer de Pi i Margall\, 101\, Palafrugell\, 17200
CATEGORIES:Sport,Tai Chi
ATTACH;FMTTYPE=image/jpeg:https://dev.u3acostabrava.org/wp-content/uploads/2024/09/Stick-tai.jpg
ORGANIZER;CN="Annette Hausman":MAILTO:annettehausman@gmail.com
END:VEVENT
BEGIN:VEVENT
DTSTART;TZID=Europe/Madrid:20280626T100000
DTEND;TZID=Europe/Madrid:20280626T111500
DTSTAMP:20260420T064440
CREATED:20250906T195742Z
LAST-MODIFIED:20250906T200056Z
UID:10007475-1845626400-1845630900@dev.u3acostabrava.org
SUMMARY:Tai Chi
DESCRIPTION:A weekly Monday class for all levels.  Beginners welcome.
URL:https://dev.u3acostabrava.org/event/tai-chi-2/2028-06-26/
LOCATION:Maitai Center in Palafrugell\, Carrer de Pi i Margall\, 101\, Palafrugell\, 17200
CATEGORIES:Sport,Tai Chi
ATTACH;FMTTYPE=image/jpeg:https://dev.u3acostabrava.org/wp-content/uploads/2024/09/Stick-tai.jpg
ORGANIZER;CN="Annette Hausman":MAILTO:annettehausman@gmail.com
END:VEVENT
BEGIN:VEVENT
DTSTART;TZID=Europe/Madrid:20280703T100000
DTEND;TZID=Europe/Madrid:20280703T111500
DTSTAMP:20260420T064440
CREATED:20250906T195742Z
LAST-MODIFIED:20250906T200056Z
UID:10007476-1846231200-1846235700@dev.u3acostabrava.org
SUMMARY:Tai Chi
DESCRIPTION:A weekly Monday class for all levels.  Beginners welcome.
URL:https://dev.u3acostabrava.org/event/tai-chi-2/2028-07-03/
LOCATION:Maitai Center in Palafrugell\, Carrer de Pi i Margall\, 101\, Palafrugell\, 17200
CATEGORIES:Sport,Tai Chi
ATTACH;FMTTYPE=image/jpeg:https://dev.u3acostabrava.org/wp-content/uploads/2024/09/Stick-tai.jpg
ORGANIZER;CN="Annette Hausman":MAILTO:annettehausman@gmail.com
END:VEVENT
BEGIN:VEVENT
DTSTART;TZID=Europe/Madrid:20280710T100000
DTEND;TZID=Europe/Madrid:20280710T111500
DTSTAMP:20260420T064440
CREATED:20250906T195742Z
LAST-MODIFIED:20250906T200056Z
UID:10007477-1846836000-1846840500@dev.u3acostabrava.org
SUMMARY:Tai Chi
DESCRIPTION:A weekly Monday class for all levels.  Beginners welcome.
URL:https://dev.u3acostabrava.org/event/tai-chi-2/2028-07-10/
LOCATION:Maitai Center in Palafrugell\, Carrer de Pi i Margall\, 101\, Palafrugell\, 17200
CATEGORIES:Sport,Tai Chi
ATTACH;FMTTYPE=image/jpeg:https://dev.u3acostabrava.org/wp-content/uploads/2024/09/Stick-tai.jpg
ORGANIZER;CN="Annette Hausman":MAILTO:annettehausman@gmail.com
END:VEVENT
BEGIN:VEVENT
DTSTART;TZID=Europe/Madrid:20280717T100000
DTEND;TZID=Europe/Madrid:20280717T111500
DTSTAMP:20260420T064440
CREATED:20250906T195742Z
LAST-MODIFIED:20250906T200056Z
UID:10007478-1847440800-1847445300@dev.u3acostabrava.org
SUMMARY:Tai Chi
DESCRIPTION:A weekly Monday class for all levels.  Beginners welcome.
URL:https://dev.u3acostabrava.org/event/tai-chi-2/2028-07-17/
LOCATION:Maitai Center in Palafrugell\, Carrer de Pi i Margall\, 101\, Palafrugell\, 17200
CATEGORIES:Sport,Tai Chi
ATTACH;FMTTYPE=image/jpeg:https://dev.u3acostabrava.org/wp-content/uploads/2024/09/Stick-tai.jpg
ORGANIZER;CN="Annette Hausman":MAILTO:annettehausman@gmail.com
END:VEVENT
BEGIN:VEVENT
DTSTART;TZID=Europe/Madrid:20280724T100000
DTEND;TZID=Europe/Madrid:20280724T111500
DTSTAMP:20260420T064440
CREATED:20250906T195742Z
LAST-MODIFIED:20250906T200056Z
UID:10007479-1848045600-1848050100@dev.u3acostabrava.org
SUMMARY:Tai Chi
DESCRIPTION:A weekly Monday class for all levels.  Beginners welcome.
URL:https://dev.u3acostabrava.org/event/tai-chi-2/2028-07-24/
LOCATION:Maitai Center in Palafrugell\, Carrer de Pi i Margall\, 101\, Palafrugell\, 17200
CATEGORIES:Sport,Tai Chi
ATTACH;FMTTYPE=image/jpeg:https://dev.u3acostabrava.org/wp-content/uploads/2024/09/Stick-tai.jpg
ORGANIZER;CN="Annette Hausman":MAILTO:annettehausman@gmail.com
END:VEVENT
BEGIN:VEVENT
DTSTART;TZID=Europe/Madrid:20280731T100000
DTEND;TZID=Europe/Madrid:20280731T111500
DTSTAMP:20260420T064440
CREATED:20250906T195742Z
LAST-MODIFIED:20250906T200056Z
UID:10007480-1848650400-1848654900@dev.u3acostabrava.org
SUMMARY:Tai Chi
DESCRIPTION:A weekly Monday class for all levels.  Beginners welcome.
URL:https://dev.u3acostabrava.org/event/tai-chi-2/2028-07-31/
LOCATION:Maitai Center in Palafrugell\, Carrer de Pi i Margall\, 101\, Palafrugell\, 17200
CATEGORIES:Sport,Tai Chi
ATTACH;FMTTYPE=image/jpeg:https://dev.u3acostabrava.org/wp-content/uploads/2024/09/Stick-tai.jpg
ORGANIZER;CN="Annette Hausman":MAILTO:annettehausman@gmail.com
END:VEVENT
BEGIN:VEVENT
DTSTART;TZID=Europe/Madrid:20280807T100000
DTEND;TZID=Europe/Madrid:20280807T111500
DTSTAMP:20260420T064440
CREATED:20250906T195742Z
LAST-MODIFIED:20250906T200056Z
UID:10007481-1849255200-1849259700@dev.u3acostabrava.org
SUMMARY:Tai Chi
DESCRIPTION:A weekly Monday class for all levels.  Beginners welcome.
URL:https://dev.u3acostabrava.org/event/tai-chi-2/2028-08-07/
LOCATION:Maitai Center in Palafrugell\, Carrer de Pi i Margall\, 101\, Palafrugell\, 17200
CATEGORIES:Sport,Tai Chi
ATTACH;FMTTYPE=image/jpeg:https://dev.u3acostabrava.org/wp-content/uploads/2024/09/Stick-tai.jpg
ORGANIZER;CN="Annette Hausman":MAILTO:annettehausman@gmail.com
END:VEVENT
BEGIN:VEVENT
DTSTART;TZID=Europe/Madrid:20280814T100000
DTEND;TZID=Europe/Madrid:20280814T111500
DTSTAMP:20260420T064440
CREATED:20250906T195742Z
LAST-MODIFIED:20250906T200056Z
UID:10007482-1849860000-1849864500@dev.u3acostabrava.org
SUMMARY:Tai Chi
DESCRIPTION:A weekly Monday class for all levels.  Beginners welcome.
URL:https://dev.u3acostabrava.org/event/tai-chi-2/2028-08-14/
LOCATION:Maitai Center in Palafrugell\, Carrer de Pi i Margall\, 101\, Palafrugell\, 17200
CATEGORIES:Sport,Tai Chi
ATTACH;FMTTYPE=image/jpeg:https://dev.u3acostabrava.org/wp-content/uploads/2024/09/Stick-tai.jpg
ORGANIZER;CN="Annette Hausman":MAILTO:annettehausman@gmail.com
END:VEVENT
BEGIN:VEVENT
DTSTART;TZID=Europe/Madrid:20280821T100000
DTEND;TZID=Europe/Madrid:20280821T111500
DTSTAMP:20260420T064440
CREATED:20250906T195742Z
LAST-MODIFIED:20250906T200056Z
UID:10007483-1850464800-1850469300@dev.u3acostabrava.org
SUMMARY:Tai Chi
DESCRIPTION:A weekly Monday class for all levels.  Beginners welcome.
URL:https://dev.u3acostabrava.org/event/tai-chi-2/2028-08-21/
LOCATION:Maitai Center in Palafrugell\, Carrer de Pi i Margall\, 101\, Palafrugell\, 17200
CATEGORIES:Sport,Tai Chi
ATTACH;FMTTYPE=image/jpeg:https://dev.u3acostabrava.org/wp-content/uploads/2024/09/Stick-tai.jpg
ORGANIZER;CN="Annette Hausman":MAILTO:annettehausman@gmail.com
END:VEVENT
BEGIN:VEVENT
DTSTART;TZID=Europe/Madrid:20280828T100000
DTEND;TZID=Europe/Madrid:20280828T111500
DTSTAMP:20260420T064440
CREATED:20250906T195742Z
LAST-MODIFIED:20250906T200056Z
UID:10007484-1851069600-1851074100@dev.u3acostabrava.org
SUMMARY:Tai Chi
DESCRIPTION:A weekly Monday class for all levels.  Beginners welcome.
URL:https://dev.u3acostabrava.org/event/tai-chi-2/2028-08-28/
LOCATION:Maitai Center in Palafrugell\, Carrer de Pi i Margall\, 101\, Palafrugell\, 17200
CATEGORIES:Sport,Tai Chi
ATTACH;FMTTYPE=image/jpeg:https://dev.u3acostabrava.org/wp-content/uploads/2024/09/Stick-tai.jpg
ORGANIZER;CN="Annette Hausman":MAILTO:annettehausman@gmail.com
END:VEVENT
BEGIN:VEVENT
DTSTART;TZID=Europe/Madrid:20280904T100000
DTEND;TZID=Europe/Madrid:20280904T111500
DTSTAMP:20260420T064440
CREATED:20250906T195742Z
LAST-MODIFIED:20250906T200056Z
UID:10007485-1851674400-1851678900@dev.u3acostabrava.org
SUMMARY:Tai Chi
DESCRIPTION:A weekly Monday class for all levels.  Beginners welcome.
URL:https://dev.u3acostabrava.org/event/tai-chi-2/2028-09-04/
LOCATION:Maitai Center in Palafrugell\, Carrer de Pi i Margall\, 101\, Palafrugell\, 17200
CATEGORIES:Sport,Tai Chi
ATTACH;FMTTYPE=image/jpeg:https://dev.u3acostabrava.org/wp-content/uploads/2024/09/Stick-tai.jpg
ORGANIZER;CN="Annette Hausman":MAILTO:annettehausman@gmail.com
END:VEVENT
BEGIN:VEVENT
DTSTART;TZID=Europe/Madrid:20280911T100000
DTEND;TZID=Europe/Madrid:20280911T111500
DTSTAMP:20260420T064440
CREATED:20250906T195742Z
LAST-MODIFIED:20250906T200056Z
UID:10007486-1852279200-1852283700@dev.u3acostabrava.org
SUMMARY:Tai Chi
DESCRIPTION:A weekly Monday class for all levels.  Beginners welcome.
URL:https://dev.u3acostabrava.org/event/tai-chi-2/2028-09-11/
LOCATION:Maitai Center in Palafrugell\, Carrer de Pi i Margall\, 101\, Palafrugell\, 17200
CATEGORIES:Sport,Tai Chi
ATTACH;FMTTYPE=image/jpeg:https://dev.u3acostabrava.org/wp-content/uploads/2024/09/Stick-tai.jpg
ORGANIZER;CN="Annette Hausman":MAILTO:annettehausman@gmail.com
END:VEVENT
BEGIN:VEVENT
DTSTART;TZID=Europe/Madrid:20280918T100000
DTEND;TZID=Europe/Madrid:20280918T111500
DTSTAMP:20260420T064440
CREATED:20250906T195742Z
LAST-MODIFIED:20250906T200056Z
UID:10007487-1852884000-1852888500@dev.u3acostabrava.org
SUMMARY:Tai Chi
DESCRIPTION:A weekly Monday class for all levels.  Beginners welcome.
URL:https://dev.u3acostabrava.org/event/tai-chi-2/2028-09-18/
LOCATION:Maitai Center in Palafrugell\, Carrer de Pi i Margall\, 101\, Palafrugell\, 17200
CATEGORIES:Sport,Tai Chi
ATTACH;FMTTYPE=image/jpeg:https://dev.u3acostabrava.org/wp-content/uploads/2024/09/Stick-tai.jpg
ORGANIZER;CN="Annette Hausman":MAILTO:annettehausman@gmail.com
END:VEVENT
BEGIN:VEVENT
DTSTART;TZID=Europe/Madrid:20280925T100000
DTEND;TZID=Europe/Madrid:20280925T111500
DTSTAMP:20260420T064440
CREATED:20250906T195742Z
LAST-MODIFIED:20250906T200056Z
UID:10007488-1853488800-1853493300@dev.u3acostabrava.org
SUMMARY:Tai Chi
DESCRIPTION:A weekly Monday class for all levels.  Beginners welcome.
URL:https://dev.u3acostabrava.org/event/tai-chi-2/2028-09-25/
LOCATION:Maitai Center in Palafrugell\, Carrer de Pi i Margall\, 101\, Palafrugell\, 17200
CATEGORIES:Sport,Tai Chi
ATTACH;FMTTYPE=image/jpeg:https://dev.u3acostabrava.org/wp-content/uploads/2024/09/Stick-tai.jpg
ORGANIZER;CN="Annette Hausman":MAILTO:annettehausman@gmail.com
END:VEVENT
BEGIN:VEVENT
DTSTART;TZID=Europe/Madrid:20281002T100000
DTEND;TZID=Europe/Madrid:20281002T111500
DTSTAMP:20260420T064440
CREATED:20250906T195742Z
LAST-MODIFIED:20250906T200056Z
UID:10007489-1854093600-1854098100@dev.u3acostabrava.org
SUMMARY:Tai Chi
DESCRIPTION:A weekly Monday class for all levels.  Beginners welcome.
URL:https://dev.u3acostabrava.org/event/tai-chi-2/2028-10-02/
LOCATION:Maitai Center in Palafrugell\, Carrer de Pi i Margall\, 101\, Palafrugell\, 17200
CATEGORIES:Sport,Tai Chi
ATTACH;FMTTYPE=image/jpeg:https://dev.u3acostabrava.org/wp-content/uploads/2024/09/Stick-tai.jpg
ORGANIZER;CN="Annette Hausman":MAILTO:annettehausman@gmail.com
END:VEVENT
BEGIN:VEVENT
DTSTART;TZID=Europe/Madrid:20281009T100000
DTEND;TZID=Europe/Madrid:20281009T111500
DTSTAMP:20260420T064440
CREATED:20250906T195742Z
LAST-MODIFIED:20250906T200056Z
UID:10007490-1854698400-1854702900@dev.u3acostabrava.org
SUMMARY:Tai Chi
DESCRIPTION:A weekly Monday class for all levels.  Beginners welcome.
URL:https://dev.u3acostabrava.org/event/tai-chi-2/2028-10-09/
LOCATION:Maitai Center in Palafrugell\, Carrer de Pi i Margall\, 101\, Palafrugell\, 17200
CATEGORIES:Sport,Tai Chi
ATTACH;FMTTYPE=image/jpeg:https://dev.u3acostabrava.org/wp-content/uploads/2024/09/Stick-tai.jpg
ORGANIZER;CN="Annette Hausman":MAILTO:annettehausman@gmail.com
END:VEVENT
BEGIN:VEVENT
DTSTART;TZID=Europe/Madrid:20281016T100000
DTEND;TZID=Europe/Madrid:20281016T111500
DTSTAMP:20260420T064440
CREATED:20250906T195742Z
LAST-MODIFIED:20250906T200056Z
UID:10007491-1855303200-1855307700@dev.u3acostabrava.org
SUMMARY:Tai Chi
DESCRIPTION:A weekly Monday class for all levels.  Beginners welcome.
URL:https://dev.u3acostabrava.org/event/tai-chi-2/2028-10-16/
LOCATION:Maitai Center in Palafrugell\, Carrer de Pi i Margall\, 101\, Palafrugell\, 17200
CATEGORIES:Sport,Tai Chi
ATTACH;FMTTYPE=image/jpeg:https://dev.u3acostabrava.org/wp-content/uploads/2024/09/Stick-tai.jpg
ORGANIZER;CN="Annette Hausman":MAILTO:annettehausman@gmail.com
END:VEVENT
BEGIN:VEVENT
DTSTART;TZID=Europe/Madrid:20281023T100000
DTEND;TZID=Europe/Madrid:20281023T111500
DTSTAMP:20260420T064440
CREATED:20250906T195742Z
LAST-MODIFIED:20250906T200056Z
UID:10007492-1855908000-1855912500@dev.u3acostabrava.org
SUMMARY:Tai Chi
DESCRIPTION:A weekly Monday class for all levels.  Beginners welcome.
URL:https://dev.u3acostabrava.org/event/tai-chi-2/2028-10-23/
LOCATION:Maitai Center in Palafrugell\, Carrer de Pi i Margall\, 101\, Palafrugell\, 17200
CATEGORIES:Sport,Tai Chi
ATTACH;FMTTYPE=image/jpeg:https://dev.u3acostabrava.org/wp-content/uploads/2024/09/Stick-tai.jpg
ORGANIZER;CN="Annette Hausman":MAILTO:annettehausman@gmail.com
END:VEVENT
BEGIN:VEVENT
DTSTART;TZID=Europe/Madrid:20281030T100000
DTEND;TZID=Europe/Madrid:20281030T111500
DTSTAMP:20260420T064440
CREATED:20250906T195742Z
LAST-MODIFIED:20250906T200056Z
UID:10007493-1856512800-1856517300@dev.u3acostabrava.org
SUMMARY:Tai Chi
DESCRIPTION:A weekly Monday class for all levels.  Beginners welcome.
URL:https://dev.u3acostabrava.org/event/tai-chi-2/2028-10-30/
LOCATION:Maitai Center in Palafrugell\, Carrer de Pi i Margall\, 101\, Palafrugell\, 17200
CATEGORIES:Sport,Tai Chi
ATTACH;FMTTYPE=image/jpeg:https://dev.u3acostabrava.org/wp-content/uploads/2024/09/Stick-tai.jpg
ORGANIZER;CN="Annette Hausman":MAILTO:annettehausman@gmail.com
END:VEVENT
BEGIN:VEVENT
DTSTART;TZID=Europe/Madrid:20281106T100000
DTEND;TZID=Europe/Madrid:20281106T111500
DTSTAMP:20260420T064440
CREATED:20250906T195742Z
LAST-MODIFIED:20250906T200056Z
UID:10007494-1857117600-1857122100@dev.u3acostabrava.org
SUMMARY:Tai Chi
DESCRIPTION:A weekly Monday class for all levels.  Beginners welcome.
URL:https://dev.u3acostabrava.org/event/tai-chi-2/2028-11-06/
LOCATION:Maitai Center in Palafrugell\, Carrer de Pi i Margall\, 101\, Palafrugell\, 17200
CATEGORIES:Sport,Tai Chi
ATTACH;FMTTYPE=image/jpeg:https://dev.u3acostabrava.org/wp-content/uploads/2024/09/Stick-tai.jpg
ORGANIZER;CN="Annette Hausman":MAILTO:annettehausman@gmail.com
END:VEVENT
BEGIN:VEVENT
DTSTART;TZID=Europe/Madrid:20281113T100000
DTEND;TZID=Europe/Madrid:20281113T111500
DTSTAMP:20260420T064440
CREATED:20250906T195742Z
LAST-MODIFIED:20250906T200056Z
UID:10007495-1857722400-1857726900@dev.u3acostabrava.org
SUMMARY:Tai Chi
DESCRIPTION:A weekly Monday class for all levels.  Beginners welcome.
URL:https://dev.u3acostabrava.org/event/tai-chi-2/2028-11-13/
LOCATION:Maitai Center in Palafrugell\, Carrer de Pi i Margall\, 101\, Palafrugell\, 17200
CATEGORIES:Sport,Tai Chi
ATTACH;FMTTYPE=image/jpeg:https://dev.u3acostabrava.org/wp-content/uploads/2024/09/Stick-tai.jpg
ORGANIZER;CN="Annette Hausman":MAILTO:annettehausman@gmail.com
END:VEVENT
BEGIN:VEVENT
DTSTART;TZID=Europe/Madrid:20281120T100000
DTEND;TZID=Europe/Madrid:20281120T111500
DTSTAMP:20260420T064440
CREATED:20250906T195742Z
LAST-MODIFIED:20250906T200056Z
UID:10007496-1858327200-1858331700@dev.u3acostabrava.org
SUMMARY:Tai Chi
DESCRIPTION:A weekly Monday class for all levels.  Beginners welcome.
URL:https://dev.u3acostabrava.org/event/tai-chi-2/2028-11-20/
LOCATION:Maitai Center in Palafrugell\, Carrer de Pi i Margall\, 101\, Palafrugell\, 17200
CATEGORIES:Sport,Tai Chi
ATTACH;FMTTYPE=image/jpeg:https://dev.u3acostabrava.org/wp-content/uploads/2024/09/Stick-tai.jpg
ORGANIZER;CN="Annette Hausman":MAILTO:annettehausman@gmail.com
END:VEVENT
BEGIN:VEVENT
DTSTART;TZID=Europe/Madrid:20281127T100000
DTEND;TZID=Europe/Madrid:20281127T111500
DTSTAMP:20260420T064440
CREATED:20250906T195742Z
LAST-MODIFIED:20250906T200056Z
UID:10007497-1858932000-1858936500@dev.u3acostabrava.org
SUMMARY:Tai Chi
DESCRIPTION:A weekly Monday class for all levels.  Beginners welcome.
URL:https://dev.u3acostabrava.org/event/tai-chi-2/2028-11-27/
LOCATION:Maitai Center in Palafrugell\, Carrer de Pi i Margall\, 101\, Palafrugell\, 17200
CATEGORIES:Sport,Tai Chi
ATTACH;FMTTYPE=image/jpeg:https://dev.u3acostabrava.org/wp-content/uploads/2024/09/Stick-tai.jpg
ORGANIZER;CN="Annette Hausman":MAILTO:annettehausman@gmail.com
END:VEVENT
BEGIN:VEVENT
DTSTART;TZID=Europe/Madrid:20281204T100000
DTEND;TZID=Europe/Madrid:20281204T111500
DTSTAMP:20260420T064440
CREATED:20250906T195742Z
LAST-MODIFIED:20250906T200056Z
UID:10007498-1859536800-1859541300@dev.u3acostabrava.org
SUMMARY:Tai Chi
DESCRIPTION:A weekly Monday class for all levels.  Beginners welcome.
URL:https://dev.u3acostabrava.org/event/tai-chi-2/2028-12-04/
LOCATION:Maitai Center in Palafrugell\, Carrer de Pi i Margall\, 101\, Palafrugell\, 17200
CATEGORIES:Sport,Tai Chi
ATTACH;FMTTYPE=image/jpeg:https://dev.u3acostabrava.org/wp-content/uploads/2024/09/Stick-tai.jpg
ORGANIZER;CN="Annette Hausman":MAILTO:annettehausman@gmail.com
END:VEVENT
END:VCALENDAR