BEGIN:VCALENDAR
VERSION:2.0
PRODID:-//U3A Costa Brava - ECPv6.15.14//NONSGML v1.0//EN
CALSCALE:GREGORIAN
METHOD:PUBLISH
X-ORIGINAL-URL:https://dev.u3acostabrava.org
X-WR-CALDESC:Events for U3A Costa Brava
REFRESH-INTERVAL;VALUE=DURATION:PT1H
X-Robots-Tag:noindex
X-PUBLISHED-TTL:PT1H
BEGIN:VTIMEZONE
TZID:Europe/Madrid
BEGIN:DAYLIGHT
TZOFFSETFROM:+0100
TZOFFSETTO:+0200
TZNAME:CEST
DTSTART:20250330T010000
END:DAYLIGHT
BEGIN:STANDARD
TZOFFSETFROM:+0200
TZOFFSETTO:+0100
TZNAME:CET
DTSTART:20251026T010000
END:STANDARD
BEGIN:DAYLIGHT
TZOFFSETFROM:+0100
TZOFFSETTO:+0200
TZNAME:CEST
DTSTART:20260329T010000
END:DAYLIGHT
BEGIN:STANDARD
TZOFFSETFROM:+0200
TZOFFSETTO:+0100
TZNAME:CET
DTSTART:20261025T010000
END:STANDARD
BEGIN:DAYLIGHT
TZOFFSETFROM:+0100
TZOFFSETTO:+0200
TZNAME:CEST
DTSTART:20270328T010000
END:DAYLIGHT
BEGIN:STANDARD
TZOFFSETFROM:+0200
TZOFFSETTO:+0100
TZNAME:CET
DTSTART:20271031T010000
END:STANDARD
END:VTIMEZONE
BEGIN:VEVENT
DTSTART;TZID=Europe/Madrid:20260413T100000
DTEND;TZID=Europe/Madrid:20260413T111500
DTSTAMP:20260419T170919
CREATED:20250906T195742Z
LAST-MODIFIED:20250906T200056Z
UID:10007360-1776074400-1776078900@dev.u3acostabrava.org
SUMMARY:Tai Chi
DESCRIPTION:A weekly Monday class for all levels.  Beginners welcome.
URL:https://dev.u3acostabrava.org/event/tai-chi-2/2026-04-13/
LOCATION:Maitai Center in Palafrugell\, Carrer de Pi i Margall\, 101\, Palafrugell\, 17200
CATEGORIES:Sport,Tai Chi
ATTACH;FMTTYPE=image/jpeg:https://dev.u3acostabrava.org/wp-content/uploads/2024/09/Stick-tai.jpg
ORGANIZER;CN="Annette Hausman":MAILTO:annettehausman@gmail.com
END:VEVENT
BEGIN:VEVENT
DTSTART;TZID=Europe/Madrid:20260406T100000
DTEND;TZID=Europe/Madrid:20260406T111500
DTSTAMP:20260419T170919
CREATED:20250906T195742Z
LAST-MODIFIED:20250906T200056Z
UID:10007359-1775469600-1775474100@dev.u3acostabrava.org
SUMMARY:Tai Chi
DESCRIPTION:A weekly Monday class for all levels.  Beginners welcome.
URL:https://dev.u3acostabrava.org/event/tai-chi-2/2026-04-06/
LOCATION:Maitai Center in Palafrugell\, Carrer de Pi i Margall\, 101\, Palafrugell\, 17200
CATEGORIES:Sport,Tai Chi
ATTACH;FMTTYPE=image/jpeg:https://dev.u3acostabrava.org/wp-content/uploads/2024/09/Stick-tai.jpg
ORGANIZER;CN="Annette Hausman":MAILTO:annettehausman@gmail.com
END:VEVENT
BEGIN:VEVENT
DTSTART;TZID=Europe/Madrid:20260330T100000
DTEND;TZID=Europe/Madrid:20260330T111500
DTSTAMP:20260419T170919
CREATED:20250906T195742Z
LAST-MODIFIED:20250906T200056Z
UID:10007358-1774864800-1774869300@dev.u3acostabrava.org
SUMMARY:Tai Chi
DESCRIPTION:A weekly Monday class for all levels.  Beginners welcome.
URL:https://dev.u3acostabrava.org/event/tai-chi-2/2026-03-30/
LOCATION:Maitai Center in Palafrugell\, Carrer de Pi i Margall\, 101\, Palafrugell\, 17200
CATEGORIES:Sport,Tai Chi
ATTACH;FMTTYPE=image/jpeg:https://dev.u3acostabrava.org/wp-content/uploads/2024/09/Stick-tai.jpg
ORGANIZER;CN="Annette Hausman":MAILTO:annettehausman@gmail.com
END:VEVENT
BEGIN:VEVENT
DTSTART;TZID=Europe/Madrid:20260323T100000
DTEND;TZID=Europe/Madrid:20260323T111500
DTSTAMP:20260419T170919
CREATED:20250906T195742Z
LAST-MODIFIED:20250906T200056Z
UID:10007357-1774260000-1774264500@dev.u3acostabrava.org
SUMMARY:Tai Chi
DESCRIPTION:A weekly Monday class for all levels.  Beginners welcome.
URL:https://dev.u3acostabrava.org/event/tai-chi-2/2026-03-23/
LOCATION:Maitai Center in Palafrugell\, Carrer de Pi i Margall\, 101\, Palafrugell\, 17200
CATEGORIES:Sport,Tai Chi
ATTACH;FMTTYPE=image/jpeg:https://dev.u3acostabrava.org/wp-content/uploads/2024/09/Stick-tai.jpg
ORGANIZER;CN="Annette Hausman":MAILTO:annettehausman@gmail.com
END:VEVENT
END:VCALENDAR