BEGIN:VCALENDAR
VERSION:2.0
PRODID:-//U3A Costa Brava - ECPv6.15.14//NONSGML v1.0//EN
CALSCALE:GREGORIAN
METHOD:PUBLISH
X-WR-CALNAME:U3A Costa Brava
X-ORIGINAL-URL:https://dev.u3acostabrava.org
X-WR-CALDESC:Events for U3A Costa Brava
REFRESH-INTERVAL;VALUE=DURATION:PT1H
X-Robots-Tag:noindex
X-PUBLISHED-TTL:PT1H
BEGIN:VTIMEZONE
TZID:Europe/Madrid
BEGIN:DAYLIGHT
TZOFFSETFROM:+0100
TZOFFSETTO:+0200
TZNAME:CEST
DTSTART:20270328T010000
END:DAYLIGHT
BEGIN:STANDARD
TZOFFSETFROM:+0200
TZOFFSETTO:+0100
TZNAME:CET
DTSTART:20271031T010000
END:STANDARD
BEGIN:DAYLIGHT
TZOFFSETFROM:+0100
TZOFFSETTO:+0200
TZNAME:CEST
DTSTART:20280326T010000
END:DAYLIGHT
BEGIN:STANDARD
TZOFFSETFROM:+0200
TZOFFSETTO:+0100
TZNAME:CET
DTSTART:20281029T010000
END:STANDARD
BEGIN:DAYLIGHT
TZOFFSETFROM:+0100
TZOFFSETTO:+0200
TZNAME:CEST
DTSTART:20290325T010000
END:DAYLIGHT
BEGIN:STANDARD
TZOFFSETFROM:+0200
TZOFFSETTO:+0100
TZNAME:CET
DTSTART:20291028T010000
END:STANDARD
END:VTIMEZONE
BEGIN:VEVENT
DTSTART;TZID=Europe/Madrid:20280226T143000
DTEND;TZID=Europe/Madrid:20280226T170000
DTSTAMP:20260420T082639
CREATED:20250103T231941Z
LAST-MODIFIED:20250827T132516Z
UID:10007065-1835188200-1835197200@dev.u3acostabrava.org
SUMMARY:Saturday Scrabblers
DESCRIPTION:A relaxed small group of ‘scrabblers’ who meet in a member’s home. \nContact Michelle the coordinator and come along for a taster session.
URL:https://dev.u3acostabrava.org/event/saturday-scrabblers-7/2028-02-26/
LOCATION:Carrer Acàcies\, 9\, 17257 Torroella de Montgrí\, Girona\, Spain\, Carrer Acàcies\, 9\, 17257 Girona\, Spain\, Torroella de Montgri\, Girona\, 17257\, Spain
CATEGORIES:Saturday Scrabblers
ATTACH;FMTTYPE=image/jpeg:https://dev.u3acostabrava.org/wp-content/uploads/2025/01/Scrabble-1.jpg
ORGANIZER;CN="Michelle Brown":MAILTO:michenbencostabrava@gmail.com
END:VEVENT
BEGIN:VEVENT
DTSTART;TZID=Europe/Madrid:20280304T143000
DTEND;TZID=Europe/Madrid:20280304T170000
DTSTAMP:20260420T082639
CREATED:20250103T231941Z
LAST-MODIFIED:20250827T132516Z
UID:10007066-1835793000-1835802000@dev.u3acostabrava.org
SUMMARY:Saturday Scrabblers
DESCRIPTION:A relaxed small group of ‘scrabblers’ who meet in a member’s home. \nContact Michelle the coordinator and come along for a taster session.
URL:https://dev.u3acostabrava.org/event/saturday-scrabblers-7/2028-03-04/
LOCATION:Carrer Acàcies\, 9\, 17257 Torroella de Montgrí\, Girona\, Spain\, Carrer Acàcies\, 9\, 17257 Girona\, Spain\, Torroella de Montgri\, Girona\, 17257\, Spain
CATEGORIES:Saturday Scrabblers
ATTACH;FMTTYPE=image/jpeg:https://dev.u3acostabrava.org/wp-content/uploads/2025/01/Scrabble-1.jpg
ORGANIZER;CN="Michelle Brown":MAILTO:michenbencostabrava@gmail.com
END:VEVENT
BEGIN:VEVENT
DTSTART;TZID=Europe/Madrid:20280311T143000
DTEND;TZID=Europe/Madrid:20280311T170000
DTSTAMP:20260420T082639
CREATED:20250103T231941Z
LAST-MODIFIED:20250827T132516Z
UID:10007067-1836397800-1836406800@dev.u3acostabrava.org
SUMMARY:Saturday Scrabblers
DESCRIPTION:A relaxed small group of ‘scrabblers’ who meet in a member’s home. \nContact Michelle the coordinator and come along for a taster session.
URL:https://dev.u3acostabrava.org/event/saturday-scrabblers-7/2028-03-11/
LOCATION:Carrer Acàcies\, 9\, 17257 Torroella de Montgrí\, Girona\, Spain\, Carrer Acàcies\, 9\, 17257 Girona\, Spain\, Torroella de Montgri\, Girona\, 17257\, Spain
CATEGORIES:Saturday Scrabblers
ATTACH;FMTTYPE=image/jpeg:https://dev.u3acostabrava.org/wp-content/uploads/2025/01/Scrabble-1.jpg
ORGANIZER;CN="Michelle Brown":MAILTO:michenbencostabrava@gmail.com
END:VEVENT
BEGIN:VEVENT
DTSTART;TZID=Europe/Madrid:20280318T143000
DTEND;TZID=Europe/Madrid:20280318T170000
DTSTAMP:20260420T082639
CREATED:20250103T231941Z
LAST-MODIFIED:20250827T132516Z
UID:10007068-1837002600-1837011600@dev.u3acostabrava.org
SUMMARY:Saturday Scrabblers
DESCRIPTION:A relaxed small group of ‘scrabblers’ who meet in a member’s home. \nContact Michelle the coordinator and come along for a taster session.
URL:https://dev.u3acostabrava.org/event/saturday-scrabblers-7/2028-03-18/
LOCATION:Carrer Acàcies\, 9\, 17257 Torroella de Montgrí\, Girona\, Spain\, Carrer Acàcies\, 9\, 17257 Girona\, Spain\, Torroella de Montgri\, Girona\, 17257\, Spain
CATEGORIES:Saturday Scrabblers
ATTACH;FMTTYPE=image/jpeg:https://dev.u3acostabrava.org/wp-content/uploads/2025/01/Scrabble-1.jpg
ORGANIZER;CN="Michelle Brown":MAILTO:michenbencostabrava@gmail.com
END:VEVENT
BEGIN:VEVENT
DTSTART;TZID=Europe/Madrid:20280325T143000
DTEND;TZID=Europe/Madrid:20280325T170000
DTSTAMP:20260420T082639
CREATED:20250103T231941Z
LAST-MODIFIED:20250827T132516Z
UID:10007069-1837607400-1837616400@dev.u3acostabrava.org
SUMMARY:Saturday Scrabblers
DESCRIPTION:A relaxed small group of ‘scrabblers’ who meet in a member’s home. \nContact Michelle the coordinator and come along for a taster session.
URL:https://dev.u3acostabrava.org/event/saturday-scrabblers-7/2028-03-25/
LOCATION:Carrer Acàcies\, 9\, 17257 Torroella de Montgrí\, Girona\, Spain\, Carrer Acàcies\, 9\, 17257 Girona\, Spain\, Torroella de Montgri\, Girona\, 17257\, Spain
CATEGORIES:Saturday Scrabblers
ATTACH;FMTTYPE=image/jpeg:https://dev.u3acostabrava.org/wp-content/uploads/2025/01/Scrabble-1.jpg
ORGANIZER;CN="Michelle Brown":MAILTO:michenbencostabrava@gmail.com
END:VEVENT
BEGIN:VEVENT
DTSTART;TZID=Europe/Madrid:20280401T143000
DTEND;TZID=Europe/Madrid:20280401T170000
DTSTAMP:20260420T082639
CREATED:20250103T231941Z
LAST-MODIFIED:20250827T132516Z
UID:10007070-1838212200-1838221200@dev.u3acostabrava.org
SUMMARY:Saturday Scrabblers
DESCRIPTION:A relaxed small group of ‘scrabblers’ who meet in a member’s home. \nContact Michelle the coordinator and come along for a taster session.
URL:https://dev.u3acostabrava.org/event/saturday-scrabblers-7/2028-04-01/
LOCATION:Carrer Acàcies\, 9\, 17257 Torroella de Montgrí\, Girona\, Spain\, Carrer Acàcies\, 9\, 17257 Girona\, Spain\, Torroella de Montgri\, Girona\, 17257\, Spain
CATEGORIES:Saturday Scrabblers
ATTACH;FMTTYPE=image/jpeg:https://dev.u3acostabrava.org/wp-content/uploads/2025/01/Scrabble-1.jpg
ORGANIZER;CN="Michelle Brown":MAILTO:michenbencostabrava@gmail.com
END:VEVENT
BEGIN:VEVENT
DTSTART;TZID=Europe/Madrid:20280408T143000
DTEND;TZID=Europe/Madrid:20280408T170000
DTSTAMP:20260420T082639
CREATED:20250103T231941Z
LAST-MODIFIED:20250827T132516Z
UID:10007071-1838817000-1838826000@dev.u3acostabrava.org
SUMMARY:Saturday Scrabblers
DESCRIPTION:A relaxed small group of ‘scrabblers’ who meet in a member’s home. \nContact Michelle the coordinator and come along for a taster session.
URL:https://dev.u3acostabrava.org/event/saturday-scrabblers-7/2028-04-08/
LOCATION:Carrer Acàcies\, 9\, 17257 Torroella de Montgrí\, Girona\, Spain\, Carrer Acàcies\, 9\, 17257 Girona\, Spain\, Torroella de Montgri\, Girona\, 17257\, Spain
CATEGORIES:Saturday Scrabblers
ATTACH;FMTTYPE=image/jpeg:https://dev.u3acostabrava.org/wp-content/uploads/2025/01/Scrabble-1.jpg
ORGANIZER;CN="Michelle Brown":MAILTO:michenbencostabrava@gmail.com
END:VEVENT
BEGIN:VEVENT
DTSTART;TZID=Europe/Madrid:20280415T143000
DTEND;TZID=Europe/Madrid:20280415T170000
DTSTAMP:20260420T082639
CREATED:20250103T231941Z
LAST-MODIFIED:20250827T132516Z
UID:10007072-1839421800-1839430800@dev.u3acostabrava.org
SUMMARY:Saturday Scrabblers
DESCRIPTION:A relaxed small group of ‘scrabblers’ who meet in a member’s home. \nContact Michelle the coordinator and come along for a taster session.
URL:https://dev.u3acostabrava.org/event/saturday-scrabblers-7/2028-04-15/
LOCATION:Carrer Acàcies\, 9\, 17257 Torroella de Montgrí\, Girona\, Spain\, Carrer Acàcies\, 9\, 17257 Girona\, Spain\, Torroella de Montgri\, Girona\, 17257\, Spain
CATEGORIES:Saturday Scrabblers
ATTACH;FMTTYPE=image/jpeg:https://dev.u3acostabrava.org/wp-content/uploads/2025/01/Scrabble-1.jpg
ORGANIZER;CN="Michelle Brown":MAILTO:michenbencostabrava@gmail.com
END:VEVENT
BEGIN:VEVENT
DTSTART;TZID=Europe/Madrid:20280422T143000
DTEND;TZID=Europe/Madrid:20280422T170000
DTSTAMP:20260420T082639
CREATED:20250103T231941Z
LAST-MODIFIED:20250827T132516Z
UID:10007073-1840026600-1840035600@dev.u3acostabrava.org
SUMMARY:Saturday Scrabblers
DESCRIPTION:A relaxed small group of ‘scrabblers’ who meet in a member’s home. \nContact Michelle the coordinator and come along for a taster session.
URL:https://dev.u3acostabrava.org/event/saturday-scrabblers-7/2028-04-22/
LOCATION:Carrer Acàcies\, 9\, 17257 Torroella de Montgrí\, Girona\, Spain\, Carrer Acàcies\, 9\, 17257 Girona\, Spain\, Torroella de Montgri\, Girona\, 17257\, Spain
CATEGORIES:Saturday Scrabblers
ATTACH;FMTTYPE=image/jpeg:https://dev.u3acostabrava.org/wp-content/uploads/2025/01/Scrabble-1.jpg
ORGANIZER;CN="Michelle Brown":MAILTO:michenbencostabrava@gmail.com
END:VEVENT
BEGIN:VEVENT
DTSTART;TZID=Europe/Madrid:20280429T143000
DTEND;TZID=Europe/Madrid:20280429T170000
DTSTAMP:20260420T082639
CREATED:20250103T231941Z
LAST-MODIFIED:20250827T132516Z
UID:10007074-1840631400-1840640400@dev.u3acostabrava.org
SUMMARY:Saturday Scrabblers
DESCRIPTION:A relaxed small group of ‘scrabblers’ who meet in a member’s home. \nContact Michelle the coordinator and come along for a taster session.
URL:https://dev.u3acostabrava.org/event/saturday-scrabblers-7/2028-04-29/
LOCATION:Carrer Acàcies\, 9\, 17257 Torroella de Montgrí\, Girona\, Spain\, Carrer Acàcies\, 9\, 17257 Girona\, Spain\, Torroella de Montgri\, Girona\, 17257\, Spain
CATEGORIES:Saturday Scrabblers
ATTACH;FMTTYPE=image/jpeg:https://dev.u3acostabrava.org/wp-content/uploads/2025/01/Scrabble-1.jpg
ORGANIZER;CN="Michelle Brown":MAILTO:michenbencostabrava@gmail.com
END:VEVENT
BEGIN:VEVENT
DTSTART;TZID=Europe/Madrid:20280506T143000
DTEND;TZID=Europe/Madrid:20280506T170000
DTSTAMP:20260420T082639
CREATED:20250103T231941Z
LAST-MODIFIED:20250827T132516Z
UID:10007075-1841236200-1841245200@dev.u3acostabrava.org
SUMMARY:Saturday Scrabblers
DESCRIPTION:A relaxed small group of ‘scrabblers’ who meet in a member’s home. \nContact Michelle the coordinator and come along for a taster session.
URL:https://dev.u3acostabrava.org/event/saturday-scrabblers-7/2028-05-06/
LOCATION:Carrer Acàcies\, 9\, 17257 Torroella de Montgrí\, Girona\, Spain\, Carrer Acàcies\, 9\, 17257 Girona\, Spain\, Torroella de Montgri\, Girona\, 17257\, Spain
CATEGORIES:Saturday Scrabblers
ATTACH;FMTTYPE=image/jpeg:https://dev.u3acostabrava.org/wp-content/uploads/2025/01/Scrabble-1.jpg
ORGANIZER;CN="Michelle Brown":MAILTO:michenbencostabrava@gmail.com
END:VEVENT
BEGIN:VEVENT
DTSTART;TZID=Europe/Madrid:20280513T143000
DTEND;TZID=Europe/Madrid:20280513T170000
DTSTAMP:20260420T082639
CREATED:20250103T231941Z
LAST-MODIFIED:20250827T132516Z
UID:10007076-1841841000-1841850000@dev.u3acostabrava.org
SUMMARY:Saturday Scrabblers
DESCRIPTION:A relaxed small group of ‘scrabblers’ who meet in a member’s home. \nContact Michelle the coordinator and come along for a taster session.
URL:https://dev.u3acostabrava.org/event/saturday-scrabblers-7/2028-05-13/
LOCATION:Carrer Acàcies\, 9\, 17257 Torroella de Montgrí\, Girona\, Spain\, Carrer Acàcies\, 9\, 17257 Girona\, Spain\, Torroella de Montgri\, Girona\, 17257\, Spain
CATEGORIES:Saturday Scrabblers
ATTACH;FMTTYPE=image/jpeg:https://dev.u3acostabrava.org/wp-content/uploads/2025/01/Scrabble-1.jpg
ORGANIZER;CN="Michelle Brown":MAILTO:michenbencostabrava@gmail.com
END:VEVENT
BEGIN:VEVENT
DTSTART;TZID=Europe/Madrid:20280520T143000
DTEND;TZID=Europe/Madrid:20280520T170000
DTSTAMP:20260420T082639
CREATED:20250103T231941Z
LAST-MODIFIED:20250827T132516Z
UID:10007077-1842445800-1842454800@dev.u3acostabrava.org
SUMMARY:Saturday Scrabblers
DESCRIPTION:A relaxed small group of ‘scrabblers’ who meet in a member’s home. \nContact Michelle the coordinator and come along for a taster session.
URL:https://dev.u3acostabrava.org/event/saturday-scrabblers-7/2028-05-20/
LOCATION:Carrer Acàcies\, 9\, 17257 Torroella de Montgrí\, Girona\, Spain\, Carrer Acàcies\, 9\, 17257 Girona\, Spain\, Torroella de Montgri\, Girona\, 17257\, Spain
CATEGORIES:Saturday Scrabblers
ATTACH;FMTTYPE=image/jpeg:https://dev.u3acostabrava.org/wp-content/uploads/2025/01/Scrabble-1.jpg
ORGANIZER;CN="Michelle Brown":MAILTO:michenbencostabrava@gmail.com
END:VEVENT
BEGIN:VEVENT
DTSTART;TZID=Europe/Madrid:20280527T143000
DTEND;TZID=Europe/Madrid:20280527T170000
DTSTAMP:20260420T082639
CREATED:20250103T231941Z
LAST-MODIFIED:20250827T132516Z
UID:10007078-1843050600-1843059600@dev.u3acostabrava.org
SUMMARY:Saturday Scrabblers
DESCRIPTION:A relaxed small group of ‘scrabblers’ who meet in a member’s home. \nContact Michelle the coordinator and come along for a taster session.
URL:https://dev.u3acostabrava.org/event/saturday-scrabblers-7/2028-05-27/
LOCATION:Carrer Acàcies\, 9\, 17257 Torroella de Montgrí\, Girona\, Spain\, Carrer Acàcies\, 9\, 17257 Girona\, Spain\, Torroella de Montgri\, Girona\, 17257\, Spain
CATEGORIES:Saturday Scrabblers
ATTACH;FMTTYPE=image/jpeg:https://dev.u3acostabrava.org/wp-content/uploads/2025/01/Scrabble-1.jpg
ORGANIZER;CN="Michelle Brown":MAILTO:michenbencostabrava@gmail.com
END:VEVENT
BEGIN:VEVENT
DTSTART;TZID=Europe/Madrid:20280603T143000
DTEND;TZID=Europe/Madrid:20280603T170000
DTSTAMP:20260420T082639
CREATED:20250103T231941Z
LAST-MODIFIED:20250827T132516Z
UID:10007079-1843655400-1843664400@dev.u3acostabrava.org
SUMMARY:Saturday Scrabblers
DESCRIPTION:A relaxed small group of ‘scrabblers’ who meet in a member’s home. \nContact Michelle the coordinator and come along for a taster session.
URL:https://dev.u3acostabrava.org/event/saturday-scrabblers-7/2028-06-03/
LOCATION:Carrer Acàcies\, 9\, 17257 Torroella de Montgrí\, Girona\, Spain\, Carrer Acàcies\, 9\, 17257 Girona\, Spain\, Torroella de Montgri\, Girona\, 17257\, Spain
CATEGORIES:Saturday Scrabblers
ATTACH;FMTTYPE=image/jpeg:https://dev.u3acostabrava.org/wp-content/uploads/2025/01/Scrabble-1.jpg
ORGANIZER;CN="Michelle Brown":MAILTO:michenbencostabrava@gmail.com
END:VEVENT
BEGIN:VEVENT
DTSTART;TZID=Europe/Madrid:20280610T143000
DTEND;TZID=Europe/Madrid:20280610T170000
DTSTAMP:20260420T082639
CREATED:20250103T231941Z
LAST-MODIFIED:20250827T132516Z
UID:10007080-1844260200-1844269200@dev.u3acostabrava.org
SUMMARY:Saturday Scrabblers
DESCRIPTION:A relaxed small group of ‘scrabblers’ who meet in a member’s home. \nContact Michelle the coordinator and come along for a taster session.
URL:https://dev.u3acostabrava.org/event/saturday-scrabblers-7/2028-06-10/
LOCATION:Carrer Acàcies\, 9\, 17257 Torroella de Montgrí\, Girona\, Spain\, Carrer Acàcies\, 9\, 17257 Girona\, Spain\, Torroella de Montgri\, Girona\, 17257\, Spain
CATEGORIES:Saturday Scrabblers
ATTACH;FMTTYPE=image/jpeg:https://dev.u3acostabrava.org/wp-content/uploads/2025/01/Scrabble-1.jpg
ORGANIZER;CN="Michelle Brown":MAILTO:michenbencostabrava@gmail.com
END:VEVENT
BEGIN:VEVENT
DTSTART;TZID=Europe/Madrid:20280617T143000
DTEND;TZID=Europe/Madrid:20280617T170000
DTSTAMP:20260420T082639
CREATED:20250103T231941Z
LAST-MODIFIED:20250827T132516Z
UID:10007081-1844865000-1844874000@dev.u3acostabrava.org
SUMMARY:Saturday Scrabblers
DESCRIPTION:A relaxed small group of ‘scrabblers’ who meet in a member’s home. \nContact Michelle the coordinator and come along for a taster session.
URL:https://dev.u3acostabrava.org/event/saturday-scrabblers-7/2028-06-17/
LOCATION:Carrer Acàcies\, 9\, 17257 Torroella de Montgrí\, Girona\, Spain\, Carrer Acàcies\, 9\, 17257 Girona\, Spain\, Torroella de Montgri\, Girona\, 17257\, Spain
CATEGORIES:Saturday Scrabblers
ATTACH;FMTTYPE=image/jpeg:https://dev.u3acostabrava.org/wp-content/uploads/2025/01/Scrabble-1.jpg
ORGANIZER;CN="Michelle Brown":MAILTO:michenbencostabrava@gmail.com
END:VEVENT
BEGIN:VEVENT
DTSTART;TZID=Europe/Madrid:20280624T143000
DTEND;TZID=Europe/Madrid:20280624T170000
DTSTAMP:20260420T082639
CREATED:20250103T231941Z
LAST-MODIFIED:20250827T132516Z
UID:10007082-1845469800-1845478800@dev.u3acostabrava.org
SUMMARY:Saturday Scrabblers
DESCRIPTION:A relaxed small group of ‘scrabblers’ who meet in a member’s home. \nContact Michelle the coordinator and come along for a taster session.
URL:https://dev.u3acostabrava.org/event/saturday-scrabblers-7/2028-06-24/
LOCATION:Carrer Acàcies\, 9\, 17257 Torroella de Montgrí\, Girona\, Spain\, Carrer Acàcies\, 9\, 17257 Girona\, Spain\, Torroella de Montgri\, Girona\, 17257\, Spain
CATEGORIES:Saturday Scrabblers
ATTACH;FMTTYPE=image/jpeg:https://dev.u3acostabrava.org/wp-content/uploads/2025/01/Scrabble-1.jpg
ORGANIZER;CN="Michelle Brown":MAILTO:michenbencostabrava@gmail.com
END:VEVENT
BEGIN:VEVENT
DTSTART;TZID=Europe/Madrid:20280701T143000
DTEND;TZID=Europe/Madrid:20280701T170000
DTSTAMP:20260420T082639
CREATED:20250103T231941Z
LAST-MODIFIED:20250827T132516Z
UID:10007083-1846074600-1846083600@dev.u3acostabrava.org
SUMMARY:Saturday Scrabblers
DESCRIPTION:A relaxed small group of ‘scrabblers’ who meet in a member’s home. \nContact Michelle the coordinator and come along for a taster session.
URL:https://dev.u3acostabrava.org/event/saturday-scrabblers-7/2028-07-01/
LOCATION:Carrer Acàcies\, 9\, 17257 Torroella de Montgrí\, Girona\, Spain\, Carrer Acàcies\, 9\, 17257 Girona\, Spain\, Torroella de Montgri\, Girona\, 17257\, Spain
CATEGORIES:Saturday Scrabblers
ATTACH;FMTTYPE=image/jpeg:https://dev.u3acostabrava.org/wp-content/uploads/2025/01/Scrabble-1.jpg
ORGANIZER;CN="Michelle Brown":MAILTO:michenbencostabrava@gmail.com
END:VEVENT
BEGIN:VEVENT
DTSTART;TZID=Europe/Madrid:20280708T143000
DTEND;TZID=Europe/Madrid:20280708T170000
DTSTAMP:20260420T082639
CREATED:20250103T231941Z
LAST-MODIFIED:20250827T132516Z
UID:10007084-1846679400-1846688400@dev.u3acostabrava.org
SUMMARY:Saturday Scrabblers
DESCRIPTION:A relaxed small group of ‘scrabblers’ who meet in a member’s home. \nContact Michelle the coordinator and come along for a taster session.
URL:https://dev.u3acostabrava.org/event/saturday-scrabblers-7/2028-07-08/
LOCATION:Carrer Acàcies\, 9\, 17257 Torroella de Montgrí\, Girona\, Spain\, Carrer Acàcies\, 9\, 17257 Girona\, Spain\, Torroella de Montgri\, Girona\, 17257\, Spain
CATEGORIES:Saturday Scrabblers
ATTACH;FMTTYPE=image/jpeg:https://dev.u3acostabrava.org/wp-content/uploads/2025/01/Scrabble-1.jpg
ORGANIZER;CN="Michelle Brown":MAILTO:michenbencostabrava@gmail.com
END:VEVENT
BEGIN:VEVENT
DTSTART;TZID=Europe/Madrid:20280715T143000
DTEND;TZID=Europe/Madrid:20280715T170000
DTSTAMP:20260420T082639
CREATED:20250103T231941Z
LAST-MODIFIED:20250827T132516Z
UID:10007085-1847284200-1847293200@dev.u3acostabrava.org
SUMMARY:Saturday Scrabblers
DESCRIPTION:A relaxed small group of ‘scrabblers’ who meet in a member’s home. \nContact Michelle the coordinator and come along for a taster session.
URL:https://dev.u3acostabrava.org/event/saturday-scrabblers-7/2028-07-15/
LOCATION:Carrer Acàcies\, 9\, 17257 Torroella de Montgrí\, Girona\, Spain\, Carrer Acàcies\, 9\, 17257 Girona\, Spain\, Torroella de Montgri\, Girona\, 17257\, Spain
CATEGORIES:Saturday Scrabblers
ATTACH;FMTTYPE=image/jpeg:https://dev.u3acostabrava.org/wp-content/uploads/2025/01/Scrabble-1.jpg
ORGANIZER;CN="Michelle Brown":MAILTO:michenbencostabrava@gmail.com
END:VEVENT
BEGIN:VEVENT
DTSTART;TZID=Europe/Madrid:20280722T143000
DTEND;TZID=Europe/Madrid:20280722T170000
DTSTAMP:20260420T082639
CREATED:20250103T231941Z
LAST-MODIFIED:20250827T132516Z
UID:10007086-1847889000-1847898000@dev.u3acostabrava.org
SUMMARY:Saturday Scrabblers
DESCRIPTION:A relaxed small group of ‘scrabblers’ who meet in a member’s home. \nContact Michelle the coordinator and come along for a taster session.
URL:https://dev.u3acostabrava.org/event/saturday-scrabblers-7/2028-07-22/
LOCATION:Carrer Acàcies\, 9\, 17257 Torroella de Montgrí\, Girona\, Spain\, Carrer Acàcies\, 9\, 17257 Girona\, Spain\, Torroella de Montgri\, Girona\, 17257\, Spain
CATEGORIES:Saturday Scrabblers
ATTACH;FMTTYPE=image/jpeg:https://dev.u3acostabrava.org/wp-content/uploads/2025/01/Scrabble-1.jpg
ORGANIZER;CN="Michelle Brown":MAILTO:michenbencostabrava@gmail.com
END:VEVENT
BEGIN:VEVENT
DTSTART;TZID=Europe/Madrid:20280729T143000
DTEND;TZID=Europe/Madrid:20280729T170000
DTSTAMP:20260420T082639
CREATED:20250103T231941Z
LAST-MODIFIED:20250827T132516Z
UID:10007087-1848493800-1848502800@dev.u3acostabrava.org
SUMMARY:Saturday Scrabblers
DESCRIPTION:A relaxed small group of ‘scrabblers’ who meet in a member’s home. \nContact Michelle the coordinator and come along for a taster session.
URL:https://dev.u3acostabrava.org/event/saturday-scrabblers-7/2028-07-29/
LOCATION:Carrer Acàcies\, 9\, 17257 Torroella de Montgrí\, Girona\, Spain\, Carrer Acàcies\, 9\, 17257 Girona\, Spain\, Torroella de Montgri\, Girona\, 17257\, Spain
CATEGORIES:Saturday Scrabblers
ATTACH;FMTTYPE=image/jpeg:https://dev.u3acostabrava.org/wp-content/uploads/2025/01/Scrabble-1.jpg
ORGANIZER;CN="Michelle Brown":MAILTO:michenbencostabrava@gmail.com
END:VEVENT
BEGIN:VEVENT
DTSTART;TZID=Europe/Madrid:20280805T143000
DTEND;TZID=Europe/Madrid:20280805T170000
DTSTAMP:20260420T082639
CREATED:20250103T231941Z
LAST-MODIFIED:20250827T132516Z
UID:10007088-1849098600-1849107600@dev.u3acostabrava.org
SUMMARY:Saturday Scrabblers
DESCRIPTION:A relaxed small group of ‘scrabblers’ who meet in a member’s home. \nContact Michelle the coordinator and come along for a taster session.
URL:https://dev.u3acostabrava.org/event/saturday-scrabblers-7/2028-08-05/
LOCATION:Carrer Acàcies\, 9\, 17257 Torroella de Montgrí\, Girona\, Spain\, Carrer Acàcies\, 9\, 17257 Girona\, Spain\, Torroella de Montgri\, Girona\, 17257\, Spain
CATEGORIES:Saturday Scrabblers
ATTACH;FMTTYPE=image/jpeg:https://dev.u3acostabrava.org/wp-content/uploads/2025/01/Scrabble-1.jpg
ORGANIZER;CN="Michelle Brown":MAILTO:michenbencostabrava@gmail.com
END:VEVENT
BEGIN:VEVENT
DTSTART;TZID=Europe/Madrid:20280812T143000
DTEND;TZID=Europe/Madrid:20280812T170000
DTSTAMP:20260420T082639
CREATED:20250103T231941Z
LAST-MODIFIED:20250827T132516Z
UID:10007089-1849703400-1849712400@dev.u3acostabrava.org
SUMMARY:Saturday Scrabblers
DESCRIPTION:A relaxed small group of ‘scrabblers’ who meet in a member’s home. \nContact Michelle the coordinator and come along for a taster session.
URL:https://dev.u3acostabrava.org/event/saturday-scrabblers-7/2028-08-12/
LOCATION:Carrer Acàcies\, 9\, 17257 Torroella de Montgrí\, Girona\, Spain\, Carrer Acàcies\, 9\, 17257 Girona\, Spain\, Torroella de Montgri\, Girona\, 17257\, Spain
CATEGORIES:Saturday Scrabblers
ATTACH;FMTTYPE=image/jpeg:https://dev.u3acostabrava.org/wp-content/uploads/2025/01/Scrabble-1.jpg
ORGANIZER;CN="Michelle Brown":MAILTO:michenbencostabrava@gmail.com
END:VEVENT
BEGIN:VEVENT
DTSTART;TZID=Europe/Madrid:20280819T143000
DTEND;TZID=Europe/Madrid:20280819T170000
DTSTAMP:20260420T082639
CREATED:20250103T231941Z
LAST-MODIFIED:20250827T132516Z
UID:10007090-1850308200-1850317200@dev.u3acostabrava.org
SUMMARY:Saturday Scrabblers
DESCRIPTION:A relaxed small group of ‘scrabblers’ who meet in a member’s home. \nContact Michelle the coordinator and come along for a taster session.
URL:https://dev.u3acostabrava.org/event/saturday-scrabblers-7/2028-08-19/
LOCATION:Carrer Acàcies\, 9\, 17257 Torroella de Montgrí\, Girona\, Spain\, Carrer Acàcies\, 9\, 17257 Girona\, Spain\, Torroella de Montgri\, Girona\, 17257\, Spain
CATEGORIES:Saturday Scrabblers
ATTACH;FMTTYPE=image/jpeg:https://dev.u3acostabrava.org/wp-content/uploads/2025/01/Scrabble-1.jpg
ORGANIZER;CN="Michelle Brown":MAILTO:michenbencostabrava@gmail.com
END:VEVENT
BEGIN:VEVENT
DTSTART;TZID=Europe/Madrid:20280826T143000
DTEND;TZID=Europe/Madrid:20280826T170000
DTSTAMP:20260420T082639
CREATED:20250103T231941Z
LAST-MODIFIED:20250827T132516Z
UID:10007091-1850913000-1850922000@dev.u3acostabrava.org
SUMMARY:Saturday Scrabblers
DESCRIPTION:A relaxed small group of ‘scrabblers’ who meet in a member’s home. \nContact Michelle the coordinator and come along for a taster session.
URL:https://dev.u3acostabrava.org/event/saturday-scrabblers-7/2028-08-26/
LOCATION:Carrer Acàcies\, 9\, 17257 Torroella de Montgrí\, Girona\, Spain\, Carrer Acàcies\, 9\, 17257 Girona\, Spain\, Torroella de Montgri\, Girona\, 17257\, Spain
CATEGORIES:Saturday Scrabblers
ATTACH;FMTTYPE=image/jpeg:https://dev.u3acostabrava.org/wp-content/uploads/2025/01/Scrabble-1.jpg
ORGANIZER;CN="Michelle Brown":MAILTO:michenbencostabrava@gmail.com
END:VEVENT
BEGIN:VEVENT
DTSTART;TZID=Europe/Madrid:20280902T143000
DTEND;TZID=Europe/Madrid:20280902T170000
DTSTAMP:20260420T082639
CREATED:20250103T231941Z
LAST-MODIFIED:20250827T132516Z
UID:10007092-1851517800-1851526800@dev.u3acostabrava.org
SUMMARY:Saturday Scrabblers
DESCRIPTION:A relaxed small group of ‘scrabblers’ who meet in a member’s home. \nContact Michelle the coordinator and come along for a taster session.
URL:https://dev.u3acostabrava.org/event/saturday-scrabblers-7/2028-09-02/
LOCATION:Carrer Acàcies\, 9\, 17257 Torroella de Montgrí\, Girona\, Spain\, Carrer Acàcies\, 9\, 17257 Girona\, Spain\, Torroella de Montgri\, Girona\, 17257\, Spain
CATEGORIES:Saturday Scrabblers
ATTACH;FMTTYPE=image/jpeg:https://dev.u3acostabrava.org/wp-content/uploads/2025/01/Scrabble-1.jpg
ORGANIZER;CN="Michelle Brown":MAILTO:michenbencostabrava@gmail.com
END:VEVENT
BEGIN:VEVENT
DTSTART;TZID=Europe/Madrid:20280909T143000
DTEND;TZID=Europe/Madrid:20280909T170000
DTSTAMP:20260420T082639
CREATED:20250103T231941Z
LAST-MODIFIED:20250827T132516Z
UID:10007093-1852122600-1852131600@dev.u3acostabrava.org
SUMMARY:Saturday Scrabblers
DESCRIPTION:A relaxed small group of ‘scrabblers’ who meet in a member’s home. \nContact Michelle the coordinator and come along for a taster session.
URL:https://dev.u3acostabrava.org/event/saturday-scrabblers-7/2028-09-09/
LOCATION:Carrer Acàcies\, 9\, 17257 Torroella de Montgrí\, Girona\, Spain\, Carrer Acàcies\, 9\, 17257 Girona\, Spain\, Torroella de Montgri\, Girona\, 17257\, Spain
CATEGORIES:Saturday Scrabblers
ATTACH;FMTTYPE=image/jpeg:https://dev.u3acostabrava.org/wp-content/uploads/2025/01/Scrabble-1.jpg
ORGANIZER;CN="Michelle Brown":MAILTO:michenbencostabrava@gmail.com
END:VEVENT
BEGIN:VEVENT
DTSTART;TZID=Europe/Madrid:20280916T143000
DTEND;TZID=Europe/Madrid:20280916T170000
DTSTAMP:20260420T082639
CREATED:20250103T231941Z
LAST-MODIFIED:20250827T132516Z
UID:10007094-1852727400-1852736400@dev.u3acostabrava.org
SUMMARY:Saturday Scrabblers
DESCRIPTION:A relaxed small group of ‘scrabblers’ who meet in a member’s home. \nContact Michelle the coordinator and come along for a taster session.
URL:https://dev.u3acostabrava.org/event/saturday-scrabblers-7/2028-09-16/
LOCATION:Carrer Acàcies\, 9\, 17257 Torroella de Montgrí\, Girona\, Spain\, Carrer Acàcies\, 9\, 17257 Girona\, Spain\, Torroella de Montgri\, Girona\, 17257\, Spain
CATEGORIES:Saturday Scrabblers
ATTACH;FMTTYPE=image/jpeg:https://dev.u3acostabrava.org/wp-content/uploads/2025/01/Scrabble-1.jpg
ORGANIZER;CN="Michelle Brown":MAILTO:michenbencostabrava@gmail.com
END:VEVENT
END:VCALENDAR