BEGIN:VCALENDAR
VERSION:2.0
PRODID:-//U3A Costa Brava - ECPv6.15.14//NONSGML v1.0//EN
CALSCALE:GREGORIAN
METHOD:PUBLISH
X-WR-CALNAME:U3A Costa Brava
X-ORIGINAL-URL:https://dev.u3acostabrava.org
X-WR-CALDESC:Events for U3A Costa Brava
REFRESH-INTERVAL;VALUE=DURATION:PT1H
X-Robots-Tag:noindex
X-PUBLISHED-TTL:PT1H
BEGIN:VTIMEZONE
TZID:Europe/Madrid
BEGIN:DAYLIGHT
TZOFFSETFROM:+0100
TZOFFSETTO:+0200
TZNAME:CEST
DTSTART:20290325T010000
END:DAYLIGHT
BEGIN:STANDARD
TZOFFSETFROM:+0200
TZOFFSETTO:+0100
TZNAME:CET
DTSTART:20291028T010000
END:STANDARD
BEGIN:DAYLIGHT
TZOFFSETFROM:+0100
TZOFFSETTO:+0200
TZNAME:CEST
DTSTART:20300331T010000
END:DAYLIGHT
BEGIN:STANDARD
TZOFFSETFROM:+0200
TZOFFSETTO:+0100
TZNAME:CET
DTSTART:20301027T010000
END:STANDARD
BEGIN:DAYLIGHT
TZOFFSETFROM:+0100
TZOFFSETTO:+0200
TZNAME:CEST
DTSTART:20310330T010000
END:DAYLIGHT
BEGIN:STANDARD
TZOFFSETFROM:+0200
TZOFFSETTO:+0100
TZNAME:CET
DTSTART:20311026T010000
END:STANDARD
END:VTIMEZONE
BEGIN:VEVENT
DTSTART;TZID=Europe/Madrid:20300323T143000
DTEND;TZID=Europe/Madrid:20300323T170000
DTSTAMP:20260424T225432
CREATED:20250103T231941Z
LAST-MODIFIED:20250827T132516Z
UID:10007592-1900506600-1900515600@dev.u3acostabrava.org
SUMMARY:Saturday Scrabblers
DESCRIPTION:A relaxed small group of ‘scrabblers’ who meet in a member’s home. \nContact Michelle the coordinator and come along for a taster session.
URL:https://dev.u3acostabrava.org/event/saturday-scrabblers-7/2030-03-23/
LOCATION:Carrer Acàcies\, 9\, 17257 Torroella de Montgrí\, Girona\, Spain\, Carrer Acàcies\, 9\, 17257 Girona\, Spain\, Torroella de Montgri\, Girona\, 17257\, Spain
CATEGORIES:Saturday Scrabblers
ATTACH;FMTTYPE=image/jpeg:https://dev.u3acostabrava.org/wp-content/uploads/2025/01/Scrabble-1.jpg
ORGANIZER;CN="Michelle Brown":MAILTO:michenbencostabrava@gmail.com
END:VEVENT
BEGIN:VEVENT
DTSTART;TZID=Europe/Madrid:20300330T143000
DTEND;TZID=Europe/Madrid:20300330T170000
DTSTAMP:20260424T225432
CREATED:20250103T231941Z
LAST-MODIFIED:20250827T132516Z
UID:10007593-1901111400-1901120400@dev.u3acostabrava.org
SUMMARY:Saturday Scrabblers
DESCRIPTION:A relaxed small group of ‘scrabblers’ who meet in a member’s home. \nContact Michelle the coordinator and come along for a taster session.
URL:https://dev.u3acostabrava.org/event/saturday-scrabblers-7/2030-03-30/
LOCATION:Carrer Acàcies\, 9\, 17257 Torroella de Montgrí\, Girona\, Spain\, Carrer Acàcies\, 9\, 17257 Girona\, Spain\, Torroella de Montgri\, Girona\, 17257\, Spain
CATEGORIES:Saturday Scrabblers
ATTACH;FMTTYPE=image/jpeg:https://dev.u3acostabrava.org/wp-content/uploads/2025/01/Scrabble-1.jpg
ORGANIZER;CN="Michelle Brown":MAILTO:michenbencostabrava@gmail.com
END:VEVENT
BEGIN:VEVENT
DTSTART;TZID=Europe/Madrid:20300406T143000
DTEND;TZID=Europe/Madrid:20300406T170000
DTSTAMP:20260424T225432
CREATED:20250103T231941Z
LAST-MODIFIED:20250827T132516Z
UID:10007602-1901716200-1901725200@dev.u3acostabrava.org
SUMMARY:Saturday Scrabblers
DESCRIPTION:A relaxed small group of ‘scrabblers’ who meet in a member’s home. \nContact Michelle the coordinator and come along for a taster session.
URL:https://dev.u3acostabrava.org/event/saturday-scrabblers-7/2030-04-06/
LOCATION:Carrer Acàcies\, 9\, 17257 Torroella de Montgrí\, Girona\, Spain\, Carrer Acàcies\, 9\, 17257 Girona\, Spain\, Torroella de Montgri\, Girona\, 17257\, Spain
CATEGORIES:Saturday Scrabblers
ATTACH;FMTTYPE=image/jpeg:https://dev.u3acostabrava.org/wp-content/uploads/2025/01/Scrabble-1.jpg
ORGANIZER;CN="Michelle Brown":MAILTO:michenbencostabrava@gmail.com
END:VEVENT
BEGIN:VEVENT
DTSTART;TZID=Europe/Madrid:20300413T143000
DTEND;TZID=Europe/Madrid:20300413T170000
DTSTAMP:20260424T225432
CREATED:20250103T231941Z
LAST-MODIFIED:20250827T132516Z
UID:10007640-1902321000-1902330000@dev.u3acostabrava.org
SUMMARY:Saturday Scrabblers
DESCRIPTION:A relaxed small group of ‘scrabblers’ who meet in a member’s home. \nContact Michelle the coordinator and come along for a taster session.
URL:https://dev.u3acostabrava.org/event/saturday-scrabblers-7/2030-04-13/
LOCATION:Carrer Acàcies\, 9\, 17257 Torroella de Montgrí\, Girona\, Spain\, Carrer Acàcies\, 9\, 17257 Girona\, Spain\, Torroella de Montgri\, Girona\, 17257\, Spain
CATEGORIES:Saturday Scrabblers
ATTACH;FMTTYPE=image/jpeg:https://dev.u3acostabrava.org/wp-content/uploads/2025/01/Scrabble-1.jpg
ORGANIZER;CN="Michelle Brown":MAILTO:michenbencostabrava@gmail.com
END:VEVENT
BEGIN:VEVENT
DTSTART;TZID=Europe/Madrid:20300420T143000
DTEND;TZID=Europe/Madrid:20300420T170000
DTSTAMP:20260424T225432
CREATED:20250103T231941Z
LAST-MODIFIED:20250827T132516Z
UID:10007644-1902925800-1902934800@dev.u3acostabrava.org
SUMMARY:Saturday Scrabblers
DESCRIPTION:A relaxed small group of ‘scrabblers’ who meet in a member’s home. \nContact Michelle the coordinator and come along for a taster session.
URL:https://dev.u3acostabrava.org/event/saturday-scrabblers-7/2030-04-20/
LOCATION:Carrer Acàcies\, 9\, 17257 Torroella de Montgrí\, Girona\, Spain\, Carrer Acàcies\, 9\, 17257 Girona\, Spain\, Torroella de Montgri\, Girona\, 17257\, Spain
CATEGORIES:Saturday Scrabblers
ATTACH;FMTTYPE=image/jpeg:https://dev.u3acostabrava.org/wp-content/uploads/2025/01/Scrabble-1.jpg
ORGANIZER;CN="Michelle Brown":MAILTO:michenbencostabrava@gmail.com
END:VEVENT
BEGIN:VEVENT
DTSTART;TZID=Europe/Madrid:20300427T143000
DTEND;TZID=Europe/Madrid:20300427T170000
DTSTAMP:20260424T225432
CREATED:20250103T231941Z
LAST-MODIFIED:20250827T132516Z
UID:10007710-1903530600-1903539600@dev.u3acostabrava.org
SUMMARY:Saturday Scrabblers
DESCRIPTION:A relaxed small group of ‘scrabblers’ who meet in a member’s home. \nContact Michelle the coordinator and come along for a taster session.
URL:https://dev.u3acostabrava.org/event/saturday-scrabblers-7/2030-04-27/
LOCATION:Carrer Acàcies\, 9\, 17257 Torroella de Montgrí\, Girona\, Spain\, Carrer Acàcies\, 9\, 17257 Girona\, Spain\, Torroella de Montgri\, Girona\, 17257\, Spain
CATEGORIES:Saturday Scrabblers
ATTACH;FMTTYPE=image/jpeg:https://dev.u3acostabrava.org/wp-content/uploads/2025/01/Scrabble-1.jpg
ORGANIZER;CN="Michelle Brown":MAILTO:michenbencostabrava@gmail.com
END:VEVENT
BEGIN:VEVENT
DTSTART;TZID=Europe/Madrid:20300504T143000
DTEND;TZID=Europe/Madrid:20300504T170000
DTSTAMP:20260424T225432
CREATED:20250103T231941Z
LAST-MODIFIED:20250827T132516Z
UID:10007717-1904135400-1904144400@dev.u3acostabrava.org
SUMMARY:Saturday Scrabblers
DESCRIPTION:A relaxed small group of ‘scrabblers’ who meet in a member’s home. \nContact Michelle the coordinator and come along for a taster session.
URL:https://dev.u3acostabrava.org/event/saturday-scrabblers-7/2030-05-04/
LOCATION:Carrer Acàcies\, 9\, 17257 Torroella de Montgrí\, Girona\, Spain\, Carrer Acàcies\, 9\, 17257 Girona\, Spain\, Torroella de Montgri\, Girona\, 17257\, Spain
CATEGORIES:Saturday Scrabblers
ATTACH;FMTTYPE=image/jpeg:https://dev.u3acostabrava.org/wp-content/uploads/2025/01/Scrabble-1.jpg
ORGANIZER;CN="Michelle Brown":MAILTO:michenbencostabrava@gmail.com
END:VEVENT
BEGIN:VEVENT
DTSTART;TZID=Europe/Madrid:20300511T143000
DTEND;TZID=Europe/Madrid:20300511T170000
DTSTAMP:20260424T225432
CREATED:20250103T231941Z
LAST-MODIFIED:20250827T132516Z
UID:10007745-1904740200-1904749200@dev.u3acostabrava.org
SUMMARY:Saturday Scrabblers
DESCRIPTION:A relaxed small group of ‘scrabblers’ who meet in a member’s home. \nContact Michelle the coordinator and come along for a taster session.
URL:https://dev.u3acostabrava.org/event/saturday-scrabblers-7/2030-05-11/
LOCATION:Carrer Acàcies\, 9\, 17257 Torroella de Montgrí\, Girona\, Spain\, Carrer Acàcies\, 9\, 17257 Girona\, Spain\, Torroella de Montgri\, Girona\, 17257\, Spain
CATEGORIES:Saturday Scrabblers
ATTACH;FMTTYPE=image/jpeg:https://dev.u3acostabrava.org/wp-content/uploads/2025/01/Scrabble-1.jpg
ORGANIZER;CN="Michelle Brown":MAILTO:michenbencostabrava@gmail.com
END:VEVENT
BEGIN:VEVENT
DTSTART;TZID=Europe/Madrid:20300518T143000
DTEND;TZID=Europe/Madrid:20300518T170000
DTSTAMP:20260424T225432
CREATED:20250103T231941Z
LAST-MODIFIED:20250827T132516Z
UID:10007770-1905345000-1905354000@dev.u3acostabrava.org
SUMMARY:Saturday Scrabblers
DESCRIPTION:A relaxed small group of ‘scrabblers’ who meet in a member’s home. \nContact Michelle the coordinator and come along for a taster session.
URL:https://dev.u3acostabrava.org/event/saturday-scrabblers-7/2030-05-18/
LOCATION:Carrer Acàcies\, 9\, 17257 Torroella de Montgrí\, Girona\, Spain\, Carrer Acàcies\, 9\, 17257 Girona\, Spain\, Torroella de Montgri\, Girona\, 17257\, Spain
CATEGORIES:Saturday Scrabblers
ATTACH;FMTTYPE=image/jpeg:https://dev.u3acostabrava.org/wp-content/uploads/2025/01/Scrabble-1.jpg
ORGANIZER;CN="Michelle Brown":MAILTO:michenbencostabrava@gmail.com
END:VEVENT
BEGIN:VEVENT
DTSTART;TZID=Europe/Madrid:20300525T143000
DTEND;TZID=Europe/Madrid:20300525T170000
DTSTAMP:20260424T225432
CREATED:20250103T231941Z
LAST-MODIFIED:20250827T132516Z
UID:10007775-1905949800-1905958800@dev.u3acostabrava.org
SUMMARY:Saturday Scrabblers
DESCRIPTION:A relaxed small group of ‘scrabblers’ who meet in a member’s home. \nContact Michelle the coordinator and come along for a taster session.
URL:https://dev.u3acostabrava.org/event/saturday-scrabblers-7/2030-05-25/
LOCATION:Carrer Acàcies\, 9\, 17257 Torroella de Montgrí\, Girona\, Spain\, Carrer Acàcies\, 9\, 17257 Girona\, Spain\, Torroella de Montgri\, Girona\, 17257\, Spain
CATEGORIES:Saturday Scrabblers
ATTACH;FMTTYPE=image/jpeg:https://dev.u3acostabrava.org/wp-content/uploads/2025/01/Scrabble-1.jpg
ORGANIZER;CN="Michelle Brown":MAILTO:michenbencostabrava@gmail.com
END:VEVENT
BEGIN:VEVENT
DTSTART;TZID=Europe/Madrid:20300601T143000
DTEND;TZID=Europe/Madrid:20300601T170000
DTSTAMP:20260424T225432
CREATED:20250103T231941Z
LAST-MODIFIED:20250827T132516Z
UID:10007782-1906554600-1906563600@dev.u3acostabrava.org
SUMMARY:Saturday Scrabblers
DESCRIPTION:A relaxed small group of ‘scrabblers’ who meet in a member’s home. \nContact Michelle the coordinator and come along for a taster session.
URL:https://dev.u3acostabrava.org/event/saturday-scrabblers-7/2030-06-01/
LOCATION:Carrer Acàcies\, 9\, 17257 Torroella de Montgrí\, Girona\, Spain\, Carrer Acàcies\, 9\, 17257 Girona\, Spain\, Torroella de Montgri\, Girona\, 17257\, Spain
CATEGORIES:Saturday Scrabblers
ATTACH;FMTTYPE=image/jpeg:https://dev.u3acostabrava.org/wp-content/uploads/2025/01/Scrabble-1.jpg
ORGANIZER;CN="Michelle Brown":MAILTO:michenbencostabrava@gmail.com
END:VEVENT
BEGIN:VEVENT
DTSTART;TZID=Europe/Madrid:20300608T143000
DTEND;TZID=Europe/Madrid:20300608T170000
DTSTAMP:20260424T225432
CREATED:20250103T231941Z
LAST-MODIFIED:20250827T132516Z
UID:10007789-1907159400-1907168400@dev.u3acostabrava.org
SUMMARY:Saturday Scrabblers
DESCRIPTION:A relaxed small group of ‘scrabblers’ who meet in a member’s home. \nContact Michelle the coordinator and come along for a taster session.
URL:https://dev.u3acostabrava.org/event/saturday-scrabblers-7/2030-06-08/
LOCATION:Carrer Acàcies\, 9\, 17257 Torroella de Montgrí\, Girona\, Spain\, Carrer Acàcies\, 9\, 17257 Girona\, Spain\, Torroella de Montgri\, Girona\, 17257\, Spain
CATEGORIES:Saturday Scrabblers
ATTACH;FMTTYPE=image/jpeg:https://dev.u3acostabrava.org/wp-content/uploads/2025/01/Scrabble-1.jpg
ORGANIZER;CN="Michelle Brown":MAILTO:michenbencostabrava@gmail.com
END:VEVENT
BEGIN:VEVENT
DTSTART;TZID=Europe/Madrid:20300615T143000
DTEND;TZID=Europe/Madrid:20300615T170000
DTSTAMP:20260424T225432
CREATED:20250103T231941Z
LAST-MODIFIED:20250827T132516Z
UID:10007798-1907764200-1907773200@dev.u3acostabrava.org
SUMMARY:Saturday Scrabblers
DESCRIPTION:A relaxed small group of ‘scrabblers’ who meet in a member’s home. \nContact Michelle the coordinator and come along for a taster session.
URL:https://dev.u3acostabrava.org/event/saturday-scrabblers-7/2030-06-15/
LOCATION:Carrer Acàcies\, 9\, 17257 Torroella de Montgrí\, Girona\, Spain\, Carrer Acàcies\, 9\, 17257 Girona\, Spain\, Torroella de Montgri\, Girona\, 17257\, Spain
CATEGORIES:Saturday Scrabblers
ATTACH;FMTTYPE=image/jpeg:https://dev.u3acostabrava.org/wp-content/uploads/2025/01/Scrabble-1.jpg
ORGANIZER;CN="Michelle Brown":MAILTO:michenbencostabrava@gmail.com
END:VEVENT
BEGIN:VEVENT
DTSTART;TZID=Europe/Madrid:20300622T143000
DTEND;TZID=Europe/Madrid:20300622T170000
DTSTAMP:20260424T225432
CREATED:20250103T231941Z
LAST-MODIFIED:20250827T132516Z
UID:10007804-1908369000-1908378000@dev.u3acostabrava.org
SUMMARY:Saturday Scrabblers
DESCRIPTION:A relaxed small group of ‘scrabblers’ who meet in a member’s home. \nContact Michelle the coordinator and come along for a taster session.
URL:https://dev.u3acostabrava.org/event/saturday-scrabblers-7/2030-06-22/
LOCATION:Carrer Acàcies\, 9\, 17257 Torroella de Montgrí\, Girona\, Spain\, Carrer Acàcies\, 9\, 17257 Girona\, Spain\, Torroella de Montgri\, Girona\, 17257\, Spain
CATEGORIES:Saturday Scrabblers
ATTACH;FMTTYPE=image/jpeg:https://dev.u3acostabrava.org/wp-content/uploads/2025/01/Scrabble-1.jpg
ORGANIZER;CN="Michelle Brown":MAILTO:michenbencostabrava@gmail.com
END:VEVENT
BEGIN:VEVENT
DTSTART;TZID=Europe/Madrid:20300629T143000
DTEND;TZID=Europe/Madrid:20300629T170000
DTSTAMP:20260424T225432
CREATED:20250103T231941Z
LAST-MODIFIED:20250827T132516Z
UID:10007807-1908973800-1908982800@dev.u3acostabrava.org
SUMMARY:Saturday Scrabblers
DESCRIPTION:A relaxed small group of ‘scrabblers’ who meet in a member’s home. \nContact Michelle the coordinator and come along for a taster session.
URL:https://dev.u3acostabrava.org/event/saturday-scrabblers-7/2030-06-29/
LOCATION:Carrer Acàcies\, 9\, 17257 Torroella de Montgrí\, Girona\, Spain\, Carrer Acàcies\, 9\, 17257 Girona\, Spain\, Torroella de Montgri\, Girona\, 17257\, Spain
CATEGORIES:Saturday Scrabblers
ATTACH;FMTTYPE=image/jpeg:https://dev.u3acostabrava.org/wp-content/uploads/2025/01/Scrabble-1.jpg
ORGANIZER;CN="Michelle Brown":MAILTO:michenbencostabrava@gmail.com
END:VEVENT
BEGIN:VEVENT
DTSTART;TZID=Europe/Madrid:20300706T143000
DTEND;TZID=Europe/Madrid:20300706T170000
DTSTAMP:20260424T225432
CREATED:20250103T231941Z
LAST-MODIFIED:20250827T132516Z
UID:10007872-1909578600-1909587600@dev.u3acostabrava.org
SUMMARY:Saturday Scrabblers
DESCRIPTION:A relaxed small group of ‘scrabblers’ who meet in a member’s home. \nContact Michelle the coordinator and come along for a taster session.
URL:https://dev.u3acostabrava.org/event/saturday-scrabblers-7/2030-07-06/
LOCATION:Carrer Acàcies\, 9\, 17257 Torroella de Montgrí\, Girona\, Spain\, Carrer Acàcies\, 9\, 17257 Girona\, Spain\, Torroella de Montgri\, Girona\, 17257\, Spain
CATEGORIES:Saturday Scrabblers
ATTACH;FMTTYPE=image/jpeg:https://dev.u3acostabrava.org/wp-content/uploads/2025/01/Scrabble-1.jpg
ORGANIZER;CN="Michelle Brown":MAILTO:michenbencostabrava@gmail.com
END:VEVENT
BEGIN:VEVENT
DTSTART;TZID=Europe/Madrid:20300713T143000
DTEND;TZID=Europe/Madrid:20300713T170000
DTSTAMP:20260424T225432
CREATED:20250103T231941Z
LAST-MODIFIED:20250827T132516Z
UID:10007877-1910183400-1910192400@dev.u3acostabrava.org
SUMMARY:Saturday Scrabblers
DESCRIPTION:A relaxed small group of ‘scrabblers’ who meet in a member’s home. \nContact Michelle the coordinator and come along for a taster session.
URL:https://dev.u3acostabrava.org/event/saturday-scrabblers-7/2030-07-13/
LOCATION:Carrer Acàcies\, 9\, 17257 Torroella de Montgrí\, Girona\, Spain\, Carrer Acàcies\, 9\, 17257 Girona\, Spain\, Torroella de Montgri\, Girona\, 17257\, Spain
CATEGORIES:Saturday Scrabblers
ATTACH;FMTTYPE=image/jpeg:https://dev.u3acostabrava.org/wp-content/uploads/2025/01/Scrabble-1.jpg
ORGANIZER;CN="Michelle Brown":MAILTO:michenbencostabrava@gmail.com
END:VEVENT
BEGIN:VEVENT
DTSTART;TZID=Europe/Madrid:20300720T143000
DTEND;TZID=Europe/Madrid:20300720T170000
DTSTAMP:20260424T225432
CREATED:20250103T231941Z
LAST-MODIFIED:20250827T132516Z
UID:10007882-1910788200-1910797200@dev.u3acostabrava.org
SUMMARY:Saturday Scrabblers
DESCRIPTION:A relaxed small group of ‘scrabblers’ who meet in a member’s home. \nContact Michelle the coordinator and come along for a taster session.
URL:https://dev.u3acostabrava.org/event/saturday-scrabblers-7/2030-07-20/
LOCATION:Carrer Acàcies\, 9\, 17257 Torroella de Montgrí\, Girona\, Spain\, Carrer Acàcies\, 9\, 17257 Girona\, Spain\, Torroella de Montgri\, Girona\, 17257\, Spain
CATEGORIES:Saturday Scrabblers
ATTACH;FMTTYPE=image/jpeg:https://dev.u3acostabrava.org/wp-content/uploads/2025/01/Scrabble-1.jpg
ORGANIZER;CN="Michelle Brown":MAILTO:michenbencostabrava@gmail.com
END:VEVENT
BEGIN:VEVENT
DTSTART;TZID=Europe/Madrid:20300727T143000
DTEND;TZID=Europe/Madrid:20300727T170000
DTSTAMP:20260424T225432
CREATED:20250103T231941Z
LAST-MODIFIED:20250827T132516Z
UID:10007885-1911393000-1911402000@dev.u3acostabrava.org
SUMMARY:Saturday Scrabblers
DESCRIPTION:A relaxed small group of ‘scrabblers’ who meet in a member’s home. \nContact Michelle the coordinator and come along for a taster session.
URL:https://dev.u3acostabrava.org/event/saturday-scrabblers-7/2030-07-27/
LOCATION:Carrer Acàcies\, 9\, 17257 Torroella de Montgrí\, Girona\, Spain\, Carrer Acàcies\, 9\, 17257 Girona\, Spain\, Torroella de Montgri\, Girona\, 17257\, Spain
CATEGORIES:Saturday Scrabblers
ATTACH;FMTTYPE=image/jpeg:https://dev.u3acostabrava.org/wp-content/uploads/2025/01/Scrabble-1.jpg
ORGANIZER;CN="Michelle Brown":MAILTO:michenbencostabrava@gmail.com
END:VEVENT
BEGIN:VEVENT
DTSTART;TZID=Europe/Madrid:20300803T143000
DTEND;TZID=Europe/Madrid:20300803T170000
DTSTAMP:20260424T225432
CREATED:20250103T231941Z
LAST-MODIFIED:20250827T132516Z
UID:10007891-1911997800-1912006800@dev.u3acostabrava.org
SUMMARY:Saturday Scrabblers
DESCRIPTION:A relaxed small group of ‘scrabblers’ who meet in a member’s home. \nContact Michelle the coordinator and come along for a taster session.
URL:https://dev.u3acostabrava.org/event/saturday-scrabblers-7/2030-08-03/
LOCATION:Carrer Acàcies\, 9\, 17257 Torroella de Montgrí\, Girona\, Spain\, Carrer Acàcies\, 9\, 17257 Girona\, Spain\, Torroella de Montgri\, Girona\, 17257\, Spain
CATEGORIES:Saturday Scrabblers
ATTACH;FMTTYPE=image/jpeg:https://dev.u3acostabrava.org/wp-content/uploads/2025/01/Scrabble-1.jpg
ORGANIZER;CN="Michelle Brown":MAILTO:michenbencostabrava@gmail.com
END:VEVENT
BEGIN:VEVENT
DTSTART;TZID=Europe/Madrid:20300810T143000
DTEND;TZID=Europe/Madrid:20300810T170000
DTSTAMP:20260424T225432
CREATED:20250103T231941Z
LAST-MODIFIED:20250827T132516Z
UID:10007893-1912602600-1912611600@dev.u3acostabrava.org
SUMMARY:Saturday Scrabblers
DESCRIPTION:A relaxed small group of ‘scrabblers’ who meet in a member’s home. \nContact Michelle the coordinator and come along for a taster session.
URL:https://dev.u3acostabrava.org/event/saturday-scrabblers-7/2030-08-10/
LOCATION:Carrer Acàcies\, 9\, 17257 Torroella de Montgrí\, Girona\, Spain\, Carrer Acàcies\, 9\, 17257 Girona\, Spain\, Torroella de Montgri\, Girona\, 17257\, Spain
CATEGORIES:Saturday Scrabblers
ATTACH;FMTTYPE=image/jpeg:https://dev.u3acostabrava.org/wp-content/uploads/2025/01/Scrabble-1.jpg
ORGANIZER;CN="Michelle Brown":MAILTO:michenbencostabrava@gmail.com
END:VEVENT
BEGIN:VEVENT
DTSTART;TZID=Europe/Madrid:20300817T143000
DTEND;TZID=Europe/Madrid:20300817T170000
DTSTAMP:20260424T225432
CREATED:20250103T231941Z
LAST-MODIFIED:20250827T132516Z
UID:10008061-1913207400-1913216400@dev.u3acostabrava.org
SUMMARY:Saturday Scrabblers
DESCRIPTION:A relaxed small group of ‘scrabblers’ who meet in a member’s home. \nContact Michelle the coordinator and come along for a taster session.
URL:https://dev.u3acostabrava.org/event/saturday-scrabblers-7/2030-08-17/
LOCATION:Carrer Acàcies\, 9\, 17257 Torroella de Montgrí\, Girona\, Spain\, Carrer Acàcies\, 9\, 17257 Girona\, Spain\, Torroella de Montgri\, Girona\, 17257\, Spain
CATEGORIES:Saturday Scrabblers
ATTACH;FMTTYPE=image/jpeg:https://dev.u3acostabrava.org/wp-content/uploads/2025/01/Scrabble-1.jpg
ORGANIZER;CN="Michelle Brown":MAILTO:michenbencostabrava@gmail.com
END:VEVENT
BEGIN:VEVENT
DTSTART;TZID=Europe/Madrid:20300824T143000
DTEND;TZID=Europe/Madrid:20300824T170000
DTSTAMP:20260424T225432
CREATED:20250103T231941Z
LAST-MODIFIED:20250827T132516Z
UID:10008153-1913812200-1913821200@dev.u3acostabrava.org
SUMMARY:Saturday Scrabblers
DESCRIPTION:A relaxed small group of ‘scrabblers’ who meet in a member’s home. \nContact Michelle the coordinator and come along for a taster session.
URL:https://dev.u3acostabrava.org/event/saturday-scrabblers-7/2030-08-24/
LOCATION:Carrer Acàcies\, 9\, 17257 Torroella de Montgrí\, Girona\, Spain\, Carrer Acàcies\, 9\, 17257 Girona\, Spain\, Torroella de Montgri\, Girona\, 17257\, Spain
CATEGORIES:Saturday Scrabblers
ATTACH;FMTTYPE=image/jpeg:https://dev.u3acostabrava.org/wp-content/uploads/2025/01/Scrabble-1.jpg
ORGANIZER;CN="Michelle Brown":MAILTO:michenbencostabrava@gmail.com
END:VEVENT
BEGIN:VEVENT
DTSTART;TZID=Europe/Madrid:20300831T143000
DTEND;TZID=Europe/Madrid:20300831T170000
DTSTAMP:20260424T225432
CREATED:20250103T231941Z
LAST-MODIFIED:20250827T132516Z
UID:10008158-1914417000-1914426000@dev.u3acostabrava.org
SUMMARY:Saturday Scrabblers
DESCRIPTION:A relaxed small group of ‘scrabblers’ who meet in a member’s home. \nContact Michelle the coordinator and come along for a taster session.
URL:https://dev.u3acostabrava.org/event/saturday-scrabblers-7/2030-08-31/
LOCATION:Carrer Acàcies\, 9\, 17257 Torroella de Montgrí\, Girona\, Spain\, Carrer Acàcies\, 9\, 17257 Girona\, Spain\, Torroella de Montgri\, Girona\, 17257\, Spain
CATEGORIES:Saturday Scrabblers
ATTACH;FMTTYPE=image/jpeg:https://dev.u3acostabrava.org/wp-content/uploads/2025/01/Scrabble-1.jpg
ORGANIZER;CN="Michelle Brown":MAILTO:michenbencostabrava@gmail.com
END:VEVENT
BEGIN:VEVENT
DTSTART;TZID=Europe/Madrid:20300907T143000
DTEND;TZID=Europe/Madrid:20300907T170000
DTSTAMP:20260424T225432
CREATED:20250103T231941Z
LAST-MODIFIED:20250827T132516Z
UID:10008163-1915021800-1915030800@dev.u3acostabrava.org
SUMMARY:Saturday Scrabblers
DESCRIPTION:A relaxed small group of ‘scrabblers’ who meet in a member’s home. \nContact Michelle the coordinator and come along for a taster session.
URL:https://dev.u3acostabrava.org/event/saturday-scrabblers-7/2030-09-07/
LOCATION:Carrer Acàcies\, 9\, 17257 Torroella de Montgrí\, Girona\, Spain\, Carrer Acàcies\, 9\, 17257 Girona\, Spain\, Torroella de Montgri\, Girona\, 17257\, Spain
CATEGORIES:Saturday Scrabblers
ATTACH;FMTTYPE=image/jpeg:https://dev.u3acostabrava.org/wp-content/uploads/2025/01/Scrabble-1.jpg
ORGANIZER;CN="Michelle Brown":MAILTO:michenbencostabrava@gmail.com
END:VEVENT
BEGIN:VEVENT
DTSTART;TZID=Europe/Madrid:20300914T143000
DTEND;TZID=Europe/Madrid:20300914T170000
DTSTAMP:20260424T225432
CREATED:20250103T231941Z
LAST-MODIFIED:20250827T132516Z
UID:10008168-1915626600-1915635600@dev.u3acostabrava.org
SUMMARY:Saturday Scrabblers
DESCRIPTION:A relaxed small group of ‘scrabblers’ who meet in a member’s home. \nContact Michelle the coordinator and come along for a taster session.
URL:https://dev.u3acostabrava.org/event/saturday-scrabblers-7/2030-09-14/
LOCATION:Carrer Acàcies\, 9\, 17257 Torroella de Montgrí\, Girona\, Spain\, Carrer Acàcies\, 9\, 17257 Girona\, Spain\, Torroella de Montgri\, Girona\, 17257\, Spain
CATEGORIES:Saturday Scrabblers
ATTACH;FMTTYPE=image/jpeg:https://dev.u3acostabrava.org/wp-content/uploads/2025/01/Scrabble-1.jpg
ORGANIZER;CN="Michelle Brown":MAILTO:michenbencostabrava@gmail.com
END:VEVENT
BEGIN:VEVENT
DTSTART;TZID=Europe/Madrid:20300921T143000
DTEND;TZID=Europe/Madrid:20300921T170000
DTSTAMP:20260424T225432
CREATED:20250103T231941Z
LAST-MODIFIED:20250827T132516Z
UID:10008171-1916231400-1916240400@dev.u3acostabrava.org
SUMMARY:Saturday Scrabblers
DESCRIPTION:A relaxed small group of ‘scrabblers’ who meet in a member’s home. \nContact Michelle the coordinator and come along for a taster session.
URL:https://dev.u3acostabrava.org/event/saturday-scrabblers-7/2030-09-21/
LOCATION:Carrer Acàcies\, 9\, 17257 Torroella de Montgrí\, Girona\, Spain\, Carrer Acàcies\, 9\, 17257 Girona\, Spain\, Torroella de Montgri\, Girona\, 17257\, Spain
CATEGORIES:Saturday Scrabblers
ATTACH;FMTTYPE=image/jpeg:https://dev.u3acostabrava.org/wp-content/uploads/2025/01/Scrabble-1.jpg
ORGANIZER;CN="Michelle Brown":MAILTO:michenbencostabrava@gmail.com
END:VEVENT
BEGIN:VEVENT
DTSTART;TZID=Europe/Madrid:20300928T143000
DTEND;TZID=Europe/Madrid:20300928T170000
DTSTAMP:20260424T225432
CREATED:20250103T231941Z
LAST-MODIFIED:20250827T132516Z
UID:10008172-1916836200-1916845200@dev.u3acostabrava.org
SUMMARY:Saturday Scrabblers
DESCRIPTION:A relaxed small group of ‘scrabblers’ who meet in a member’s home. \nContact Michelle the coordinator and come along for a taster session.
URL:https://dev.u3acostabrava.org/event/saturday-scrabblers-7/2030-09-28/
LOCATION:Carrer Acàcies\, 9\, 17257 Torroella de Montgrí\, Girona\, Spain\, Carrer Acàcies\, 9\, 17257 Girona\, Spain\, Torroella de Montgri\, Girona\, 17257\, Spain
CATEGORIES:Saturday Scrabblers
ATTACH;FMTTYPE=image/jpeg:https://dev.u3acostabrava.org/wp-content/uploads/2025/01/Scrabble-1.jpg
ORGANIZER;CN="Michelle Brown":MAILTO:michenbencostabrava@gmail.com
END:VEVENT
BEGIN:VEVENT
DTSTART;TZID=Europe/Madrid:20301005T143000
DTEND;TZID=Europe/Madrid:20301005T170000
DTSTAMP:20260424T225432
CREATED:20250103T231941Z
LAST-MODIFIED:20250827T132516Z
UID:10008173-1917441000-1917450000@dev.u3acostabrava.org
SUMMARY:Saturday Scrabblers
DESCRIPTION:A relaxed small group of ‘scrabblers’ who meet in a member’s home. \nContact Michelle the coordinator and come along for a taster session.
URL:https://dev.u3acostabrava.org/event/saturday-scrabblers-7/2030-10-05/
LOCATION:Carrer Acàcies\, 9\, 17257 Torroella de Montgrí\, Girona\, Spain\, Carrer Acàcies\, 9\, 17257 Girona\, Spain\, Torroella de Montgri\, Girona\, 17257\, Spain
CATEGORIES:Saturday Scrabblers
ATTACH;FMTTYPE=image/jpeg:https://dev.u3acostabrava.org/wp-content/uploads/2025/01/Scrabble-1.jpg
ORGANIZER;CN="Michelle Brown":MAILTO:michenbencostabrava@gmail.com
END:VEVENT
BEGIN:VEVENT
DTSTART;TZID=Europe/Madrid:20301012T143000
DTEND;TZID=Europe/Madrid:20301012T170000
DTSTAMP:20260424T225432
CREATED:20250103T231941Z
LAST-MODIFIED:20250827T132516Z
UID:10008179-1918045800-1918054800@dev.u3acostabrava.org
SUMMARY:Saturday Scrabblers
DESCRIPTION:A relaxed small group of ‘scrabblers’ who meet in a member’s home. \nContact Michelle the coordinator and come along for a taster session.
URL:https://dev.u3acostabrava.org/event/saturday-scrabblers-7/2030-10-12/
LOCATION:Carrer Acàcies\, 9\, 17257 Torroella de Montgrí\, Girona\, Spain\, Carrer Acàcies\, 9\, 17257 Girona\, Spain\, Torroella de Montgri\, Girona\, 17257\, Spain
CATEGORIES:Saturday Scrabblers
ATTACH;FMTTYPE=image/jpeg:https://dev.u3acostabrava.org/wp-content/uploads/2025/01/Scrabble-1.jpg
ORGANIZER;CN="Michelle Brown":MAILTO:michenbencostabrava@gmail.com
END:VEVENT
END:VCALENDAR