BEGIN:VCALENDAR
VERSION:2.0
PRODID:-//U3A Costa Brava - ECPv6.15.14//NONSGML v1.0//EN
CALSCALE:GREGORIAN
METHOD:PUBLISH
X-ORIGINAL-URL:https://dev.u3acostabrava.org
X-WR-CALDESC:Events for U3A Costa Brava
REFRESH-INTERVAL;VALUE=DURATION:PT1H
X-Robots-Tag:noindex
X-PUBLISHED-TTL:PT1H
BEGIN:VTIMEZONE
TZID:Europe/Madrid
BEGIN:DAYLIGHT
TZOFFSETFROM:+0100
TZOFFSETTO:+0200
TZNAME:CEST
DTSTART:20280326T010000
END:DAYLIGHT
BEGIN:STANDARD
TZOFFSETFROM:+0200
TZOFFSETTO:+0100
TZNAME:CET
DTSTART:20281029T010000
END:STANDARD
BEGIN:DAYLIGHT
TZOFFSETFROM:+0100
TZOFFSETTO:+0200
TZNAME:CEST
DTSTART:20290325T010000
END:DAYLIGHT
BEGIN:STANDARD
TZOFFSETFROM:+0200
TZOFFSETTO:+0100
TZNAME:CET
DTSTART:20291028T010000
END:STANDARD
BEGIN:DAYLIGHT
TZOFFSETFROM:+0100
TZOFFSETTO:+0200
TZNAME:CEST
DTSTART:20300331T010000
END:DAYLIGHT
BEGIN:STANDARD
TZOFFSETFROM:+0200
TZOFFSETTO:+0100
TZNAME:CET
DTSTART:20301027T010000
END:STANDARD
BEGIN:DAYLIGHT
TZOFFSETFROM:+0100
TZOFFSETTO:+0200
TZNAME:CEST
DTSTART:20310330T010000
END:DAYLIGHT
BEGIN:STANDARD
TZOFFSETFROM:+0200
TZOFFSETTO:+0100
TZNAME:CET
DTSTART:20311026T010000
END:STANDARD
END:VTIMEZONE
BEGIN:VEVENT
DTSTART;TZID=Europe/Madrid:20291006T143000
DTEND;TZID=Europe/Madrid:20291006T170000
DTSTAMP:20260424T184647
CREATED:20250103T231941Z
LAST-MODIFIED:20250827T132516Z
UID:10007149-1885991400-1886000400@dev.u3acostabrava.org
SUMMARY:Saturday Scrabblers
DESCRIPTION:A relaxed small group of ‘scrabblers’ who meet in a member’s home. \nContact Michelle the coordinator and come along for a taster session.
URL:https://dev.u3acostabrava.org/event/saturday-scrabblers-7/2029-10-06/
LOCATION:Carrer Acàcies\, 9\, 17257 Torroella de Montgrí\, Girona\, Spain\, Carrer Acàcies\, 9\, 17257 Girona\, Spain\, Torroella de Montgri\, Girona\, 17257\, Spain
CATEGORIES:Saturday Scrabblers
ATTACH;FMTTYPE=image/jpeg:https://dev.u3acostabrava.org/wp-content/uploads/2025/01/Scrabble-1.jpg
ORGANIZER;CN="Michelle Brown":MAILTO:michenbencostabrava@gmail.com
END:VEVENT
BEGIN:VEVENT
DTSTART;TZID=Europe/Madrid:20291013T143000
DTEND;TZID=Europe/Madrid:20291013T170000
DTSTAMP:20260424T184647
CREATED:20250103T231941Z
LAST-MODIFIED:20250827T132516Z
UID:10007150-1886596200-1886605200@dev.u3acostabrava.org
SUMMARY:Saturday Scrabblers
DESCRIPTION:A relaxed small group of ‘scrabblers’ who meet in a member’s home. \nContact Michelle the coordinator and come along for a taster session.
URL:https://dev.u3acostabrava.org/event/saturday-scrabblers-7/2029-10-13/
LOCATION:Carrer Acàcies\, 9\, 17257 Torroella de Montgrí\, Girona\, Spain\, Carrer Acàcies\, 9\, 17257 Girona\, Spain\, Torroella de Montgri\, Girona\, 17257\, Spain
CATEGORIES:Saturday Scrabblers
ATTACH;FMTTYPE=image/jpeg:https://dev.u3acostabrava.org/wp-content/uploads/2025/01/Scrabble-1.jpg
ORGANIZER;CN="Michelle Brown":MAILTO:michenbencostabrava@gmail.com
END:VEVENT
BEGIN:VEVENT
DTSTART;TZID=Europe/Madrid:20291020T143000
DTEND;TZID=Europe/Madrid:20291020T170000
DTSTAMP:20260424T184647
CREATED:20250103T231941Z
LAST-MODIFIED:20250827T132516Z
UID:10007151-1887201000-1887210000@dev.u3acostabrava.org
SUMMARY:Saturday Scrabblers
DESCRIPTION:A relaxed small group of ‘scrabblers’ who meet in a member’s home. \nContact Michelle the coordinator and come along for a taster session.
URL:https://dev.u3acostabrava.org/event/saturday-scrabblers-7/2029-10-20/
LOCATION:Carrer Acàcies\, 9\, 17257 Torroella de Montgrí\, Girona\, Spain\, Carrer Acàcies\, 9\, 17257 Girona\, Spain\, Torroella de Montgri\, Girona\, 17257\, Spain
CATEGORIES:Saturday Scrabblers
ATTACH;FMTTYPE=image/jpeg:https://dev.u3acostabrava.org/wp-content/uploads/2025/01/Scrabble-1.jpg
ORGANIZER;CN="Michelle Brown":MAILTO:michenbencostabrava@gmail.com
END:VEVENT
BEGIN:VEVENT
DTSTART;TZID=Europe/Madrid:20291027T143000
DTEND;TZID=Europe/Madrid:20291027T170000
DTSTAMP:20260424T184647
CREATED:20250103T231941Z
LAST-MODIFIED:20250827T132516Z
UID:10007152-1887805800-1887814800@dev.u3acostabrava.org
SUMMARY:Saturday Scrabblers
DESCRIPTION:A relaxed small group of ‘scrabblers’ who meet in a member’s home. \nContact Michelle the coordinator and come along for a taster session.
URL:https://dev.u3acostabrava.org/event/saturday-scrabblers-7/2029-10-27/
LOCATION:Carrer Acàcies\, 9\, 17257 Torroella de Montgrí\, Girona\, Spain\, Carrer Acàcies\, 9\, 17257 Girona\, Spain\, Torroella de Montgri\, Girona\, 17257\, Spain
CATEGORIES:Saturday Scrabblers
ATTACH;FMTTYPE=image/jpeg:https://dev.u3acostabrava.org/wp-content/uploads/2025/01/Scrabble-1.jpg
ORGANIZER;CN="Michelle Brown":MAILTO:michenbencostabrava@gmail.com
END:VEVENT
BEGIN:VEVENT
DTSTART;TZID=Europe/Madrid:20291103T143000
DTEND;TZID=Europe/Madrid:20291103T170000
DTSTAMP:20260424T184647
CREATED:20250103T231941Z
LAST-MODIFIED:20250827T132516Z
UID:10007153-1888410600-1888419600@dev.u3acostabrava.org
SUMMARY:Saturday Scrabblers
DESCRIPTION:A relaxed small group of ‘scrabblers’ who meet in a member’s home. \nContact Michelle the coordinator and come along for a taster session.
URL:https://dev.u3acostabrava.org/event/saturday-scrabblers-7/2029-11-03/
LOCATION:Carrer Acàcies\, 9\, 17257 Torroella de Montgrí\, Girona\, Spain\, Carrer Acàcies\, 9\, 17257 Girona\, Spain\, Torroella de Montgri\, Girona\, 17257\, Spain
CATEGORIES:Saturday Scrabblers
ATTACH;FMTTYPE=image/jpeg:https://dev.u3acostabrava.org/wp-content/uploads/2025/01/Scrabble-1.jpg
ORGANIZER;CN="Michelle Brown":MAILTO:michenbencostabrava@gmail.com
END:VEVENT
BEGIN:VEVENT
DTSTART;TZID=Europe/Madrid:20291110T143000
DTEND;TZID=Europe/Madrid:20291110T170000
DTSTAMP:20260424T184647
CREATED:20250103T231941Z
LAST-MODIFIED:20250827T132516Z
UID:10007154-1889015400-1889024400@dev.u3acostabrava.org
SUMMARY:Saturday Scrabblers
DESCRIPTION:A relaxed small group of ‘scrabblers’ who meet in a member’s home. \nContact Michelle the coordinator and come along for a taster session.
URL:https://dev.u3acostabrava.org/event/saturday-scrabblers-7/2029-11-10/
LOCATION:Carrer Acàcies\, 9\, 17257 Torroella de Montgrí\, Girona\, Spain\, Carrer Acàcies\, 9\, 17257 Girona\, Spain\, Torroella de Montgri\, Girona\, 17257\, Spain
CATEGORIES:Saturday Scrabblers
ATTACH;FMTTYPE=image/jpeg:https://dev.u3acostabrava.org/wp-content/uploads/2025/01/Scrabble-1.jpg
ORGANIZER;CN="Michelle Brown":MAILTO:michenbencostabrava@gmail.com
END:VEVENT
BEGIN:VEVENT
DTSTART;TZID=Europe/Madrid:20291117T143000
DTEND;TZID=Europe/Madrid:20291117T170000
DTSTAMP:20260424T184647
CREATED:20250103T231941Z
LAST-MODIFIED:20250827T132516Z
UID:10007155-1889620200-1889629200@dev.u3acostabrava.org
SUMMARY:Saturday Scrabblers
DESCRIPTION:A relaxed small group of ‘scrabblers’ who meet in a member’s home. \nContact Michelle the coordinator and come along for a taster session.
URL:https://dev.u3acostabrava.org/event/saturday-scrabblers-7/2029-11-17/
LOCATION:Carrer Acàcies\, 9\, 17257 Torroella de Montgrí\, Girona\, Spain\, Carrer Acàcies\, 9\, 17257 Girona\, Spain\, Torroella de Montgri\, Girona\, 17257\, Spain
CATEGORIES:Saturday Scrabblers
ATTACH;FMTTYPE=image/jpeg:https://dev.u3acostabrava.org/wp-content/uploads/2025/01/Scrabble-1.jpg
ORGANIZER;CN="Michelle Brown":MAILTO:michenbencostabrava@gmail.com
END:VEVENT
BEGIN:VEVENT
DTSTART;TZID=Europe/Madrid:20291124T143000
DTEND;TZID=Europe/Madrid:20291124T170000
DTSTAMP:20260424T184647
CREATED:20250103T231941Z
LAST-MODIFIED:20250827T132516Z
UID:10007156-1890225000-1890234000@dev.u3acostabrava.org
SUMMARY:Saturday Scrabblers
DESCRIPTION:A relaxed small group of ‘scrabblers’ who meet in a member’s home. \nContact Michelle the coordinator and come along for a taster session.
URL:https://dev.u3acostabrava.org/event/saturday-scrabblers-7/2029-11-24/
LOCATION:Carrer Acàcies\, 9\, 17257 Torroella de Montgrí\, Girona\, Spain\, Carrer Acàcies\, 9\, 17257 Girona\, Spain\, Torroella de Montgri\, Girona\, 17257\, Spain
CATEGORIES:Saturday Scrabblers
ATTACH;FMTTYPE=image/jpeg:https://dev.u3acostabrava.org/wp-content/uploads/2025/01/Scrabble-1.jpg
ORGANIZER;CN="Michelle Brown":MAILTO:michenbencostabrava@gmail.com
END:VEVENT
BEGIN:VEVENT
DTSTART;TZID=Europe/Madrid:20291201T143000
DTEND;TZID=Europe/Madrid:20291201T170000
DTSTAMP:20260424T184647
CREATED:20250103T231941Z
LAST-MODIFIED:20250827T132516Z
UID:10007157-1890829800-1890838800@dev.u3acostabrava.org
SUMMARY:Saturday Scrabblers
DESCRIPTION:A relaxed small group of ‘scrabblers’ who meet in a member’s home. \nContact Michelle the coordinator and come along for a taster session.
URL:https://dev.u3acostabrava.org/event/saturday-scrabblers-7/2029-12-01/
LOCATION:Carrer Acàcies\, 9\, 17257 Torroella de Montgrí\, Girona\, Spain\, Carrer Acàcies\, 9\, 17257 Girona\, Spain\, Torroella de Montgri\, Girona\, 17257\, Spain
CATEGORIES:Saturday Scrabblers
ATTACH;FMTTYPE=image/jpeg:https://dev.u3acostabrava.org/wp-content/uploads/2025/01/Scrabble-1.jpg
ORGANIZER;CN="Michelle Brown":MAILTO:michenbencostabrava@gmail.com
END:VEVENT
BEGIN:VEVENT
DTSTART;TZID=Europe/Madrid:20291208T143000
DTEND;TZID=Europe/Madrid:20291208T170000
DTSTAMP:20260424T184647
CREATED:20250103T231941Z
LAST-MODIFIED:20250827T132516Z
UID:10007158-1891434600-1891443600@dev.u3acostabrava.org
SUMMARY:Saturday Scrabblers
DESCRIPTION:A relaxed small group of ‘scrabblers’ who meet in a member’s home. \nContact Michelle the coordinator and come along for a taster session.
URL:https://dev.u3acostabrava.org/event/saturday-scrabblers-7/2029-12-08/
LOCATION:Carrer Acàcies\, 9\, 17257 Torroella de Montgrí\, Girona\, Spain\, Carrer Acàcies\, 9\, 17257 Girona\, Spain\, Torroella de Montgri\, Girona\, 17257\, Spain
CATEGORIES:Saturday Scrabblers
ATTACH;FMTTYPE=image/jpeg:https://dev.u3acostabrava.org/wp-content/uploads/2025/01/Scrabble-1.jpg
ORGANIZER;CN="Michelle Brown":MAILTO:michenbencostabrava@gmail.com
END:VEVENT
BEGIN:VEVENT
DTSTART;TZID=Europe/Madrid:20291215T143000
DTEND;TZID=Europe/Madrid:20291215T170000
DTSTAMP:20260424T184647
CREATED:20250103T231941Z
LAST-MODIFIED:20250827T132516Z
UID:10007159-1892039400-1892048400@dev.u3acostabrava.org
SUMMARY:Saturday Scrabblers
DESCRIPTION:A relaxed small group of ‘scrabblers’ who meet in a member’s home. \nContact Michelle the coordinator and come along for a taster session.
URL:https://dev.u3acostabrava.org/event/saturday-scrabblers-7/2029-12-15/
LOCATION:Carrer Acàcies\, 9\, 17257 Torroella de Montgrí\, Girona\, Spain\, Carrer Acàcies\, 9\, 17257 Girona\, Spain\, Torroella de Montgri\, Girona\, 17257\, Spain
CATEGORIES:Saturday Scrabblers
ATTACH;FMTTYPE=image/jpeg:https://dev.u3acostabrava.org/wp-content/uploads/2025/01/Scrabble-1.jpg
ORGANIZER;CN="Michelle Brown":MAILTO:michenbencostabrava@gmail.com
END:VEVENT
BEGIN:VEVENT
DTSTART;TZID=Europe/Madrid:20291222T143000
DTEND;TZID=Europe/Madrid:20291222T170000
DTSTAMP:20260424T184647
CREATED:20250103T231941Z
LAST-MODIFIED:20250827T132516Z
UID:10007160-1892644200-1892653200@dev.u3acostabrava.org
SUMMARY:Saturday Scrabblers
DESCRIPTION:A relaxed small group of ‘scrabblers’ who meet in a member’s home. \nContact Michelle the coordinator and come along for a taster session.
URL:https://dev.u3acostabrava.org/event/saturday-scrabblers-7/2029-12-22/
LOCATION:Carrer Acàcies\, 9\, 17257 Torroella de Montgrí\, Girona\, Spain\, Carrer Acàcies\, 9\, 17257 Girona\, Spain\, Torroella de Montgri\, Girona\, 17257\, Spain
CATEGORIES:Saturday Scrabblers
ATTACH;FMTTYPE=image/jpeg:https://dev.u3acostabrava.org/wp-content/uploads/2025/01/Scrabble-1.jpg
ORGANIZER;CN="Michelle Brown":MAILTO:michenbencostabrava@gmail.com
END:VEVENT
BEGIN:VEVENT
DTSTART;TZID=Europe/Madrid:20291229T143000
DTEND;TZID=Europe/Madrid:20291229T170000
DTSTAMP:20260424T184647
CREATED:20250103T231941Z
LAST-MODIFIED:20250827T132516Z
UID:10007161-1893249000-1893258000@dev.u3acostabrava.org
SUMMARY:Saturday Scrabblers
DESCRIPTION:A relaxed small group of ‘scrabblers’ who meet in a member’s home. \nContact Michelle the coordinator and come along for a taster session.
URL:https://dev.u3acostabrava.org/event/saturday-scrabblers-7/2029-12-29/
LOCATION:Carrer Acàcies\, 9\, 17257 Torroella de Montgrí\, Girona\, Spain\, Carrer Acàcies\, 9\, 17257 Girona\, Spain\, Torroella de Montgri\, Girona\, 17257\, Spain
CATEGORIES:Saturday Scrabblers
ATTACH;FMTTYPE=image/jpeg:https://dev.u3acostabrava.org/wp-content/uploads/2025/01/Scrabble-1.jpg
ORGANIZER;CN="Michelle Brown":MAILTO:michenbencostabrava@gmail.com
END:VEVENT
BEGIN:VEVENT
DTSTART;TZID=Europe/Madrid:20300105T143000
DTEND;TZID=Europe/Madrid:20300105T170000
DTSTAMP:20260424T184647
CREATED:20250103T231941Z
LAST-MODIFIED:20250827T132516Z
UID:10007162-1893853800-1893862800@dev.u3acostabrava.org
SUMMARY:Saturday Scrabblers
DESCRIPTION:A relaxed small group of ‘scrabblers’ who meet in a member’s home. \nContact Michelle the coordinator and come along for a taster session.
URL:https://dev.u3acostabrava.org/event/saturday-scrabblers-7/2030-01-05/
LOCATION:Carrer Acàcies\, 9\, 17257 Torroella de Montgrí\, Girona\, Spain\, Carrer Acàcies\, 9\, 17257 Girona\, Spain\, Torroella de Montgri\, Girona\, 17257\, Spain
CATEGORIES:Saturday Scrabblers
ATTACH;FMTTYPE=image/jpeg:https://dev.u3acostabrava.org/wp-content/uploads/2025/01/Scrabble-1.jpg
ORGANIZER;CN="Michelle Brown":MAILTO:michenbencostabrava@gmail.com
END:VEVENT
BEGIN:VEVENT
DTSTART;TZID=Europe/Madrid:20300112T143000
DTEND;TZID=Europe/Madrid:20300112T170000
DTSTAMP:20260424T184647
CREATED:20250103T231941Z
LAST-MODIFIED:20250827T132516Z
UID:10007582-1894458600-1894467600@dev.u3acostabrava.org
SUMMARY:Saturday Scrabblers
DESCRIPTION:A relaxed small group of ‘scrabblers’ who meet in a member’s home. \nContact Michelle the coordinator and come along for a taster session.
URL:https://dev.u3acostabrava.org/event/saturday-scrabblers-7/2030-01-12/
LOCATION:Carrer Acàcies\, 9\, 17257 Torroella de Montgrí\, Girona\, Spain\, Carrer Acàcies\, 9\, 17257 Girona\, Spain\, Torroella de Montgri\, Girona\, 17257\, Spain
CATEGORIES:Saturday Scrabblers
ATTACH;FMTTYPE=image/jpeg:https://dev.u3acostabrava.org/wp-content/uploads/2025/01/Scrabble-1.jpg
ORGANIZER;CN="Michelle Brown":MAILTO:michenbencostabrava@gmail.com
END:VEVENT
BEGIN:VEVENT
DTSTART;TZID=Europe/Madrid:20300119T143000
DTEND;TZID=Europe/Madrid:20300119T170000
DTSTAMP:20260424T184648
CREATED:20250103T231941Z
LAST-MODIFIED:20250827T132516Z
UID:10007583-1895063400-1895072400@dev.u3acostabrava.org
SUMMARY:Saturday Scrabblers
DESCRIPTION:A relaxed small group of ‘scrabblers’ who meet in a member’s home. \nContact Michelle the coordinator and come along for a taster session.
URL:https://dev.u3acostabrava.org/event/saturday-scrabblers-7/2030-01-19/
LOCATION:Carrer Acàcies\, 9\, 17257 Torroella de Montgrí\, Girona\, Spain\, Carrer Acàcies\, 9\, 17257 Girona\, Spain\, Torroella de Montgri\, Girona\, 17257\, Spain
CATEGORIES:Saturday Scrabblers
ATTACH;FMTTYPE=image/jpeg:https://dev.u3acostabrava.org/wp-content/uploads/2025/01/Scrabble-1.jpg
ORGANIZER;CN="Michelle Brown":MAILTO:michenbencostabrava@gmail.com
END:VEVENT
BEGIN:VEVENT
DTSTART;TZID=Europe/Madrid:20300126T143000
DTEND;TZID=Europe/Madrid:20300126T170000
DTSTAMP:20260424T184648
CREATED:20250103T231941Z
LAST-MODIFIED:20250827T132516Z
UID:10007584-1895668200-1895677200@dev.u3acostabrava.org
SUMMARY:Saturday Scrabblers
DESCRIPTION:A relaxed small group of ‘scrabblers’ who meet in a member’s home. \nContact Michelle the coordinator and come along for a taster session.
URL:https://dev.u3acostabrava.org/event/saturday-scrabblers-7/2030-01-26/
LOCATION:Carrer Acàcies\, 9\, 17257 Torroella de Montgrí\, Girona\, Spain\, Carrer Acàcies\, 9\, 17257 Girona\, Spain\, Torroella de Montgri\, Girona\, 17257\, Spain
CATEGORIES:Saturday Scrabblers
ATTACH;FMTTYPE=image/jpeg:https://dev.u3acostabrava.org/wp-content/uploads/2025/01/Scrabble-1.jpg
ORGANIZER;CN="Michelle Brown":MAILTO:michenbencostabrava@gmail.com
END:VEVENT
BEGIN:VEVENT
DTSTART;TZID=Europe/Madrid:20300202T143000
DTEND;TZID=Europe/Madrid:20300202T170000
DTSTAMP:20260424T184648
CREATED:20250103T231941Z
LAST-MODIFIED:20250827T132516Z
UID:10007585-1896273000-1896282000@dev.u3acostabrava.org
SUMMARY:Saturday Scrabblers
DESCRIPTION:A relaxed small group of ‘scrabblers’ who meet in a member’s home. \nContact Michelle the coordinator and come along for a taster session.
URL:https://dev.u3acostabrava.org/event/saturday-scrabblers-7/2030-02-02/
LOCATION:Carrer Acàcies\, 9\, 17257 Torroella de Montgrí\, Girona\, Spain\, Carrer Acàcies\, 9\, 17257 Girona\, Spain\, Torroella de Montgri\, Girona\, 17257\, Spain
CATEGORIES:Saturday Scrabblers
ATTACH;FMTTYPE=image/jpeg:https://dev.u3acostabrava.org/wp-content/uploads/2025/01/Scrabble-1.jpg
ORGANIZER;CN="Michelle Brown":MAILTO:michenbencostabrava@gmail.com
END:VEVENT
BEGIN:VEVENT
DTSTART;TZID=Europe/Madrid:20300209T143000
DTEND;TZID=Europe/Madrid:20300209T170000
DTSTAMP:20260424T184648
CREATED:20250103T231941Z
LAST-MODIFIED:20250827T132516Z
UID:10007586-1896877800-1896886800@dev.u3acostabrava.org
SUMMARY:Saturday Scrabblers
DESCRIPTION:A relaxed small group of ‘scrabblers’ who meet in a member’s home. \nContact Michelle the coordinator and come along for a taster session.
URL:https://dev.u3acostabrava.org/event/saturday-scrabblers-7/2030-02-09/
LOCATION:Carrer Acàcies\, 9\, 17257 Torroella de Montgrí\, Girona\, Spain\, Carrer Acàcies\, 9\, 17257 Girona\, Spain\, Torroella de Montgri\, Girona\, 17257\, Spain
CATEGORIES:Saturday Scrabblers
ATTACH;FMTTYPE=image/jpeg:https://dev.u3acostabrava.org/wp-content/uploads/2025/01/Scrabble-1.jpg
ORGANIZER;CN="Michelle Brown":MAILTO:michenbencostabrava@gmail.com
END:VEVENT
BEGIN:VEVENT
DTSTART;TZID=Europe/Madrid:20300216T143000
DTEND;TZID=Europe/Madrid:20300216T170000
DTSTAMP:20260424T184648
CREATED:20250103T231941Z
LAST-MODIFIED:20250827T132516Z
UID:10007587-1897482600-1897491600@dev.u3acostabrava.org
SUMMARY:Saturday Scrabblers
DESCRIPTION:A relaxed small group of ‘scrabblers’ who meet in a member’s home. \nContact Michelle the coordinator and come along for a taster session.
URL:https://dev.u3acostabrava.org/event/saturday-scrabblers-7/2030-02-16/
LOCATION:Carrer Acàcies\, 9\, 17257 Torroella de Montgrí\, Girona\, Spain\, Carrer Acàcies\, 9\, 17257 Girona\, Spain\, Torroella de Montgri\, Girona\, 17257\, Spain
CATEGORIES:Saturday Scrabblers
ATTACH;FMTTYPE=image/jpeg:https://dev.u3acostabrava.org/wp-content/uploads/2025/01/Scrabble-1.jpg
ORGANIZER;CN="Michelle Brown":MAILTO:michenbencostabrava@gmail.com
END:VEVENT
BEGIN:VEVENT
DTSTART;TZID=Europe/Madrid:20300223T143000
DTEND;TZID=Europe/Madrid:20300223T170000
DTSTAMP:20260424T184648
CREATED:20250103T231941Z
LAST-MODIFIED:20250827T132516Z
UID:10007588-1898087400-1898096400@dev.u3acostabrava.org
SUMMARY:Saturday Scrabblers
DESCRIPTION:A relaxed small group of ‘scrabblers’ who meet in a member’s home. \nContact Michelle the coordinator and come along for a taster session.
URL:https://dev.u3acostabrava.org/event/saturday-scrabblers-7/2030-02-23/
LOCATION:Carrer Acàcies\, 9\, 17257 Torroella de Montgrí\, Girona\, Spain\, Carrer Acàcies\, 9\, 17257 Girona\, Spain\, Torroella de Montgri\, Girona\, 17257\, Spain
CATEGORIES:Saturday Scrabblers
ATTACH;FMTTYPE=image/jpeg:https://dev.u3acostabrava.org/wp-content/uploads/2025/01/Scrabble-1.jpg
ORGANIZER;CN="Michelle Brown":MAILTO:michenbencostabrava@gmail.com
END:VEVENT
BEGIN:VEVENT
DTSTART;TZID=Europe/Madrid:20300302T143000
DTEND;TZID=Europe/Madrid:20300302T170000
DTSTAMP:20260424T184648
CREATED:20250103T231941Z
LAST-MODIFIED:20250827T132516Z
UID:10007589-1898692200-1898701200@dev.u3acostabrava.org
SUMMARY:Saturday Scrabblers
DESCRIPTION:A relaxed small group of ‘scrabblers’ who meet in a member’s home. \nContact Michelle the coordinator and come along for a taster session.
URL:https://dev.u3acostabrava.org/event/saturday-scrabblers-7/2030-03-02/
LOCATION:Carrer Acàcies\, 9\, 17257 Torroella de Montgrí\, Girona\, Spain\, Carrer Acàcies\, 9\, 17257 Girona\, Spain\, Torroella de Montgri\, Girona\, 17257\, Spain
CATEGORIES:Saturday Scrabblers
ATTACH;FMTTYPE=image/jpeg:https://dev.u3acostabrava.org/wp-content/uploads/2025/01/Scrabble-1.jpg
ORGANIZER;CN="Michelle Brown":MAILTO:michenbencostabrava@gmail.com
END:VEVENT
BEGIN:VEVENT
DTSTART;TZID=Europe/Madrid:20300309T143000
DTEND;TZID=Europe/Madrid:20300309T170000
DTSTAMP:20260424T184648
CREATED:20250103T231941Z
LAST-MODIFIED:20250827T132516Z
UID:10007590-1899297000-1899306000@dev.u3acostabrava.org
SUMMARY:Saturday Scrabblers
DESCRIPTION:A relaxed small group of ‘scrabblers’ who meet in a member’s home. \nContact Michelle the coordinator and come along for a taster session.
URL:https://dev.u3acostabrava.org/event/saturday-scrabblers-7/2030-03-09/
LOCATION:Carrer Acàcies\, 9\, 17257 Torroella de Montgrí\, Girona\, Spain\, Carrer Acàcies\, 9\, 17257 Girona\, Spain\, Torroella de Montgri\, Girona\, 17257\, Spain
CATEGORIES:Saturday Scrabblers
ATTACH;FMTTYPE=image/jpeg:https://dev.u3acostabrava.org/wp-content/uploads/2025/01/Scrabble-1.jpg
ORGANIZER;CN="Michelle Brown":MAILTO:michenbencostabrava@gmail.com
END:VEVENT
BEGIN:VEVENT
DTSTART;TZID=Europe/Madrid:20300316T143000
DTEND;TZID=Europe/Madrid:20300316T170000
DTSTAMP:20260424T184648
CREATED:20250103T231941Z
LAST-MODIFIED:20250827T132516Z
UID:10007591-1899901800-1899910800@dev.u3acostabrava.org
SUMMARY:Saturday Scrabblers
DESCRIPTION:A relaxed small group of ‘scrabblers’ who meet in a member’s home. \nContact Michelle the coordinator and come along for a taster session.
URL:https://dev.u3acostabrava.org/event/saturday-scrabblers-7/2030-03-16/
LOCATION:Carrer Acàcies\, 9\, 17257 Torroella de Montgrí\, Girona\, Spain\, Carrer Acàcies\, 9\, 17257 Girona\, Spain\, Torroella de Montgri\, Girona\, 17257\, Spain
CATEGORIES:Saturday Scrabblers
ATTACH;FMTTYPE=image/jpeg:https://dev.u3acostabrava.org/wp-content/uploads/2025/01/Scrabble-1.jpg
ORGANIZER;CN="Michelle Brown":MAILTO:michenbencostabrava@gmail.com
END:VEVENT
BEGIN:VEVENT
DTSTART;TZID=Europe/Madrid:20300323T143000
DTEND;TZID=Europe/Madrid:20300323T170000
DTSTAMP:20260424T184648
CREATED:20250103T231941Z
LAST-MODIFIED:20250827T132516Z
UID:10007592-1900506600-1900515600@dev.u3acostabrava.org
SUMMARY:Saturday Scrabblers
DESCRIPTION:A relaxed small group of ‘scrabblers’ who meet in a member’s home. \nContact Michelle the coordinator and come along for a taster session.
URL:https://dev.u3acostabrava.org/event/saturday-scrabblers-7/2030-03-23/
LOCATION:Carrer Acàcies\, 9\, 17257 Torroella de Montgrí\, Girona\, Spain\, Carrer Acàcies\, 9\, 17257 Girona\, Spain\, Torroella de Montgri\, Girona\, 17257\, Spain
CATEGORIES:Saturday Scrabblers
ATTACH;FMTTYPE=image/jpeg:https://dev.u3acostabrava.org/wp-content/uploads/2025/01/Scrabble-1.jpg
ORGANIZER;CN="Michelle Brown":MAILTO:michenbencostabrava@gmail.com
END:VEVENT
BEGIN:VEVENT
DTSTART;TZID=Europe/Madrid:20300330T143000
DTEND;TZID=Europe/Madrid:20300330T170000
DTSTAMP:20260424T184648
CREATED:20250103T231941Z
LAST-MODIFIED:20250827T132516Z
UID:10007593-1901111400-1901120400@dev.u3acostabrava.org
SUMMARY:Saturday Scrabblers
DESCRIPTION:A relaxed small group of ‘scrabblers’ who meet in a member’s home. \nContact Michelle the coordinator and come along for a taster session.
URL:https://dev.u3acostabrava.org/event/saturday-scrabblers-7/2030-03-30/
LOCATION:Carrer Acàcies\, 9\, 17257 Torroella de Montgrí\, Girona\, Spain\, Carrer Acàcies\, 9\, 17257 Girona\, Spain\, Torroella de Montgri\, Girona\, 17257\, Spain
CATEGORIES:Saturday Scrabblers
ATTACH;FMTTYPE=image/jpeg:https://dev.u3acostabrava.org/wp-content/uploads/2025/01/Scrabble-1.jpg
ORGANIZER;CN="Michelle Brown":MAILTO:michenbencostabrava@gmail.com
END:VEVENT
BEGIN:VEVENT
DTSTART;TZID=Europe/Madrid:20300406T143000
DTEND;TZID=Europe/Madrid:20300406T170000
DTSTAMP:20260424T184648
CREATED:20250103T231941Z
LAST-MODIFIED:20250827T132516Z
UID:10007602-1901716200-1901725200@dev.u3acostabrava.org
SUMMARY:Saturday Scrabblers
DESCRIPTION:A relaxed small group of ‘scrabblers’ who meet in a member’s home. \nContact Michelle the coordinator and come along for a taster session.
URL:https://dev.u3acostabrava.org/event/saturday-scrabblers-7/2030-04-06/
LOCATION:Carrer Acàcies\, 9\, 17257 Torroella de Montgrí\, Girona\, Spain\, Carrer Acàcies\, 9\, 17257 Girona\, Spain\, Torroella de Montgri\, Girona\, 17257\, Spain
CATEGORIES:Saturday Scrabblers
ATTACH;FMTTYPE=image/jpeg:https://dev.u3acostabrava.org/wp-content/uploads/2025/01/Scrabble-1.jpg
ORGANIZER;CN="Michelle Brown":MAILTO:michenbencostabrava@gmail.com
END:VEVENT
BEGIN:VEVENT
DTSTART;TZID=Europe/Madrid:20300413T143000
DTEND;TZID=Europe/Madrid:20300413T170000
DTSTAMP:20260424T184648
CREATED:20250103T231941Z
LAST-MODIFIED:20250827T132516Z
UID:10007640-1902321000-1902330000@dev.u3acostabrava.org
SUMMARY:Saturday Scrabblers
DESCRIPTION:A relaxed small group of ‘scrabblers’ who meet in a member’s home. \nContact Michelle the coordinator and come along for a taster session.
URL:https://dev.u3acostabrava.org/event/saturday-scrabblers-7/2030-04-13/
LOCATION:Carrer Acàcies\, 9\, 17257 Torroella de Montgrí\, Girona\, Spain\, Carrer Acàcies\, 9\, 17257 Girona\, Spain\, Torroella de Montgri\, Girona\, 17257\, Spain
CATEGORIES:Saturday Scrabblers
ATTACH;FMTTYPE=image/jpeg:https://dev.u3acostabrava.org/wp-content/uploads/2025/01/Scrabble-1.jpg
ORGANIZER;CN="Michelle Brown":MAILTO:michenbencostabrava@gmail.com
END:VEVENT
BEGIN:VEVENT
DTSTART;TZID=Europe/Madrid:20300420T143000
DTEND;TZID=Europe/Madrid:20300420T170000
DTSTAMP:20260424T184648
CREATED:20250103T231941Z
LAST-MODIFIED:20250827T132516Z
UID:10007644-1902925800-1902934800@dev.u3acostabrava.org
SUMMARY:Saturday Scrabblers
DESCRIPTION:A relaxed small group of ‘scrabblers’ who meet in a member’s home. \nContact Michelle the coordinator and come along for a taster session.
URL:https://dev.u3acostabrava.org/event/saturday-scrabblers-7/2030-04-20/
LOCATION:Carrer Acàcies\, 9\, 17257 Torroella de Montgrí\, Girona\, Spain\, Carrer Acàcies\, 9\, 17257 Girona\, Spain\, Torroella de Montgri\, Girona\, 17257\, Spain
CATEGORIES:Saturday Scrabblers
ATTACH;FMTTYPE=image/jpeg:https://dev.u3acostabrava.org/wp-content/uploads/2025/01/Scrabble-1.jpg
ORGANIZER;CN="Michelle Brown":MAILTO:michenbencostabrava@gmail.com
END:VEVENT
BEGIN:VEVENT
DTSTART;TZID=Europe/Madrid:20300427T143000
DTEND;TZID=Europe/Madrid:20300427T170000
DTSTAMP:20260424T184648
CREATED:20250103T231941Z
LAST-MODIFIED:20250827T132516Z
UID:10007710-1903530600-1903539600@dev.u3acostabrava.org
SUMMARY:Saturday Scrabblers
DESCRIPTION:A relaxed small group of ‘scrabblers’ who meet in a member’s home. \nContact Michelle the coordinator and come along for a taster session.
URL:https://dev.u3acostabrava.org/event/saturday-scrabblers-7/2030-04-27/
LOCATION:Carrer Acàcies\, 9\, 17257 Torroella de Montgrí\, Girona\, Spain\, Carrer Acàcies\, 9\, 17257 Girona\, Spain\, Torroella de Montgri\, Girona\, 17257\, Spain
CATEGORIES:Saturday Scrabblers
ATTACH;FMTTYPE=image/jpeg:https://dev.u3acostabrava.org/wp-content/uploads/2025/01/Scrabble-1.jpg
ORGANIZER;CN="Michelle Brown":MAILTO:michenbencostabrava@gmail.com
END:VEVENT
END:VCALENDAR