BEGIN:VCALENDAR
VERSION:2.0
PRODID:-//U3A Costa Brava - ECPv6.15.14//NONSGML v1.0//EN
CALSCALE:GREGORIAN
METHOD:PUBLISH
X-WR-CALNAME:U3A Costa Brava
X-ORIGINAL-URL:https://dev.u3acostabrava.org
X-WR-CALDESC:Events for U3A Costa Brava
REFRESH-INTERVAL;VALUE=DURATION:PT1H
X-Robots-Tag:noindex
X-PUBLISHED-TTL:PT1H
BEGIN:VTIMEZONE
TZID:Europe/Madrid
BEGIN:DAYLIGHT
TZOFFSETFROM:+0100
TZOFFSETTO:+0200
TZNAME:CEST
DTSTART:20280326T010000
END:DAYLIGHT
BEGIN:STANDARD
TZOFFSETFROM:+0200
TZOFFSETTO:+0100
TZNAME:CET
DTSTART:20281029T010000
END:STANDARD
BEGIN:DAYLIGHT
TZOFFSETFROM:+0100
TZOFFSETTO:+0200
TZNAME:CEST
DTSTART:20290325T010000
END:DAYLIGHT
BEGIN:STANDARD
TZOFFSETFROM:+0200
TZOFFSETTO:+0100
TZNAME:CET
DTSTART:20291028T010000
END:STANDARD
BEGIN:DAYLIGHT
TZOFFSETFROM:+0100
TZOFFSETTO:+0200
TZNAME:CEST
DTSTART:20300331T010000
END:DAYLIGHT
BEGIN:STANDARD
TZOFFSETFROM:+0200
TZOFFSETTO:+0100
TZNAME:CET
DTSTART:20301027T010000
END:STANDARD
END:VTIMEZONE
BEGIN:VEVENT
DTSTART;TZID=Europe/Madrid:20290421T143000
DTEND;TZID=Europe/Madrid:20290421T170000
DTSTAMP:20260424T160426
CREATED:20250103T231941Z
LAST-MODIFIED:20250827T132516Z
UID:10007125-1871476200-1871485200@dev.u3acostabrava.org
SUMMARY:Saturday Scrabblers
DESCRIPTION:A relaxed small group of ‘scrabblers’ who meet in a member’s home. \nContact Michelle the coordinator and come along for a taster session.
URL:https://dev.u3acostabrava.org/event/saturday-scrabblers-7/2029-04-21/
LOCATION:Carrer Acàcies\, 9\, 17257 Torroella de Montgrí\, Girona\, Spain\, Carrer Acàcies\, 9\, 17257 Girona\, Spain\, Torroella de Montgri\, Girona\, 17257\, Spain
CATEGORIES:Saturday Scrabblers
ATTACH;FMTTYPE=image/jpeg:https://dev.u3acostabrava.org/wp-content/uploads/2025/01/Scrabble-1.jpg
ORGANIZER;CN="Michelle Brown":MAILTO:michenbencostabrava@gmail.com
END:VEVENT
BEGIN:VEVENT
DTSTART;TZID=Europe/Madrid:20290428T143000
DTEND;TZID=Europe/Madrid:20290428T170000
DTSTAMP:20260424T160426
CREATED:20250103T231941Z
LAST-MODIFIED:20250827T132516Z
UID:10007126-1872081000-1872090000@dev.u3acostabrava.org
SUMMARY:Saturday Scrabblers
DESCRIPTION:A relaxed small group of ‘scrabblers’ who meet in a member’s home. \nContact Michelle the coordinator and come along for a taster session.
URL:https://dev.u3acostabrava.org/event/saturday-scrabblers-7/2029-04-28/
LOCATION:Carrer Acàcies\, 9\, 17257 Torroella de Montgrí\, Girona\, Spain\, Carrer Acàcies\, 9\, 17257 Girona\, Spain\, Torroella de Montgri\, Girona\, 17257\, Spain
CATEGORIES:Saturday Scrabblers
ATTACH;FMTTYPE=image/jpeg:https://dev.u3acostabrava.org/wp-content/uploads/2025/01/Scrabble-1.jpg
ORGANIZER;CN="Michelle Brown":MAILTO:michenbencostabrava@gmail.com
END:VEVENT
BEGIN:VEVENT
DTSTART;TZID=Europe/Madrid:20290505T143000
DTEND;TZID=Europe/Madrid:20290505T170000
DTSTAMP:20260424T160426
CREATED:20250103T231941Z
LAST-MODIFIED:20250827T132516Z
UID:10007127-1872685800-1872694800@dev.u3acostabrava.org
SUMMARY:Saturday Scrabblers
DESCRIPTION:A relaxed small group of ‘scrabblers’ who meet in a member’s home. \nContact Michelle the coordinator and come along for a taster session.
URL:https://dev.u3acostabrava.org/event/saturday-scrabblers-7/2029-05-05/
LOCATION:Carrer Acàcies\, 9\, 17257 Torroella de Montgrí\, Girona\, Spain\, Carrer Acàcies\, 9\, 17257 Girona\, Spain\, Torroella de Montgri\, Girona\, 17257\, Spain
CATEGORIES:Saturday Scrabblers
ATTACH;FMTTYPE=image/jpeg:https://dev.u3acostabrava.org/wp-content/uploads/2025/01/Scrabble-1.jpg
ORGANIZER;CN="Michelle Brown":MAILTO:michenbencostabrava@gmail.com
END:VEVENT
BEGIN:VEVENT
DTSTART;TZID=Europe/Madrid:20290512T143000
DTEND;TZID=Europe/Madrid:20290512T170000
DTSTAMP:20260424T160426
CREATED:20250103T231941Z
LAST-MODIFIED:20250827T132516Z
UID:10007128-1873290600-1873299600@dev.u3acostabrava.org
SUMMARY:Saturday Scrabblers
DESCRIPTION:A relaxed small group of ‘scrabblers’ who meet in a member’s home. \nContact Michelle the coordinator and come along for a taster session.
URL:https://dev.u3acostabrava.org/event/saturday-scrabblers-7/2029-05-12/
LOCATION:Carrer Acàcies\, 9\, 17257 Torroella de Montgrí\, Girona\, Spain\, Carrer Acàcies\, 9\, 17257 Girona\, Spain\, Torroella de Montgri\, Girona\, 17257\, Spain
CATEGORIES:Saturday Scrabblers
ATTACH;FMTTYPE=image/jpeg:https://dev.u3acostabrava.org/wp-content/uploads/2025/01/Scrabble-1.jpg
ORGANIZER;CN="Michelle Brown":MAILTO:michenbencostabrava@gmail.com
END:VEVENT
BEGIN:VEVENT
DTSTART;TZID=Europe/Madrid:20290519T143000
DTEND;TZID=Europe/Madrid:20290519T170000
DTSTAMP:20260424T160426
CREATED:20250103T231941Z
LAST-MODIFIED:20250827T132516Z
UID:10007129-1873895400-1873904400@dev.u3acostabrava.org
SUMMARY:Saturday Scrabblers
DESCRIPTION:A relaxed small group of ‘scrabblers’ who meet in a member’s home. \nContact Michelle the coordinator and come along for a taster session.
URL:https://dev.u3acostabrava.org/event/saturday-scrabblers-7/2029-05-19/
LOCATION:Carrer Acàcies\, 9\, 17257 Torroella de Montgrí\, Girona\, Spain\, Carrer Acàcies\, 9\, 17257 Girona\, Spain\, Torroella de Montgri\, Girona\, 17257\, Spain
CATEGORIES:Saturday Scrabblers
ATTACH;FMTTYPE=image/jpeg:https://dev.u3acostabrava.org/wp-content/uploads/2025/01/Scrabble-1.jpg
ORGANIZER;CN="Michelle Brown":MAILTO:michenbencostabrava@gmail.com
END:VEVENT
BEGIN:VEVENT
DTSTART;TZID=Europe/Madrid:20290526T143000
DTEND;TZID=Europe/Madrid:20290526T170000
DTSTAMP:20260424T160426
CREATED:20250103T231941Z
LAST-MODIFIED:20250827T132516Z
UID:10007130-1874500200-1874509200@dev.u3acostabrava.org
SUMMARY:Saturday Scrabblers
DESCRIPTION:A relaxed small group of ‘scrabblers’ who meet in a member’s home. \nContact Michelle the coordinator and come along for a taster session.
URL:https://dev.u3acostabrava.org/event/saturday-scrabblers-7/2029-05-26/
LOCATION:Carrer Acàcies\, 9\, 17257 Torroella de Montgrí\, Girona\, Spain\, Carrer Acàcies\, 9\, 17257 Girona\, Spain\, Torroella de Montgri\, Girona\, 17257\, Spain
CATEGORIES:Saturday Scrabblers
ATTACH;FMTTYPE=image/jpeg:https://dev.u3acostabrava.org/wp-content/uploads/2025/01/Scrabble-1.jpg
ORGANIZER;CN="Michelle Brown":MAILTO:michenbencostabrava@gmail.com
END:VEVENT
BEGIN:VEVENT
DTSTART;TZID=Europe/Madrid:20290602T143000
DTEND;TZID=Europe/Madrid:20290602T170000
DTSTAMP:20260424T160426
CREATED:20250103T231941Z
LAST-MODIFIED:20250827T132516Z
UID:10007131-1875105000-1875114000@dev.u3acostabrava.org
SUMMARY:Saturday Scrabblers
DESCRIPTION:A relaxed small group of ‘scrabblers’ who meet in a member’s home. \nContact Michelle the coordinator and come along for a taster session.
URL:https://dev.u3acostabrava.org/event/saturday-scrabblers-7/2029-06-02/
LOCATION:Carrer Acàcies\, 9\, 17257 Torroella de Montgrí\, Girona\, Spain\, Carrer Acàcies\, 9\, 17257 Girona\, Spain\, Torroella de Montgri\, Girona\, 17257\, Spain
CATEGORIES:Saturday Scrabblers
ATTACH;FMTTYPE=image/jpeg:https://dev.u3acostabrava.org/wp-content/uploads/2025/01/Scrabble-1.jpg
ORGANIZER;CN="Michelle Brown":MAILTO:michenbencostabrava@gmail.com
END:VEVENT
BEGIN:VEVENT
DTSTART;TZID=Europe/Madrid:20290609T143000
DTEND;TZID=Europe/Madrid:20290609T170000
DTSTAMP:20260424T160426
CREATED:20250103T231941Z
LAST-MODIFIED:20250827T132516Z
UID:10007132-1875709800-1875718800@dev.u3acostabrava.org
SUMMARY:Saturday Scrabblers
DESCRIPTION:A relaxed small group of ‘scrabblers’ who meet in a member’s home. \nContact Michelle the coordinator and come along for a taster session.
URL:https://dev.u3acostabrava.org/event/saturday-scrabblers-7/2029-06-09/
LOCATION:Carrer Acàcies\, 9\, 17257 Torroella de Montgrí\, Girona\, Spain\, Carrer Acàcies\, 9\, 17257 Girona\, Spain\, Torroella de Montgri\, Girona\, 17257\, Spain
CATEGORIES:Saturday Scrabblers
ATTACH;FMTTYPE=image/jpeg:https://dev.u3acostabrava.org/wp-content/uploads/2025/01/Scrabble-1.jpg
ORGANIZER;CN="Michelle Brown":MAILTO:michenbencostabrava@gmail.com
END:VEVENT
BEGIN:VEVENT
DTSTART;TZID=Europe/Madrid:20290616T143000
DTEND;TZID=Europe/Madrid:20290616T170000
DTSTAMP:20260424T160426
CREATED:20250103T231941Z
LAST-MODIFIED:20250827T132516Z
UID:10007133-1876314600-1876323600@dev.u3acostabrava.org
SUMMARY:Saturday Scrabblers
DESCRIPTION:A relaxed small group of ‘scrabblers’ who meet in a member’s home. \nContact Michelle the coordinator and come along for a taster session.
URL:https://dev.u3acostabrava.org/event/saturday-scrabblers-7/2029-06-16/
LOCATION:Carrer Acàcies\, 9\, 17257 Torroella de Montgrí\, Girona\, Spain\, Carrer Acàcies\, 9\, 17257 Girona\, Spain\, Torroella de Montgri\, Girona\, 17257\, Spain
CATEGORIES:Saturday Scrabblers
ATTACH;FMTTYPE=image/jpeg:https://dev.u3acostabrava.org/wp-content/uploads/2025/01/Scrabble-1.jpg
ORGANIZER;CN="Michelle Brown":MAILTO:michenbencostabrava@gmail.com
END:VEVENT
BEGIN:VEVENT
DTSTART;TZID=Europe/Madrid:20290623T143000
DTEND;TZID=Europe/Madrid:20290623T170000
DTSTAMP:20260424T160426
CREATED:20250103T231941Z
LAST-MODIFIED:20250827T132516Z
UID:10007134-1876919400-1876928400@dev.u3acostabrava.org
SUMMARY:Saturday Scrabblers
DESCRIPTION:A relaxed small group of ‘scrabblers’ who meet in a member’s home. \nContact Michelle the coordinator and come along for a taster session.
URL:https://dev.u3acostabrava.org/event/saturday-scrabblers-7/2029-06-23/
LOCATION:Carrer Acàcies\, 9\, 17257 Torroella de Montgrí\, Girona\, Spain\, Carrer Acàcies\, 9\, 17257 Girona\, Spain\, Torroella de Montgri\, Girona\, 17257\, Spain
CATEGORIES:Saturday Scrabblers
ATTACH;FMTTYPE=image/jpeg:https://dev.u3acostabrava.org/wp-content/uploads/2025/01/Scrabble-1.jpg
ORGANIZER;CN="Michelle Brown":MAILTO:michenbencostabrava@gmail.com
END:VEVENT
BEGIN:VEVENT
DTSTART;TZID=Europe/Madrid:20290630T143000
DTEND;TZID=Europe/Madrid:20290630T170000
DTSTAMP:20260424T160426
CREATED:20250103T231941Z
LAST-MODIFIED:20250827T132516Z
UID:10007135-1877524200-1877533200@dev.u3acostabrava.org
SUMMARY:Saturday Scrabblers
DESCRIPTION:A relaxed small group of ‘scrabblers’ who meet in a member’s home. \nContact Michelle the coordinator and come along for a taster session.
URL:https://dev.u3acostabrava.org/event/saturday-scrabblers-7/2029-06-30/
LOCATION:Carrer Acàcies\, 9\, 17257 Torroella de Montgrí\, Girona\, Spain\, Carrer Acàcies\, 9\, 17257 Girona\, Spain\, Torroella de Montgri\, Girona\, 17257\, Spain
CATEGORIES:Saturday Scrabblers
ATTACH;FMTTYPE=image/jpeg:https://dev.u3acostabrava.org/wp-content/uploads/2025/01/Scrabble-1.jpg
ORGANIZER;CN="Michelle Brown":MAILTO:michenbencostabrava@gmail.com
END:VEVENT
BEGIN:VEVENT
DTSTART;TZID=Europe/Madrid:20290707T143000
DTEND;TZID=Europe/Madrid:20290707T170000
DTSTAMP:20260424T160426
CREATED:20250103T231941Z
LAST-MODIFIED:20250827T132516Z
UID:10007136-1878129000-1878138000@dev.u3acostabrava.org
SUMMARY:Saturday Scrabblers
DESCRIPTION:A relaxed small group of ‘scrabblers’ who meet in a member’s home. \nContact Michelle the coordinator and come along for a taster session.
URL:https://dev.u3acostabrava.org/event/saturday-scrabblers-7/2029-07-07/
LOCATION:Carrer Acàcies\, 9\, 17257 Torroella de Montgrí\, Girona\, Spain\, Carrer Acàcies\, 9\, 17257 Girona\, Spain\, Torroella de Montgri\, Girona\, 17257\, Spain
CATEGORIES:Saturday Scrabblers
ATTACH;FMTTYPE=image/jpeg:https://dev.u3acostabrava.org/wp-content/uploads/2025/01/Scrabble-1.jpg
ORGANIZER;CN="Michelle Brown":MAILTO:michenbencostabrava@gmail.com
END:VEVENT
BEGIN:VEVENT
DTSTART;TZID=Europe/Madrid:20290714T143000
DTEND;TZID=Europe/Madrid:20290714T170000
DTSTAMP:20260424T160426
CREATED:20250103T231941Z
LAST-MODIFIED:20250827T132516Z
UID:10007137-1878733800-1878742800@dev.u3acostabrava.org
SUMMARY:Saturday Scrabblers
DESCRIPTION:A relaxed small group of ‘scrabblers’ who meet in a member’s home. \nContact Michelle the coordinator and come along for a taster session.
URL:https://dev.u3acostabrava.org/event/saturday-scrabblers-7/2029-07-14/
LOCATION:Carrer Acàcies\, 9\, 17257 Torroella de Montgrí\, Girona\, Spain\, Carrer Acàcies\, 9\, 17257 Girona\, Spain\, Torroella de Montgri\, Girona\, 17257\, Spain
CATEGORIES:Saturday Scrabblers
ATTACH;FMTTYPE=image/jpeg:https://dev.u3acostabrava.org/wp-content/uploads/2025/01/Scrabble-1.jpg
ORGANIZER;CN="Michelle Brown":MAILTO:michenbencostabrava@gmail.com
END:VEVENT
BEGIN:VEVENT
DTSTART;TZID=Europe/Madrid:20290721T143000
DTEND;TZID=Europe/Madrid:20290721T170000
DTSTAMP:20260424T160426
CREATED:20250103T231941Z
LAST-MODIFIED:20250827T132516Z
UID:10007138-1879338600-1879347600@dev.u3acostabrava.org
SUMMARY:Saturday Scrabblers
DESCRIPTION:A relaxed small group of ‘scrabblers’ who meet in a member’s home. \nContact Michelle the coordinator and come along for a taster session.
URL:https://dev.u3acostabrava.org/event/saturday-scrabblers-7/2029-07-21/
LOCATION:Carrer Acàcies\, 9\, 17257 Torroella de Montgrí\, Girona\, Spain\, Carrer Acàcies\, 9\, 17257 Girona\, Spain\, Torroella de Montgri\, Girona\, 17257\, Spain
CATEGORIES:Saturday Scrabblers
ATTACH;FMTTYPE=image/jpeg:https://dev.u3acostabrava.org/wp-content/uploads/2025/01/Scrabble-1.jpg
ORGANIZER;CN="Michelle Brown":MAILTO:michenbencostabrava@gmail.com
END:VEVENT
BEGIN:VEVENT
DTSTART;TZID=Europe/Madrid:20290728T143000
DTEND;TZID=Europe/Madrid:20290728T170000
DTSTAMP:20260424T160426
CREATED:20250103T231941Z
LAST-MODIFIED:20250827T132516Z
UID:10007139-1879943400-1879952400@dev.u3acostabrava.org
SUMMARY:Saturday Scrabblers
DESCRIPTION:A relaxed small group of ‘scrabblers’ who meet in a member’s home. \nContact Michelle the coordinator and come along for a taster session.
URL:https://dev.u3acostabrava.org/event/saturday-scrabblers-7/2029-07-28/
LOCATION:Carrer Acàcies\, 9\, 17257 Torroella de Montgrí\, Girona\, Spain\, Carrer Acàcies\, 9\, 17257 Girona\, Spain\, Torroella de Montgri\, Girona\, 17257\, Spain
CATEGORIES:Saturday Scrabblers
ATTACH;FMTTYPE=image/jpeg:https://dev.u3acostabrava.org/wp-content/uploads/2025/01/Scrabble-1.jpg
ORGANIZER;CN="Michelle Brown":MAILTO:michenbencostabrava@gmail.com
END:VEVENT
BEGIN:VEVENT
DTSTART;TZID=Europe/Madrid:20290804T143000
DTEND;TZID=Europe/Madrid:20290804T170000
DTSTAMP:20260424T160426
CREATED:20250103T231941Z
LAST-MODIFIED:20250827T132516Z
UID:10007140-1880548200-1880557200@dev.u3acostabrava.org
SUMMARY:Saturday Scrabblers
DESCRIPTION:A relaxed small group of ‘scrabblers’ who meet in a member’s home. \nContact Michelle the coordinator and come along for a taster session.
URL:https://dev.u3acostabrava.org/event/saturday-scrabblers-7/2029-08-04/
LOCATION:Carrer Acàcies\, 9\, 17257 Torroella de Montgrí\, Girona\, Spain\, Carrer Acàcies\, 9\, 17257 Girona\, Spain\, Torroella de Montgri\, Girona\, 17257\, Spain
CATEGORIES:Saturday Scrabblers
ATTACH;FMTTYPE=image/jpeg:https://dev.u3acostabrava.org/wp-content/uploads/2025/01/Scrabble-1.jpg
ORGANIZER;CN="Michelle Brown":MAILTO:michenbencostabrava@gmail.com
END:VEVENT
BEGIN:VEVENT
DTSTART;TZID=Europe/Madrid:20290811T143000
DTEND;TZID=Europe/Madrid:20290811T170000
DTSTAMP:20260424T160426
CREATED:20250103T231941Z
LAST-MODIFIED:20250827T132516Z
UID:10007141-1881153000-1881162000@dev.u3acostabrava.org
SUMMARY:Saturday Scrabblers
DESCRIPTION:A relaxed small group of ‘scrabblers’ who meet in a member’s home. \nContact Michelle the coordinator and come along for a taster session.
URL:https://dev.u3acostabrava.org/event/saturday-scrabblers-7/2029-08-11/
LOCATION:Carrer Acàcies\, 9\, 17257 Torroella de Montgrí\, Girona\, Spain\, Carrer Acàcies\, 9\, 17257 Girona\, Spain\, Torroella de Montgri\, Girona\, 17257\, Spain
CATEGORIES:Saturday Scrabblers
ATTACH;FMTTYPE=image/jpeg:https://dev.u3acostabrava.org/wp-content/uploads/2025/01/Scrabble-1.jpg
ORGANIZER;CN="Michelle Brown":MAILTO:michenbencostabrava@gmail.com
END:VEVENT
BEGIN:VEVENT
DTSTART;TZID=Europe/Madrid:20290818T143000
DTEND;TZID=Europe/Madrid:20290818T170000
DTSTAMP:20260424T160426
CREATED:20250103T231941Z
LAST-MODIFIED:20250827T132516Z
UID:10007142-1881757800-1881766800@dev.u3acostabrava.org
SUMMARY:Saturday Scrabblers
DESCRIPTION:A relaxed small group of ‘scrabblers’ who meet in a member’s home. \nContact Michelle the coordinator and come along for a taster session.
URL:https://dev.u3acostabrava.org/event/saturday-scrabblers-7/2029-08-18/
LOCATION:Carrer Acàcies\, 9\, 17257 Torroella de Montgrí\, Girona\, Spain\, Carrer Acàcies\, 9\, 17257 Girona\, Spain\, Torroella de Montgri\, Girona\, 17257\, Spain
CATEGORIES:Saturday Scrabblers
ATTACH;FMTTYPE=image/jpeg:https://dev.u3acostabrava.org/wp-content/uploads/2025/01/Scrabble-1.jpg
ORGANIZER;CN="Michelle Brown":MAILTO:michenbencostabrava@gmail.com
END:VEVENT
BEGIN:VEVENT
DTSTART;TZID=Europe/Madrid:20290825T143000
DTEND;TZID=Europe/Madrid:20290825T170000
DTSTAMP:20260424T160426
CREATED:20250103T231941Z
LAST-MODIFIED:20250827T132516Z
UID:10007143-1882362600-1882371600@dev.u3acostabrava.org
SUMMARY:Saturday Scrabblers
DESCRIPTION:A relaxed small group of ‘scrabblers’ who meet in a member’s home. \nContact Michelle the coordinator and come along for a taster session.
URL:https://dev.u3acostabrava.org/event/saturday-scrabblers-7/2029-08-25/
LOCATION:Carrer Acàcies\, 9\, 17257 Torroella de Montgrí\, Girona\, Spain\, Carrer Acàcies\, 9\, 17257 Girona\, Spain\, Torroella de Montgri\, Girona\, 17257\, Spain
CATEGORIES:Saturday Scrabblers
ATTACH;FMTTYPE=image/jpeg:https://dev.u3acostabrava.org/wp-content/uploads/2025/01/Scrabble-1.jpg
ORGANIZER;CN="Michelle Brown":MAILTO:michenbencostabrava@gmail.com
END:VEVENT
BEGIN:VEVENT
DTSTART;TZID=Europe/Madrid:20290901T143000
DTEND;TZID=Europe/Madrid:20290901T170000
DTSTAMP:20260424T160426
CREATED:20250103T231941Z
LAST-MODIFIED:20250827T132516Z
UID:10007144-1882967400-1882976400@dev.u3acostabrava.org
SUMMARY:Saturday Scrabblers
DESCRIPTION:A relaxed small group of ‘scrabblers’ who meet in a member’s home. \nContact Michelle the coordinator and come along for a taster session.
URL:https://dev.u3acostabrava.org/event/saturday-scrabblers-7/2029-09-01/
LOCATION:Carrer Acàcies\, 9\, 17257 Torroella de Montgrí\, Girona\, Spain\, Carrer Acàcies\, 9\, 17257 Girona\, Spain\, Torroella de Montgri\, Girona\, 17257\, Spain
CATEGORIES:Saturday Scrabblers
ATTACH;FMTTYPE=image/jpeg:https://dev.u3acostabrava.org/wp-content/uploads/2025/01/Scrabble-1.jpg
ORGANIZER;CN="Michelle Brown":MAILTO:michenbencostabrava@gmail.com
END:VEVENT
BEGIN:VEVENT
DTSTART;TZID=Europe/Madrid:20290908T143000
DTEND;TZID=Europe/Madrid:20290908T170000
DTSTAMP:20260424T160426
CREATED:20250103T231941Z
LAST-MODIFIED:20250827T132516Z
UID:10007145-1883572200-1883581200@dev.u3acostabrava.org
SUMMARY:Saturday Scrabblers
DESCRIPTION:A relaxed small group of ‘scrabblers’ who meet in a member’s home. \nContact Michelle the coordinator and come along for a taster session.
URL:https://dev.u3acostabrava.org/event/saturday-scrabblers-7/2029-09-08/
LOCATION:Carrer Acàcies\, 9\, 17257 Torroella de Montgrí\, Girona\, Spain\, Carrer Acàcies\, 9\, 17257 Girona\, Spain\, Torroella de Montgri\, Girona\, 17257\, Spain
CATEGORIES:Saturday Scrabblers
ATTACH;FMTTYPE=image/jpeg:https://dev.u3acostabrava.org/wp-content/uploads/2025/01/Scrabble-1.jpg
ORGANIZER;CN="Michelle Brown":MAILTO:michenbencostabrava@gmail.com
END:VEVENT
BEGIN:VEVENT
DTSTART;TZID=Europe/Madrid:20290915T143000
DTEND;TZID=Europe/Madrid:20290915T170000
DTSTAMP:20260424T160426
CREATED:20250103T231941Z
LAST-MODIFIED:20250827T132516Z
UID:10007146-1884177000-1884186000@dev.u3acostabrava.org
SUMMARY:Saturday Scrabblers
DESCRIPTION:A relaxed small group of ‘scrabblers’ who meet in a member’s home. \nContact Michelle the coordinator and come along for a taster session.
URL:https://dev.u3acostabrava.org/event/saturday-scrabblers-7/2029-09-15/
LOCATION:Carrer Acàcies\, 9\, 17257 Torroella de Montgrí\, Girona\, Spain\, Carrer Acàcies\, 9\, 17257 Girona\, Spain\, Torroella de Montgri\, Girona\, 17257\, Spain
CATEGORIES:Saturday Scrabblers
ATTACH;FMTTYPE=image/jpeg:https://dev.u3acostabrava.org/wp-content/uploads/2025/01/Scrabble-1.jpg
ORGANIZER;CN="Michelle Brown":MAILTO:michenbencostabrava@gmail.com
END:VEVENT
BEGIN:VEVENT
DTSTART;TZID=Europe/Madrid:20290922T143000
DTEND;TZID=Europe/Madrid:20290922T170000
DTSTAMP:20260424T160426
CREATED:20250103T231941Z
LAST-MODIFIED:20250827T132516Z
UID:10007147-1884781800-1884790800@dev.u3acostabrava.org
SUMMARY:Saturday Scrabblers
DESCRIPTION:A relaxed small group of ‘scrabblers’ who meet in a member’s home. \nContact Michelle the coordinator and come along for a taster session.
URL:https://dev.u3acostabrava.org/event/saturday-scrabblers-7/2029-09-22/
LOCATION:Carrer Acàcies\, 9\, 17257 Torroella de Montgrí\, Girona\, Spain\, Carrer Acàcies\, 9\, 17257 Girona\, Spain\, Torroella de Montgri\, Girona\, 17257\, Spain
CATEGORIES:Saturday Scrabblers
ATTACH;FMTTYPE=image/jpeg:https://dev.u3acostabrava.org/wp-content/uploads/2025/01/Scrabble-1.jpg
ORGANIZER;CN="Michelle Brown":MAILTO:michenbencostabrava@gmail.com
END:VEVENT
BEGIN:VEVENT
DTSTART;TZID=Europe/Madrid:20290929T143000
DTEND;TZID=Europe/Madrid:20290929T170000
DTSTAMP:20260424T160426
CREATED:20250103T231941Z
LAST-MODIFIED:20250827T132516Z
UID:10007148-1885386600-1885395600@dev.u3acostabrava.org
SUMMARY:Saturday Scrabblers
DESCRIPTION:A relaxed small group of ‘scrabblers’ who meet in a member’s home. \nContact Michelle the coordinator and come along for a taster session.
URL:https://dev.u3acostabrava.org/event/saturday-scrabblers-7/2029-09-29/
LOCATION:Carrer Acàcies\, 9\, 17257 Torroella de Montgrí\, Girona\, Spain\, Carrer Acàcies\, 9\, 17257 Girona\, Spain\, Torroella de Montgri\, Girona\, 17257\, Spain
CATEGORIES:Saturday Scrabblers
ATTACH;FMTTYPE=image/jpeg:https://dev.u3acostabrava.org/wp-content/uploads/2025/01/Scrabble-1.jpg
ORGANIZER;CN="Michelle Brown":MAILTO:michenbencostabrava@gmail.com
END:VEVENT
BEGIN:VEVENT
DTSTART;TZID=Europe/Madrid:20291006T143000
DTEND;TZID=Europe/Madrid:20291006T170000
DTSTAMP:20260424T160426
CREATED:20250103T231941Z
LAST-MODIFIED:20250827T132516Z
UID:10007149-1885991400-1886000400@dev.u3acostabrava.org
SUMMARY:Saturday Scrabblers
DESCRIPTION:A relaxed small group of ‘scrabblers’ who meet in a member’s home. \nContact Michelle the coordinator and come along for a taster session.
URL:https://dev.u3acostabrava.org/event/saturday-scrabblers-7/2029-10-06/
LOCATION:Carrer Acàcies\, 9\, 17257 Torroella de Montgrí\, Girona\, Spain\, Carrer Acàcies\, 9\, 17257 Girona\, Spain\, Torroella de Montgri\, Girona\, 17257\, Spain
CATEGORIES:Saturday Scrabblers
ATTACH;FMTTYPE=image/jpeg:https://dev.u3acostabrava.org/wp-content/uploads/2025/01/Scrabble-1.jpg
ORGANIZER;CN="Michelle Brown":MAILTO:michenbencostabrava@gmail.com
END:VEVENT
BEGIN:VEVENT
DTSTART;TZID=Europe/Madrid:20291013T143000
DTEND;TZID=Europe/Madrid:20291013T170000
DTSTAMP:20260424T160426
CREATED:20250103T231941Z
LAST-MODIFIED:20250827T132516Z
UID:10007150-1886596200-1886605200@dev.u3acostabrava.org
SUMMARY:Saturday Scrabblers
DESCRIPTION:A relaxed small group of ‘scrabblers’ who meet in a member’s home. \nContact Michelle the coordinator and come along for a taster session.
URL:https://dev.u3acostabrava.org/event/saturday-scrabblers-7/2029-10-13/
LOCATION:Carrer Acàcies\, 9\, 17257 Torroella de Montgrí\, Girona\, Spain\, Carrer Acàcies\, 9\, 17257 Girona\, Spain\, Torroella de Montgri\, Girona\, 17257\, Spain
CATEGORIES:Saturday Scrabblers
ATTACH;FMTTYPE=image/jpeg:https://dev.u3acostabrava.org/wp-content/uploads/2025/01/Scrabble-1.jpg
ORGANIZER;CN="Michelle Brown":MAILTO:michenbencostabrava@gmail.com
END:VEVENT
BEGIN:VEVENT
DTSTART;TZID=Europe/Madrid:20291020T143000
DTEND;TZID=Europe/Madrid:20291020T170000
DTSTAMP:20260424T160426
CREATED:20250103T231941Z
LAST-MODIFIED:20250827T132516Z
UID:10007151-1887201000-1887210000@dev.u3acostabrava.org
SUMMARY:Saturday Scrabblers
DESCRIPTION:A relaxed small group of ‘scrabblers’ who meet in a member’s home. \nContact Michelle the coordinator and come along for a taster session.
URL:https://dev.u3acostabrava.org/event/saturday-scrabblers-7/2029-10-20/
LOCATION:Carrer Acàcies\, 9\, 17257 Torroella de Montgrí\, Girona\, Spain\, Carrer Acàcies\, 9\, 17257 Girona\, Spain\, Torroella de Montgri\, Girona\, 17257\, Spain
CATEGORIES:Saturday Scrabblers
ATTACH;FMTTYPE=image/jpeg:https://dev.u3acostabrava.org/wp-content/uploads/2025/01/Scrabble-1.jpg
ORGANIZER;CN="Michelle Brown":MAILTO:michenbencostabrava@gmail.com
END:VEVENT
BEGIN:VEVENT
DTSTART;TZID=Europe/Madrid:20291027T143000
DTEND;TZID=Europe/Madrid:20291027T170000
DTSTAMP:20260424T160426
CREATED:20250103T231941Z
LAST-MODIFIED:20250827T132516Z
UID:10007152-1887805800-1887814800@dev.u3acostabrava.org
SUMMARY:Saturday Scrabblers
DESCRIPTION:A relaxed small group of ‘scrabblers’ who meet in a member’s home. \nContact Michelle the coordinator and come along for a taster session.
URL:https://dev.u3acostabrava.org/event/saturday-scrabblers-7/2029-10-27/
LOCATION:Carrer Acàcies\, 9\, 17257 Torroella de Montgrí\, Girona\, Spain\, Carrer Acàcies\, 9\, 17257 Girona\, Spain\, Torroella de Montgri\, Girona\, 17257\, Spain
CATEGORIES:Saturday Scrabblers
ATTACH;FMTTYPE=image/jpeg:https://dev.u3acostabrava.org/wp-content/uploads/2025/01/Scrabble-1.jpg
ORGANIZER;CN="Michelle Brown":MAILTO:michenbencostabrava@gmail.com
END:VEVENT
BEGIN:VEVENT
DTSTART;TZID=Europe/Madrid:20291103T143000
DTEND;TZID=Europe/Madrid:20291103T170000
DTSTAMP:20260424T160426
CREATED:20250103T231941Z
LAST-MODIFIED:20250827T132516Z
UID:10007153-1888410600-1888419600@dev.u3acostabrava.org
SUMMARY:Saturday Scrabblers
DESCRIPTION:A relaxed small group of ‘scrabblers’ who meet in a member’s home. \nContact Michelle the coordinator and come along for a taster session.
URL:https://dev.u3acostabrava.org/event/saturday-scrabblers-7/2029-11-03/
LOCATION:Carrer Acàcies\, 9\, 17257 Torroella de Montgrí\, Girona\, Spain\, Carrer Acàcies\, 9\, 17257 Girona\, Spain\, Torroella de Montgri\, Girona\, 17257\, Spain
CATEGORIES:Saturday Scrabblers
ATTACH;FMTTYPE=image/jpeg:https://dev.u3acostabrava.org/wp-content/uploads/2025/01/Scrabble-1.jpg
ORGANIZER;CN="Michelle Brown":MAILTO:michenbencostabrava@gmail.com
END:VEVENT
BEGIN:VEVENT
DTSTART;TZID=Europe/Madrid:20291110T143000
DTEND;TZID=Europe/Madrid:20291110T170000
DTSTAMP:20260424T160426
CREATED:20250103T231941Z
LAST-MODIFIED:20250827T132516Z
UID:10007154-1889015400-1889024400@dev.u3acostabrava.org
SUMMARY:Saturday Scrabblers
DESCRIPTION:A relaxed small group of ‘scrabblers’ who meet in a member’s home. \nContact Michelle the coordinator and come along for a taster session.
URL:https://dev.u3acostabrava.org/event/saturday-scrabblers-7/2029-11-10/
LOCATION:Carrer Acàcies\, 9\, 17257 Torroella de Montgrí\, Girona\, Spain\, Carrer Acàcies\, 9\, 17257 Girona\, Spain\, Torroella de Montgri\, Girona\, 17257\, Spain
CATEGORIES:Saturday Scrabblers
ATTACH;FMTTYPE=image/jpeg:https://dev.u3acostabrava.org/wp-content/uploads/2025/01/Scrabble-1.jpg
ORGANIZER;CN="Michelle Brown":MAILTO:michenbencostabrava@gmail.com
END:VEVENT
END:VCALENDAR