BEGIN:VCALENDAR
VERSION:2.0
PRODID:-//U3A Costa Brava - ECPv6.15.14//NONSGML v1.0//EN
CALSCALE:GREGORIAN
METHOD:PUBLISH
X-WR-CALNAME:U3A Costa Brava
X-ORIGINAL-URL:https://dev.u3acostabrava.org
X-WR-CALDESC:Events for U3A Costa Brava
REFRESH-INTERVAL;VALUE=DURATION:PT1H
X-Robots-Tag:noindex
X-PUBLISHED-TTL:PT1H
BEGIN:VTIMEZONE
TZID:Europe/Madrid
BEGIN:DAYLIGHT
TZOFFSETFROM:+0100
TZOFFSETTO:+0200
TZNAME:CEST
DTSTART:20270328T010000
END:DAYLIGHT
BEGIN:STANDARD
TZOFFSETFROM:+0200
TZOFFSETTO:+0100
TZNAME:CET
DTSTART:20271031T010000
END:STANDARD
BEGIN:DAYLIGHT
TZOFFSETFROM:+0100
TZOFFSETTO:+0200
TZNAME:CEST
DTSTART:20280326T010000
END:DAYLIGHT
BEGIN:STANDARD
TZOFFSETFROM:+0200
TZOFFSETTO:+0100
TZNAME:CET
DTSTART:20281029T010000
END:STANDARD
BEGIN:DAYLIGHT
TZOFFSETFROM:+0100
TZOFFSETTO:+0200
TZNAME:CEST
DTSTART:20290325T010000
END:DAYLIGHT
BEGIN:STANDARD
TZOFFSETFROM:+0200
TZOFFSETTO:+0100
TZNAME:CET
DTSTART:20291028T010000
END:STANDARD
BEGIN:DAYLIGHT
TZOFFSETFROM:+0100
TZOFFSETTO:+0200
TZNAME:CEST
DTSTART:20300331T010000
END:DAYLIGHT
BEGIN:STANDARD
TZOFFSETFROM:+0200
TZOFFSETTO:+0100
TZNAME:CET
DTSTART:20301027T010000
END:STANDARD
END:VTIMEZONE
BEGIN:VEVENT
DTSTART;TZID=Europe/Madrid:20281104T143000
DTEND;TZID=Europe/Madrid:20281104T170000
DTSTAMP:20260424T131348
CREATED:20250103T231941Z
LAST-MODIFIED:20250827T132516Z
UID:10007101-1856961000-1856970000@dev.u3acostabrava.org
SUMMARY:Saturday Scrabblers
DESCRIPTION:A relaxed small group of ‘scrabblers’ who meet in a member’s home. \nContact Michelle the coordinator and come along for a taster session.
URL:https://dev.u3acostabrava.org/event/saturday-scrabblers-7/2028-11-04/
LOCATION:Carrer Acàcies\, 9\, 17257 Torroella de Montgrí\, Girona\, Spain\, Carrer Acàcies\, 9\, 17257 Girona\, Spain\, Torroella de Montgri\, Girona\, 17257\, Spain
CATEGORIES:Saturday Scrabblers
ATTACH;FMTTYPE=image/jpeg:https://dev.u3acostabrava.org/wp-content/uploads/2025/01/Scrabble-1.jpg
ORGANIZER;CN="Michelle Brown":MAILTO:michenbencostabrava@gmail.com
END:VEVENT
BEGIN:VEVENT
DTSTART;TZID=Europe/Madrid:20281111T143000
DTEND;TZID=Europe/Madrid:20281111T170000
DTSTAMP:20260424T131348
CREATED:20250103T231941Z
LAST-MODIFIED:20250827T132516Z
UID:10007102-1857565800-1857574800@dev.u3acostabrava.org
SUMMARY:Saturday Scrabblers
DESCRIPTION:A relaxed small group of ‘scrabblers’ who meet in a member’s home. \nContact Michelle the coordinator and come along for a taster session.
URL:https://dev.u3acostabrava.org/event/saturday-scrabblers-7/2028-11-11/
LOCATION:Carrer Acàcies\, 9\, 17257 Torroella de Montgrí\, Girona\, Spain\, Carrer Acàcies\, 9\, 17257 Girona\, Spain\, Torroella de Montgri\, Girona\, 17257\, Spain
CATEGORIES:Saturday Scrabblers
ATTACH;FMTTYPE=image/jpeg:https://dev.u3acostabrava.org/wp-content/uploads/2025/01/Scrabble-1.jpg
ORGANIZER;CN="Michelle Brown":MAILTO:michenbencostabrava@gmail.com
END:VEVENT
BEGIN:VEVENT
DTSTART;TZID=Europe/Madrid:20281118T143000
DTEND;TZID=Europe/Madrid:20281118T170000
DTSTAMP:20260424T131348
CREATED:20250103T231941Z
LAST-MODIFIED:20250827T132516Z
UID:10007103-1858170600-1858179600@dev.u3acostabrava.org
SUMMARY:Saturday Scrabblers
DESCRIPTION:A relaxed small group of ‘scrabblers’ who meet in a member’s home. \nContact Michelle the coordinator and come along for a taster session.
URL:https://dev.u3acostabrava.org/event/saturday-scrabblers-7/2028-11-18/
LOCATION:Carrer Acàcies\, 9\, 17257 Torroella de Montgrí\, Girona\, Spain\, Carrer Acàcies\, 9\, 17257 Girona\, Spain\, Torroella de Montgri\, Girona\, 17257\, Spain
CATEGORIES:Saturday Scrabblers
ATTACH;FMTTYPE=image/jpeg:https://dev.u3acostabrava.org/wp-content/uploads/2025/01/Scrabble-1.jpg
ORGANIZER;CN="Michelle Brown":MAILTO:michenbencostabrava@gmail.com
END:VEVENT
BEGIN:VEVENT
DTSTART;TZID=Europe/Madrid:20281125T143000
DTEND;TZID=Europe/Madrid:20281125T170000
DTSTAMP:20260424T131348
CREATED:20250103T231941Z
LAST-MODIFIED:20250827T132516Z
UID:10007104-1858775400-1858784400@dev.u3acostabrava.org
SUMMARY:Saturday Scrabblers
DESCRIPTION:A relaxed small group of ‘scrabblers’ who meet in a member’s home. \nContact Michelle the coordinator and come along for a taster session.
URL:https://dev.u3acostabrava.org/event/saturday-scrabblers-7/2028-11-25/
LOCATION:Carrer Acàcies\, 9\, 17257 Torroella de Montgrí\, Girona\, Spain\, Carrer Acàcies\, 9\, 17257 Girona\, Spain\, Torroella de Montgri\, Girona\, 17257\, Spain
CATEGORIES:Saturday Scrabblers
ATTACH;FMTTYPE=image/jpeg:https://dev.u3acostabrava.org/wp-content/uploads/2025/01/Scrabble-1.jpg
ORGANIZER;CN="Michelle Brown":MAILTO:michenbencostabrava@gmail.com
END:VEVENT
BEGIN:VEVENT
DTSTART;TZID=Europe/Madrid:20281202T143000
DTEND;TZID=Europe/Madrid:20281202T170000
DTSTAMP:20260424T131348
CREATED:20250103T231941Z
LAST-MODIFIED:20250827T132516Z
UID:10007105-1859380200-1859389200@dev.u3acostabrava.org
SUMMARY:Saturday Scrabblers
DESCRIPTION:A relaxed small group of ‘scrabblers’ who meet in a member’s home. \nContact Michelle the coordinator and come along for a taster session.
URL:https://dev.u3acostabrava.org/event/saturday-scrabblers-7/2028-12-02/
LOCATION:Carrer Acàcies\, 9\, 17257 Torroella de Montgrí\, Girona\, Spain\, Carrer Acàcies\, 9\, 17257 Girona\, Spain\, Torroella de Montgri\, Girona\, 17257\, Spain
CATEGORIES:Saturday Scrabblers
ATTACH;FMTTYPE=image/jpeg:https://dev.u3acostabrava.org/wp-content/uploads/2025/01/Scrabble-1.jpg
ORGANIZER;CN="Michelle Brown":MAILTO:michenbencostabrava@gmail.com
END:VEVENT
BEGIN:VEVENT
DTSTART;TZID=Europe/Madrid:20281209T143000
DTEND;TZID=Europe/Madrid:20281209T170000
DTSTAMP:20260424T131348
CREATED:20250103T231941Z
LAST-MODIFIED:20250827T132516Z
UID:10007106-1859985000-1859994000@dev.u3acostabrava.org
SUMMARY:Saturday Scrabblers
DESCRIPTION:A relaxed small group of ‘scrabblers’ who meet in a member’s home. \nContact Michelle the coordinator and come along for a taster session.
URL:https://dev.u3acostabrava.org/event/saturday-scrabblers-7/2028-12-09/
LOCATION:Carrer Acàcies\, 9\, 17257 Torroella de Montgrí\, Girona\, Spain\, Carrer Acàcies\, 9\, 17257 Girona\, Spain\, Torroella de Montgri\, Girona\, 17257\, Spain
CATEGORIES:Saturday Scrabblers
ATTACH;FMTTYPE=image/jpeg:https://dev.u3acostabrava.org/wp-content/uploads/2025/01/Scrabble-1.jpg
ORGANIZER;CN="Michelle Brown":MAILTO:michenbencostabrava@gmail.com
END:VEVENT
BEGIN:VEVENT
DTSTART;TZID=Europe/Madrid:20281216T143000
DTEND;TZID=Europe/Madrid:20281216T170000
DTSTAMP:20260424T131348
CREATED:20250103T231941Z
LAST-MODIFIED:20250827T132516Z
UID:10007107-1860589800-1860598800@dev.u3acostabrava.org
SUMMARY:Saturday Scrabblers
DESCRIPTION:A relaxed small group of ‘scrabblers’ who meet in a member’s home. \nContact Michelle the coordinator and come along for a taster session.
URL:https://dev.u3acostabrava.org/event/saturday-scrabblers-7/2028-12-16/
LOCATION:Carrer Acàcies\, 9\, 17257 Torroella de Montgrí\, Girona\, Spain\, Carrer Acàcies\, 9\, 17257 Girona\, Spain\, Torroella de Montgri\, Girona\, 17257\, Spain
CATEGORIES:Saturday Scrabblers
ATTACH;FMTTYPE=image/jpeg:https://dev.u3acostabrava.org/wp-content/uploads/2025/01/Scrabble-1.jpg
ORGANIZER;CN="Michelle Brown":MAILTO:michenbencostabrava@gmail.com
END:VEVENT
BEGIN:VEVENT
DTSTART;TZID=Europe/Madrid:20281223T143000
DTEND;TZID=Europe/Madrid:20281223T170000
DTSTAMP:20260424T131348
CREATED:20250103T231941Z
LAST-MODIFIED:20250827T132516Z
UID:10007108-1861194600-1861203600@dev.u3acostabrava.org
SUMMARY:Saturday Scrabblers
DESCRIPTION:A relaxed small group of ‘scrabblers’ who meet in a member’s home. \nContact Michelle the coordinator and come along for a taster session.
URL:https://dev.u3acostabrava.org/event/saturday-scrabblers-7/2028-12-23/
LOCATION:Carrer Acàcies\, 9\, 17257 Torroella de Montgrí\, Girona\, Spain\, Carrer Acàcies\, 9\, 17257 Girona\, Spain\, Torroella de Montgri\, Girona\, 17257\, Spain
CATEGORIES:Saturday Scrabblers
ATTACH;FMTTYPE=image/jpeg:https://dev.u3acostabrava.org/wp-content/uploads/2025/01/Scrabble-1.jpg
ORGANIZER;CN="Michelle Brown":MAILTO:michenbencostabrava@gmail.com
END:VEVENT
BEGIN:VEVENT
DTSTART;TZID=Europe/Madrid:20281230T143000
DTEND;TZID=Europe/Madrid:20281230T170000
DTSTAMP:20260424T131348
CREATED:20250103T231941Z
LAST-MODIFIED:20250827T132516Z
UID:10007109-1861799400-1861808400@dev.u3acostabrava.org
SUMMARY:Saturday Scrabblers
DESCRIPTION:A relaxed small group of ‘scrabblers’ who meet in a member’s home. \nContact Michelle the coordinator and come along for a taster session.
URL:https://dev.u3acostabrava.org/event/saturday-scrabblers-7/2028-12-30/
LOCATION:Carrer Acàcies\, 9\, 17257 Torroella de Montgrí\, Girona\, Spain\, Carrer Acàcies\, 9\, 17257 Girona\, Spain\, Torroella de Montgri\, Girona\, 17257\, Spain
CATEGORIES:Saturday Scrabblers
ATTACH;FMTTYPE=image/jpeg:https://dev.u3acostabrava.org/wp-content/uploads/2025/01/Scrabble-1.jpg
ORGANIZER;CN="Michelle Brown":MAILTO:michenbencostabrava@gmail.com
END:VEVENT
BEGIN:VEVENT
DTSTART;TZID=Europe/Madrid:20290106T143000
DTEND;TZID=Europe/Madrid:20290106T170000
DTSTAMP:20260424T131348
CREATED:20250103T231941Z
LAST-MODIFIED:20250827T132516Z
UID:10007110-1862404200-1862413200@dev.u3acostabrava.org
SUMMARY:Saturday Scrabblers
DESCRIPTION:A relaxed small group of ‘scrabblers’ who meet in a member’s home. \nContact Michelle the coordinator and come along for a taster session.
URL:https://dev.u3acostabrava.org/event/saturday-scrabblers-7/2029-01-06/
LOCATION:Carrer Acàcies\, 9\, 17257 Torroella de Montgrí\, Girona\, Spain\, Carrer Acàcies\, 9\, 17257 Girona\, Spain\, Torroella de Montgri\, Girona\, 17257\, Spain
CATEGORIES:Saturday Scrabblers
ATTACH;FMTTYPE=image/jpeg:https://dev.u3acostabrava.org/wp-content/uploads/2025/01/Scrabble-1.jpg
ORGANIZER;CN="Michelle Brown":MAILTO:michenbencostabrava@gmail.com
END:VEVENT
BEGIN:VEVENT
DTSTART;TZID=Europe/Madrid:20290113T143000
DTEND;TZID=Europe/Madrid:20290113T170000
DTSTAMP:20260424T131348
CREATED:20250103T231941Z
LAST-MODIFIED:20250827T132516Z
UID:10007111-1863009000-1863018000@dev.u3acostabrava.org
SUMMARY:Saturday Scrabblers
DESCRIPTION:A relaxed small group of ‘scrabblers’ who meet in a member’s home. \nContact Michelle the coordinator and come along for a taster session.
URL:https://dev.u3acostabrava.org/event/saturday-scrabblers-7/2029-01-13/
LOCATION:Carrer Acàcies\, 9\, 17257 Torroella de Montgrí\, Girona\, Spain\, Carrer Acàcies\, 9\, 17257 Girona\, Spain\, Torroella de Montgri\, Girona\, 17257\, Spain
CATEGORIES:Saturday Scrabblers
ATTACH;FMTTYPE=image/jpeg:https://dev.u3acostabrava.org/wp-content/uploads/2025/01/Scrabble-1.jpg
ORGANIZER;CN="Michelle Brown":MAILTO:michenbencostabrava@gmail.com
END:VEVENT
BEGIN:VEVENT
DTSTART;TZID=Europe/Madrid:20290120T143000
DTEND;TZID=Europe/Madrid:20290120T170000
DTSTAMP:20260424T131348
CREATED:20250103T231941Z
LAST-MODIFIED:20250827T132516Z
UID:10007112-1863613800-1863622800@dev.u3acostabrava.org
SUMMARY:Saturday Scrabblers
DESCRIPTION:A relaxed small group of ‘scrabblers’ who meet in a member’s home. \nContact Michelle the coordinator and come along for a taster session.
URL:https://dev.u3acostabrava.org/event/saturday-scrabblers-7/2029-01-20/
LOCATION:Carrer Acàcies\, 9\, 17257 Torroella de Montgrí\, Girona\, Spain\, Carrer Acàcies\, 9\, 17257 Girona\, Spain\, Torroella de Montgri\, Girona\, 17257\, Spain
CATEGORIES:Saturday Scrabblers
ATTACH;FMTTYPE=image/jpeg:https://dev.u3acostabrava.org/wp-content/uploads/2025/01/Scrabble-1.jpg
ORGANIZER;CN="Michelle Brown":MAILTO:michenbencostabrava@gmail.com
END:VEVENT
BEGIN:VEVENT
DTSTART;TZID=Europe/Madrid:20290127T143000
DTEND;TZID=Europe/Madrid:20290127T170000
DTSTAMP:20260424T131348
CREATED:20250103T231941Z
LAST-MODIFIED:20250827T132516Z
UID:10007113-1864218600-1864227600@dev.u3acostabrava.org
SUMMARY:Saturday Scrabblers
DESCRIPTION:A relaxed small group of ‘scrabblers’ who meet in a member’s home. \nContact Michelle the coordinator and come along for a taster session.
URL:https://dev.u3acostabrava.org/event/saturday-scrabblers-7/2029-01-27/
LOCATION:Carrer Acàcies\, 9\, 17257 Torroella de Montgrí\, Girona\, Spain\, Carrer Acàcies\, 9\, 17257 Girona\, Spain\, Torroella de Montgri\, Girona\, 17257\, Spain
CATEGORIES:Saturday Scrabblers
ATTACH;FMTTYPE=image/jpeg:https://dev.u3acostabrava.org/wp-content/uploads/2025/01/Scrabble-1.jpg
ORGANIZER;CN="Michelle Brown":MAILTO:michenbencostabrava@gmail.com
END:VEVENT
BEGIN:VEVENT
DTSTART;TZID=Europe/Madrid:20290203T143000
DTEND;TZID=Europe/Madrid:20290203T170000
DTSTAMP:20260424T131348
CREATED:20250103T231941Z
LAST-MODIFIED:20250827T132516Z
UID:10007114-1864823400-1864832400@dev.u3acostabrava.org
SUMMARY:Saturday Scrabblers
DESCRIPTION:A relaxed small group of ‘scrabblers’ who meet in a member’s home. \nContact Michelle the coordinator and come along for a taster session.
URL:https://dev.u3acostabrava.org/event/saturday-scrabblers-7/2029-02-03/
LOCATION:Carrer Acàcies\, 9\, 17257 Torroella de Montgrí\, Girona\, Spain\, Carrer Acàcies\, 9\, 17257 Girona\, Spain\, Torroella de Montgri\, Girona\, 17257\, Spain
CATEGORIES:Saturday Scrabblers
ATTACH;FMTTYPE=image/jpeg:https://dev.u3acostabrava.org/wp-content/uploads/2025/01/Scrabble-1.jpg
ORGANIZER;CN="Michelle Brown":MAILTO:michenbencostabrava@gmail.com
END:VEVENT
BEGIN:VEVENT
DTSTART;TZID=Europe/Madrid:20290210T143000
DTEND;TZID=Europe/Madrid:20290210T170000
DTSTAMP:20260424T131348
CREATED:20250103T231941Z
LAST-MODIFIED:20250827T132516Z
UID:10007115-1865428200-1865437200@dev.u3acostabrava.org
SUMMARY:Saturday Scrabblers
DESCRIPTION:A relaxed small group of ‘scrabblers’ who meet in a member’s home. \nContact Michelle the coordinator and come along for a taster session.
URL:https://dev.u3acostabrava.org/event/saturday-scrabblers-7/2029-02-10/
LOCATION:Carrer Acàcies\, 9\, 17257 Torroella de Montgrí\, Girona\, Spain\, Carrer Acàcies\, 9\, 17257 Girona\, Spain\, Torroella de Montgri\, Girona\, 17257\, Spain
CATEGORIES:Saturday Scrabblers
ATTACH;FMTTYPE=image/jpeg:https://dev.u3acostabrava.org/wp-content/uploads/2025/01/Scrabble-1.jpg
ORGANIZER;CN="Michelle Brown":MAILTO:michenbencostabrava@gmail.com
END:VEVENT
BEGIN:VEVENT
DTSTART;TZID=Europe/Madrid:20290217T143000
DTEND;TZID=Europe/Madrid:20290217T170000
DTSTAMP:20260424T131348
CREATED:20250103T231941Z
LAST-MODIFIED:20250827T132516Z
UID:10007116-1866033000-1866042000@dev.u3acostabrava.org
SUMMARY:Saturday Scrabblers
DESCRIPTION:A relaxed small group of ‘scrabblers’ who meet in a member’s home. \nContact Michelle the coordinator and come along for a taster session.
URL:https://dev.u3acostabrava.org/event/saturday-scrabblers-7/2029-02-17/
LOCATION:Carrer Acàcies\, 9\, 17257 Torroella de Montgrí\, Girona\, Spain\, Carrer Acàcies\, 9\, 17257 Girona\, Spain\, Torroella de Montgri\, Girona\, 17257\, Spain
CATEGORIES:Saturday Scrabblers
ATTACH;FMTTYPE=image/jpeg:https://dev.u3acostabrava.org/wp-content/uploads/2025/01/Scrabble-1.jpg
ORGANIZER;CN="Michelle Brown":MAILTO:michenbencostabrava@gmail.com
END:VEVENT
BEGIN:VEVENT
DTSTART;TZID=Europe/Madrid:20290224T143000
DTEND;TZID=Europe/Madrid:20290224T170000
DTSTAMP:20260424T131348
CREATED:20250103T231941Z
LAST-MODIFIED:20250827T132516Z
UID:10007117-1866637800-1866646800@dev.u3acostabrava.org
SUMMARY:Saturday Scrabblers
DESCRIPTION:A relaxed small group of ‘scrabblers’ who meet in a member’s home. \nContact Michelle the coordinator and come along for a taster session.
URL:https://dev.u3acostabrava.org/event/saturday-scrabblers-7/2029-02-24/
LOCATION:Carrer Acàcies\, 9\, 17257 Torroella de Montgrí\, Girona\, Spain\, Carrer Acàcies\, 9\, 17257 Girona\, Spain\, Torroella de Montgri\, Girona\, 17257\, Spain
CATEGORIES:Saturday Scrabblers
ATTACH;FMTTYPE=image/jpeg:https://dev.u3acostabrava.org/wp-content/uploads/2025/01/Scrabble-1.jpg
ORGANIZER;CN="Michelle Brown":MAILTO:michenbencostabrava@gmail.com
END:VEVENT
BEGIN:VEVENT
DTSTART;TZID=Europe/Madrid:20290303T143000
DTEND;TZID=Europe/Madrid:20290303T170000
DTSTAMP:20260424T131348
CREATED:20250103T231941Z
LAST-MODIFIED:20250827T132516Z
UID:10007118-1867242600-1867251600@dev.u3acostabrava.org
SUMMARY:Saturday Scrabblers
DESCRIPTION:A relaxed small group of ‘scrabblers’ who meet in a member’s home. \nContact Michelle the coordinator and come along for a taster session.
URL:https://dev.u3acostabrava.org/event/saturday-scrabblers-7/2029-03-03/
LOCATION:Carrer Acàcies\, 9\, 17257 Torroella de Montgrí\, Girona\, Spain\, Carrer Acàcies\, 9\, 17257 Girona\, Spain\, Torroella de Montgri\, Girona\, 17257\, Spain
CATEGORIES:Saturday Scrabblers
ATTACH;FMTTYPE=image/jpeg:https://dev.u3acostabrava.org/wp-content/uploads/2025/01/Scrabble-1.jpg
ORGANIZER;CN="Michelle Brown":MAILTO:michenbencostabrava@gmail.com
END:VEVENT
BEGIN:VEVENT
DTSTART;TZID=Europe/Madrid:20290310T143000
DTEND;TZID=Europe/Madrid:20290310T170000
DTSTAMP:20260424T131348
CREATED:20250103T231941Z
LAST-MODIFIED:20250827T132516Z
UID:10007119-1867847400-1867856400@dev.u3acostabrava.org
SUMMARY:Saturday Scrabblers
DESCRIPTION:A relaxed small group of ‘scrabblers’ who meet in a member’s home. \nContact Michelle the coordinator and come along for a taster session.
URL:https://dev.u3acostabrava.org/event/saturday-scrabblers-7/2029-03-10/
LOCATION:Carrer Acàcies\, 9\, 17257 Torroella de Montgrí\, Girona\, Spain\, Carrer Acàcies\, 9\, 17257 Girona\, Spain\, Torroella de Montgri\, Girona\, 17257\, Spain
CATEGORIES:Saturday Scrabblers
ATTACH;FMTTYPE=image/jpeg:https://dev.u3acostabrava.org/wp-content/uploads/2025/01/Scrabble-1.jpg
ORGANIZER;CN="Michelle Brown":MAILTO:michenbencostabrava@gmail.com
END:VEVENT
BEGIN:VEVENT
DTSTART;TZID=Europe/Madrid:20290317T143000
DTEND;TZID=Europe/Madrid:20290317T170000
DTSTAMP:20260424T131348
CREATED:20250103T231941Z
LAST-MODIFIED:20250827T132516Z
UID:10007120-1868452200-1868461200@dev.u3acostabrava.org
SUMMARY:Saturday Scrabblers
DESCRIPTION:A relaxed small group of ‘scrabblers’ who meet in a member’s home. \nContact Michelle the coordinator and come along for a taster session.
URL:https://dev.u3acostabrava.org/event/saturday-scrabblers-7/2029-03-17/
LOCATION:Carrer Acàcies\, 9\, 17257 Torroella de Montgrí\, Girona\, Spain\, Carrer Acàcies\, 9\, 17257 Girona\, Spain\, Torroella de Montgri\, Girona\, 17257\, Spain
CATEGORIES:Saturday Scrabblers
ATTACH;FMTTYPE=image/jpeg:https://dev.u3acostabrava.org/wp-content/uploads/2025/01/Scrabble-1.jpg
ORGANIZER;CN="Michelle Brown":MAILTO:michenbencostabrava@gmail.com
END:VEVENT
BEGIN:VEVENT
DTSTART;TZID=Europe/Madrid:20290324T143000
DTEND;TZID=Europe/Madrid:20290324T170000
DTSTAMP:20260424T131348
CREATED:20250103T231941Z
LAST-MODIFIED:20250827T132516Z
UID:10007121-1869057000-1869066000@dev.u3acostabrava.org
SUMMARY:Saturday Scrabblers
DESCRIPTION:A relaxed small group of ‘scrabblers’ who meet in a member’s home. \nContact Michelle the coordinator and come along for a taster session.
URL:https://dev.u3acostabrava.org/event/saturday-scrabblers-7/2029-03-24/
LOCATION:Carrer Acàcies\, 9\, 17257 Torroella de Montgrí\, Girona\, Spain\, Carrer Acàcies\, 9\, 17257 Girona\, Spain\, Torroella de Montgri\, Girona\, 17257\, Spain
CATEGORIES:Saturday Scrabblers
ATTACH;FMTTYPE=image/jpeg:https://dev.u3acostabrava.org/wp-content/uploads/2025/01/Scrabble-1.jpg
ORGANIZER;CN="Michelle Brown":MAILTO:michenbencostabrava@gmail.com
END:VEVENT
BEGIN:VEVENT
DTSTART;TZID=Europe/Madrid:20290331T143000
DTEND;TZID=Europe/Madrid:20290331T170000
DTSTAMP:20260424T131348
CREATED:20250103T231941Z
LAST-MODIFIED:20250827T132516Z
UID:10007122-1869661800-1869670800@dev.u3acostabrava.org
SUMMARY:Saturday Scrabblers
DESCRIPTION:A relaxed small group of ‘scrabblers’ who meet in a member’s home. \nContact Michelle the coordinator and come along for a taster session.
URL:https://dev.u3acostabrava.org/event/saturday-scrabblers-7/2029-03-31/
LOCATION:Carrer Acàcies\, 9\, 17257 Torroella de Montgrí\, Girona\, Spain\, Carrer Acàcies\, 9\, 17257 Girona\, Spain\, Torroella de Montgri\, Girona\, 17257\, Spain
CATEGORIES:Saturday Scrabblers
ATTACH;FMTTYPE=image/jpeg:https://dev.u3acostabrava.org/wp-content/uploads/2025/01/Scrabble-1.jpg
ORGANIZER;CN="Michelle Brown":MAILTO:michenbencostabrava@gmail.com
END:VEVENT
BEGIN:VEVENT
DTSTART;TZID=Europe/Madrid:20290407T143000
DTEND;TZID=Europe/Madrid:20290407T170000
DTSTAMP:20260424T131348
CREATED:20250103T231941Z
LAST-MODIFIED:20250827T132516Z
UID:10007123-1870266600-1870275600@dev.u3acostabrava.org
SUMMARY:Saturday Scrabblers
DESCRIPTION:A relaxed small group of ‘scrabblers’ who meet in a member’s home. \nContact Michelle the coordinator and come along for a taster session.
URL:https://dev.u3acostabrava.org/event/saturday-scrabblers-7/2029-04-07/
LOCATION:Carrer Acàcies\, 9\, 17257 Torroella de Montgrí\, Girona\, Spain\, Carrer Acàcies\, 9\, 17257 Girona\, Spain\, Torroella de Montgri\, Girona\, 17257\, Spain
CATEGORIES:Saturday Scrabblers
ATTACH;FMTTYPE=image/jpeg:https://dev.u3acostabrava.org/wp-content/uploads/2025/01/Scrabble-1.jpg
ORGANIZER;CN="Michelle Brown":MAILTO:michenbencostabrava@gmail.com
END:VEVENT
BEGIN:VEVENT
DTSTART;TZID=Europe/Madrid:20290414T143000
DTEND;TZID=Europe/Madrid:20290414T170000
DTSTAMP:20260424T131348
CREATED:20250103T231941Z
LAST-MODIFIED:20250827T132516Z
UID:10007124-1870871400-1870880400@dev.u3acostabrava.org
SUMMARY:Saturday Scrabblers
DESCRIPTION:A relaxed small group of ‘scrabblers’ who meet in a member’s home. \nContact Michelle the coordinator and come along for a taster session.
URL:https://dev.u3acostabrava.org/event/saturday-scrabblers-7/2029-04-14/
LOCATION:Carrer Acàcies\, 9\, 17257 Torroella de Montgrí\, Girona\, Spain\, Carrer Acàcies\, 9\, 17257 Girona\, Spain\, Torroella de Montgri\, Girona\, 17257\, Spain
CATEGORIES:Saturday Scrabblers
ATTACH;FMTTYPE=image/jpeg:https://dev.u3acostabrava.org/wp-content/uploads/2025/01/Scrabble-1.jpg
ORGANIZER;CN="Michelle Brown":MAILTO:michenbencostabrava@gmail.com
END:VEVENT
BEGIN:VEVENT
DTSTART;TZID=Europe/Madrid:20290421T143000
DTEND;TZID=Europe/Madrid:20290421T170000
DTSTAMP:20260424T131348
CREATED:20250103T231941Z
LAST-MODIFIED:20250827T132516Z
UID:10007125-1871476200-1871485200@dev.u3acostabrava.org
SUMMARY:Saturday Scrabblers
DESCRIPTION:A relaxed small group of ‘scrabblers’ who meet in a member’s home. \nContact Michelle the coordinator and come along for a taster session.
URL:https://dev.u3acostabrava.org/event/saturday-scrabblers-7/2029-04-21/
LOCATION:Carrer Acàcies\, 9\, 17257 Torroella de Montgrí\, Girona\, Spain\, Carrer Acàcies\, 9\, 17257 Girona\, Spain\, Torroella de Montgri\, Girona\, 17257\, Spain
CATEGORIES:Saturday Scrabblers
ATTACH;FMTTYPE=image/jpeg:https://dev.u3acostabrava.org/wp-content/uploads/2025/01/Scrabble-1.jpg
ORGANIZER;CN="Michelle Brown":MAILTO:michenbencostabrava@gmail.com
END:VEVENT
BEGIN:VEVENT
DTSTART;TZID=Europe/Madrid:20290428T143000
DTEND;TZID=Europe/Madrid:20290428T170000
DTSTAMP:20260424T131348
CREATED:20250103T231941Z
LAST-MODIFIED:20250827T132516Z
UID:10007126-1872081000-1872090000@dev.u3acostabrava.org
SUMMARY:Saturday Scrabblers
DESCRIPTION:A relaxed small group of ‘scrabblers’ who meet in a member’s home. \nContact Michelle the coordinator and come along for a taster session.
URL:https://dev.u3acostabrava.org/event/saturday-scrabblers-7/2029-04-28/
LOCATION:Carrer Acàcies\, 9\, 17257 Torroella de Montgrí\, Girona\, Spain\, Carrer Acàcies\, 9\, 17257 Girona\, Spain\, Torroella de Montgri\, Girona\, 17257\, Spain
CATEGORIES:Saturday Scrabblers
ATTACH;FMTTYPE=image/jpeg:https://dev.u3acostabrava.org/wp-content/uploads/2025/01/Scrabble-1.jpg
ORGANIZER;CN="Michelle Brown":MAILTO:michenbencostabrava@gmail.com
END:VEVENT
BEGIN:VEVENT
DTSTART;TZID=Europe/Madrid:20290505T143000
DTEND;TZID=Europe/Madrid:20290505T170000
DTSTAMP:20260424T131348
CREATED:20250103T231941Z
LAST-MODIFIED:20250827T132516Z
UID:10007127-1872685800-1872694800@dev.u3acostabrava.org
SUMMARY:Saturday Scrabblers
DESCRIPTION:A relaxed small group of ‘scrabblers’ who meet in a member’s home. \nContact Michelle the coordinator and come along for a taster session.
URL:https://dev.u3acostabrava.org/event/saturday-scrabblers-7/2029-05-05/
LOCATION:Carrer Acàcies\, 9\, 17257 Torroella de Montgrí\, Girona\, Spain\, Carrer Acàcies\, 9\, 17257 Girona\, Spain\, Torroella de Montgri\, Girona\, 17257\, Spain
CATEGORIES:Saturday Scrabblers
ATTACH;FMTTYPE=image/jpeg:https://dev.u3acostabrava.org/wp-content/uploads/2025/01/Scrabble-1.jpg
ORGANIZER;CN="Michelle Brown":MAILTO:michenbencostabrava@gmail.com
END:VEVENT
BEGIN:VEVENT
DTSTART;TZID=Europe/Madrid:20290512T143000
DTEND;TZID=Europe/Madrid:20290512T170000
DTSTAMP:20260424T131348
CREATED:20250103T231941Z
LAST-MODIFIED:20250827T132516Z
UID:10007128-1873290600-1873299600@dev.u3acostabrava.org
SUMMARY:Saturday Scrabblers
DESCRIPTION:A relaxed small group of ‘scrabblers’ who meet in a member’s home. \nContact Michelle the coordinator and come along for a taster session.
URL:https://dev.u3acostabrava.org/event/saturday-scrabblers-7/2029-05-12/
LOCATION:Carrer Acàcies\, 9\, 17257 Torroella de Montgrí\, Girona\, Spain\, Carrer Acàcies\, 9\, 17257 Girona\, Spain\, Torroella de Montgri\, Girona\, 17257\, Spain
CATEGORIES:Saturday Scrabblers
ATTACH;FMTTYPE=image/jpeg:https://dev.u3acostabrava.org/wp-content/uploads/2025/01/Scrabble-1.jpg
ORGANIZER;CN="Michelle Brown":MAILTO:michenbencostabrava@gmail.com
END:VEVENT
BEGIN:VEVENT
DTSTART;TZID=Europe/Madrid:20290519T143000
DTEND;TZID=Europe/Madrid:20290519T170000
DTSTAMP:20260424T131348
CREATED:20250103T231941Z
LAST-MODIFIED:20250827T132516Z
UID:10007129-1873895400-1873904400@dev.u3acostabrava.org
SUMMARY:Saturday Scrabblers
DESCRIPTION:A relaxed small group of ‘scrabblers’ who meet in a member’s home. \nContact Michelle the coordinator and come along for a taster session.
URL:https://dev.u3acostabrava.org/event/saturday-scrabblers-7/2029-05-19/
LOCATION:Carrer Acàcies\, 9\, 17257 Torroella de Montgrí\, Girona\, Spain\, Carrer Acàcies\, 9\, 17257 Girona\, Spain\, Torroella de Montgri\, Girona\, 17257\, Spain
CATEGORIES:Saturday Scrabblers
ATTACH;FMTTYPE=image/jpeg:https://dev.u3acostabrava.org/wp-content/uploads/2025/01/Scrabble-1.jpg
ORGANIZER;CN="Michelle Brown":MAILTO:michenbencostabrava@gmail.com
END:VEVENT
BEGIN:VEVENT
DTSTART;TZID=Europe/Madrid:20290526T143000
DTEND;TZID=Europe/Madrid:20290526T170000
DTSTAMP:20260424T131348
CREATED:20250103T231941Z
LAST-MODIFIED:20250827T132516Z
UID:10007130-1874500200-1874509200@dev.u3acostabrava.org
SUMMARY:Saturday Scrabblers
DESCRIPTION:A relaxed small group of ‘scrabblers’ who meet in a member’s home. \nContact Michelle the coordinator and come along for a taster session.
URL:https://dev.u3acostabrava.org/event/saturday-scrabblers-7/2029-05-26/
LOCATION:Carrer Acàcies\, 9\, 17257 Torroella de Montgrí\, Girona\, Spain\, Carrer Acàcies\, 9\, 17257 Girona\, Spain\, Torroella de Montgri\, Girona\, 17257\, Spain
CATEGORIES:Saturday Scrabblers
ATTACH;FMTTYPE=image/jpeg:https://dev.u3acostabrava.org/wp-content/uploads/2025/01/Scrabble-1.jpg
ORGANIZER;CN="Michelle Brown":MAILTO:michenbencostabrava@gmail.com
END:VEVENT
END:VCALENDAR